Уважаемые друзья и участники проекта iXBT.photo! К сожалению, 1 марта 2026 года проект iXBT.photo прекратит свою работу и будет закрыт. Мы высоко ценим ваше участие и тот вклад, который вы внесли в развитие нашего сообщества. Пожалуйста, не забудьте сохранить ваши фотографии до этой даты.
С уважением, команда iXBT.com
| 19 SAM_4265.jpg |
19 SAM_4265.jpg
- Раздел: Тесты фототехники
- Дата съёмки: 27.04.2011 13:21
- Дата загрузки фото: 29.04.2011 17:44
- Оригинальная фотография: 3648 x 2432 (9,9 Мб)
- Технические характеристики:
- Фотоаппарат: Samsung WB2000
- Выдержка: 1/350
- Гиперфокальное расстояние: inf m
- Диафрагма: 5,5
- Светочувствительность: 80
- Фокусное расстояние: 5,0 mm (35 mm equivalent: 25,0 mm)
- Экспокоррекция: -1
- Полный EXIF
- Composite
- Aperture: 5,5
- CircleOfConfusion: 0,005 mm
- FOV: 71,0 deg
- FocalLength35efl: 5,0 mm (35 mm equivalent: 25,0 mm)
- HyperfocalDistance: inf m
- ScaleFactor35efl: 5,6
- ShutterSpeed: 1/350
- ExifIFD
- ApertureValue: 5,5
- Contrast: Low
- CreateDate: 2011:04:27 13:21:46
- DateTimeOriginal: 2011:04:27 13:21:46
- DigitalZoomRatio: 1
- ExifImageHeight: 2432
- ExifImageWidth: 3648
- ExposureCompensation: -1
- ExposureMode: Unknown (3)
- ExposureProgram: Aperture-priority AE
- ExposureTime: 1/350
- FNumber: 5,5
- Flash: No Flash
- FocalLength: 5,0 mm
- FocalLengthIn35mmFormat: 28 mm
- ISO: 80
- LightSource: Unknown
- MeteringMode: Multi-segment
- Saturation: High
- SceneCaptureType: Standard
- Sharpness: Normal
- ShutterSpeedValue: 1/350
- WhiteBalance: Auto
- ICC-header
- ICC-meas
- ICC-view
- IFD0
- Make: SAMSUNG
- Model: WB2000
- ModifyDate: 2011:04:29 16:08:08
- Orientation: Horizontal (normal)
- Software: ACD Systems Digital Imaging
- IFD1
- IPTC
- DateCreated: 2011:04:27
- System
- XMP-aux
- Firmware: FM1_008261
- Lens: Schneider KREUZNACH 5x VARIOPLAN 4.3-21.5mm 1:2.4-5.8 IS
- LensInfo: 4.3-21.5mm f/2.4-5.8
- SerialNumber: DY049P000000
- XMP-crs
- AlreadyApplied: True
- BlueHue: +10
- BlueSaturation: -10
- Brightness: +50
- ChromaticAberrationB: 0
- ChromaticAberrationR: 0
- Clarity: +10
- ColorNoiseReduction: 25
- ColorNoiseReductionDetail: 50
- Contrast: +25
- ConvertToGrayscale: False
- Defringe: 0
- Exposure: -0.69
- FillLight: 41
- GrainAmount: 0
- GreenHue: -10
- GreenSaturation: +10
- HasCrop: False
- HasSettings: True
- HighlightRecovery: 9
- HueAdjustmentAqua: 0
- HueAdjustmentBlue: 0
- HueAdjustmentGreen: 0
- HueAdjustmentMagenta: 0
- HueAdjustmentOrange: 0
- HueAdjustmentPurple: 0
- HueAdjustmentRed: 0
- HueAdjustmentYellow: 0
- LensManualDistortionAmount: 0
- LensProfileEnable: 0
- LensProfileSetup: LensDefaults
- LuminanceAdjustmentAqua: 0
- LuminanceAdjustmentBlue: 0
- LuminanceAdjustmentGreen: 0
- LuminanceAdjustmentMagenta: 0
- LuminanceAdjustmentOrange: 0
- LuminanceAdjustmentPurple: 0
- LuminanceAdjustmentRed: 0
- LuminanceAdjustmentYellow: 0
- LuminanceNoiseReductionContrast: 0
- LuminanceNoiseReductionDetail: 100
- LuminanceSmoothing: 10
- ParametricDarks: 0
- ParametricHighlightSplit: 75
- ParametricHighlights: 0
- ParametricLights: 0
- ParametricMidtoneSplit: 50
- ParametricShadowSplit: 25
- ParametricShadows: 0
- PerspectiveHorizontal: 0
- PerspectiveRotate: 0.0
- PerspectiveScale: 100
- PerspectiveVertical: 0
- PostCropVignetteAmount: 0
- ProcessVersion: 5.7
- RedHue: 0
- RedSaturation: 0
- Saturation: +3
- SaturationAdjustmentAqua: 0
- SaturationAdjustmentBlue: 0
- SaturationAdjustmentGreen: 0
- SaturationAdjustmentMagenta: 0
- SaturationAdjustmentOrange: 0
- SaturationAdjustmentPurple: 0
- SaturationAdjustmentRed: 0
- SaturationAdjustmentYellow: 0
- ShadowTint: 0
- Shadows: 0
- SharpenDetail: 10
- SharpenEdgeMasking: 0
- SharpenRadius: +0.8
- Sharpness: 60
- SplitToningBalance: 0
- SplitToningHighlightHue: 0
- SplitToningHighlightSaturation: 0
- SplitToningShadowHue: 0
- SplitToningShadowSaturation: 0
- Temperature: 5950
- Tint: +16
- ToneCurve: 0, 0, 32, 22, 64, 56, 128, 128, 192, 196, 255, 255
- ToneCurveName: Medium Contrast
- Version: 6.4
- Vibrance: +10
- VignetteAmount: 0
- WhiteBalance: As Shot
- XMP-exif
- DateTimeDigitized: 2011:04:27 13:21:46+2:00
- DateTimeOriginal: 2011:04:27 13:21:46+2:00
- FlashFired: False
- FlashFunction: False
- FlashMode: Unknown
- FlashRedEyeMode: False
- FlashReturn: No return detection
- FocalLengthIn35mmFormat: 28
- XMP-tiff
- XMP-x
- XMP-xmp
- CreateDate: 2011:04:27 13:21:46+03:00
- ModifyDate: 2011:04:29 09:11:11+03:00
- Просмотров: 359
- Рейтинг: голосов еще нет
- Отзывов: 0
Получить код для блога
| Вставка фотографии в текущем разрешении |
Вставка миниатюры |
HTML (для вставки в блог):
BBCode (для вставки в форум):
Ссылка на фото:
Ссылка на миниатюру:
- Послать ссылку другу
| Комментарии к фотографии |