- Раздел: Цветы
- Дата съёмки: 05.03.2011 19:00
- Дата загрузки фото: 04.05.2011 20:25
- Оригинальная фотография: 2500 x 1667 (2,7 Мб)
- Технические характеристики:
- Фотоаппарат: Canon EOS 450D
- Выдержка: 1/180
- Гиперфокальное расстояние: inf m
- Диафрагма: 8,0
- Светочувствительность: 100
- Фокусное расстояние: 60,0 mm (35 mm equivalent: 120,0 mm)
- Полный EXIF
- Adobe
- ColorTransform: YCbCr
- Composite
- Aperture: 8,0
- CircleOfConfusion: 0,011 mm
- FOV: 17,0 deg
- FocalLength35efl: 60,0 mm (35 mm equivalent: 120,0 mm)
- HyperfocalDistance: inf m
- ScaleFactor35efl: 2,8
- ShutterSpeed: 1/180
- ExifIFD
- ApertureValue: 8,0
- ColorSpace: sRGB
- CreateDate: 2011:03:05 19:00:55
- CustomRendered: Normal
- DateTimeOriginal: 2011:03:05 19:00:55
- ExifImageHeight: 1667
- ExifImageWidth: 2500
- ExposureCompensation: 0
- ExposureMode: Manual
- ExposureProgram: Manual
- ExposureTime: 1/180
- FNumber: 8,0
- Flash: Off, Did not fire
- FocalLength: 60,0 mm
- ISO: 100
- MaxApertureValue: 2,0
- MeteringMode: Partial
- SceneCaptureType: Standard
- ShutterSpeedValue: 1/180
- SubjectDistance: 0,24 m
- WhiteBalance: Manual
- ICC-header
- ICC-meas
- ICC-view
- IFD0
- Artist: Дмитрий_З
- Make: Canon
- Model: Canon EOS 450D
- ModifyDate: 2011:05:04 19:44:11
- Orientation: Horizontal (normal)
- IFD1
- IPTC
- By-line: Дмитрий_З
- DateCreated: 2011:03:05
- System
- XMP-aux
- Firmware: 1.0.4
- FlashCompensation: 0
- ImageNumber: 0
- Lens: 60mm
- LensID: 37
- LensInfo: 60mm f/?
- OwnerName: Дмитрий_З
- SerialNumber: 530198574
- XMP-crs
- AlreadyApplied: True
- BlueHue: 0
- BlueSaturation: 0
- Brightness: +70
- ChromaticAberrationB: 0
- ChromaticAberrationR: 0
- Clarity: 0
- ColorNoiseReduction: 25
- ColorNoiseReductionDetail: 50
- Contrast: +25
- ConvertToGrayscale: False
- Defringe: 0
- Exposure: +0.50
- FillLight: 6
- GrainAmount: 0
- GreenHue: 0
- GreenSaturation: 0
- HasCrop: False
- HasSettings: True
- HighlightRecovery: 23
- HueAdjustmentAqua: 0
- HueAdjustmentBlue: 0
- HueAdjustmentGreen: 0
- HueAdjustmentMagenta: 0
- HueAdjustmentOrange: 0
- HueAdjustmentPurple: 0
- HueAdjustmentRed: 0
- HueAdjustmentYellow: 0
- LuminanceAdjustmentAqua: 0
- LuminanceAdjustmentBlue: 0
- LuminanceAdjustmentGreen: 0
- LuminanceAdjustmentMagenta: 0
- LuminanceAdjustmentOrange: 0
- LuminanceAdjustmentPurple: 0
- LuminanceAdjustmentRed: 0
- LuminanceAdjustmentYellow: 0
- LuminanceSmoothing: 0
- ParametricDarks: 0
- ParametricHighlightSplit: 75
- ParametricHighlights: -31
- ParametricLights: +15
- ParametricMidtoneSplit: 50
- ParametricShadowSplit: 25
- ParametricShadows: -18
- PostCropVignetteAmount: 0
- ProcessVersion: 5.7
- RawFileName: _MG_8897.CR2
- RedHue: 0
- RedSaturation: 0
- Saturation: 0
- SaturationAdjustmentAqua: 0
- SaturationAdjustmentBlue: 0
- SaturationAdjustmentGreen: 0
- SaturationAdjustmentMagenta: 0
- SaturationAdjustmentOrange: 0
- SaturationAdjustmentPurple: 0
- SaturationAdjustmentRed: 0
- SaturationAdjustmentYellow: 0
- ShadowTint: 0
- Shadows: 5
- SharpenDetail: 25
- SharpenEdgeMasking: 0
- SharpenRadius: +1.0
- Sharpness: 25
- SplitToningBalance: 0
- SplitToningHighlightHue: 0
- SplitToningHighlightSaturation: 0
- SplitToningShadowHue: 0
- SplitToningShadowSaturation: 0
- Temperature: 5900
- Tint: +5
- ToneCurve: 0, 0, 32, 22, 64, 56, 128, 128, 192, 196, 255, 255
- ToneCurveName: Medium Contrast
- Version: 6.0
- Vibrance: 0
- VignetteAmount: 0
- WhiteBalance: As Shot
- XMP-dc
- Creator: Дмитрий_З
- Format: image/jpeg
- XMP-xmp
- CreateDate: 2011:03:05 19:00:55.02+03:00
- ModifyDate: 2011:05:04 19:44:11+04:00
- Rating: 0
- XMP-xmpMM