- Раздел: Тесты фототехники
- Дата съёмки: 03.05.2011 10:20
- Дата загрузки фото: 04.05.2011 20:33
- Оригинальная фотография: 3648 x 2432 (4,7 Мб)
- Технические характеристики:
- Фотоаппарат: Samsung WB2000
- Выдержка: 1/2000
- Гиперфокальное расстояние: inf m
- Диафрагма: 3,8
- Светочувствительность: 200
- Фокусное расстояние: 6,0 mm (35 mm equivalent: 30,0 mm)
- Экспокоррекция: -0,7
- Полный EXIF
- Adobe
- ColorTransform: YCbCr
- Composite
- Aperture: 3,8
- CircleOfConfusion: 0,005 mm
- FOV: 61,0 deg
- FocalLength35efl: 6,0 mm (35 mm equivalent: 30,0 mm)
- HyperfocalDistance: inf m
- ScaleFactor35efl: 5,8
- ShutterSpeed: 1/2000
- ExifIFD
- ApertureValue: 3,8
- Contrast: Low
- DateTimeOriginal: 2011:05:03 10:20:37
- DigitalZoomRatio: 1
- ExposureCompensation: -0,7
- ExposureMode: Unknown (3)
- ExposureProgram: Aperture-priority AE
- ExposureTime: 1/2000
- FNumber: 3,8
- Flash: No Flash
- FocalLength: 6,3 mm
- FocalLengthIn35mmFormat: 35 mm
- ISO: 200
- LensInfo: 4.3-21.5mm f/2.4-5.8
- LensModel: Schneider KREUZNACH 5x VARIOPLAN 4.3-21.5mm 1:2.4-5.8 IS
- LightSource: Unknown
- MeteringMode: Multi-segment
- Saturation: High
- SceneCaptureType: Standard
- SerialNumber: DY049P000000
- Sharpness: Normal
- ShutterSpeedValue: 1/2000
- WhiteBalance: Auto
- ICC-header
- ICC-meas
- ICC-view
- IFD0
- Make: SAMSUNG
- Model: WB2000
- ModifyDate: 2011:05:04 13:46:08
- IFD1
- IPTC
- DateCreated: 2011:05:03
- System
- XMP-aux
- Firmware: FM1_008261
- Lens: Schneider KREUZNACH 5x VARIOPLAN 4.3-21.5mm 1:2.4-5.8 IS
- XMP-crs
- AlreadyApplied: True
- BlueHue: +10
- BlueSaturation: -10
- Brightness: +50
- ChromaticAberrationB: 0
- ChromaticAberrationR: 0
- Clarity: +10
- ColorNoiseReduction: 25
- ColorNoiseReductionDetail: 50
- Contrast: +25
- ConvertToGrayscale: False
- Defringe: 0
- Exposure: -0.23
- FillLight: 7
- GrainAmount: 0
- GreenHue: -10
- GreenSaturation: +10
- HasCrop: False
- HasSettings: True
- HighlightRecovery: 16
- HueAdjustmentAqua: 0
- HueAdjustmentBlue: 0
- HueAdjustmentGreen: 0
- HueAdjustmentMagenta: 0
- HueAdjustmentOrange: 0
- HueAdjustmentPurple: 0
- HueAdjustmentRed: 0
- HueAdjustmentYellow: 0
- LensManualDistortionAmount: 0
- LensProfileEnable: 0
- LensProfileSetup: LensDefaults
- LuminanceAdjustmentAqua: 0
- LuminanceAdjustmentBlue: 0
- LuminanceAdjustmentGreen: 0
- LuminanceAdjustmentMagenta: 0
- LuminanceAdjustmentOrange: 0
- LuminanceAdjustmentPurple: 0
- LuminanceAdjustmentRed: 0
- LuminanceAdjustmentYellow: 0
- LuminanceNoiseReductionContrast: 0
- LuminanceNoiseReductionDetail: 49
- LuminanceSmoothing: 25
- ParametricDarks: 0
- ParametricHighlightSplit: 75
- ParametricHighlights: 0
- ParametricLights: 0
- ParametricMidtoneSplit: 50
- ParametricShadowSplit: 25
- ParametricShadows: 0
- PerspectiveHorizontal: 0
- PerspectiveRotate: 0.0
- PerspectiveScale: 100
- PerspectiveVertical: 0
- PostCropVignetteAmount: 0
- ProcessVersion: 5.7
- RedHue: 0
- RedSaturation: 0
- Saturation: +3
- SaturationAdjustmentAqua: 0
- SaturationAdjustmentBlue: 0
- SaturationAdjustmentGreen: 0
- SaturationAdjustmentMagenta: 0
- SaturationAdjustmentOrange: 0
- SaturationAdjustmentPurple: 0
- SaturationAdjustmentRed: 0
- SaturationAdjustmentYellow: 0
- ShadowTint: 0
- Shadows: 0
- SharpenDetail: 10
- SharpenEdgeMasking: 10
- SharpenRadius: +0.8
- Sharpness: 40
- SplitToningBalance: 0
- SplitToningHighlightHue: 0
- SplitToningHighlightSaturation: 0
- SplitToningShadowHue: 0
- SplitToningShadowSaturation: 0
- Temperature: 4874
- Tint: 0
- ToneCurve: 0, 0, 32, 22, 64, 56, 128, 128, 192, 196, 255, 255
- ToneCurveName: Medium Contrast
- Version: 6.4
- Vibrance: +6
- VignetteAmount: 0
- WhiteBalance: Custom
- XMP-xmp
- ModifyDate: 2011:05:04 13:46:08+03:00
- Просмотров: 672
- Рейтинг: голосов еще нет
- Отзывов: 0