Уважаемые друзья и участники проекта iXBT.photo! К сожалению, 1 марта 2026 года проект iXBT.photo прекратит свою работу и будет закрыт. Мы высоко ценим ваше участие и тот вклад, который вы внесли в развитие нашего сообщества. Пожалуйста, не забудьте сохранить ваши фотографии до этой даты.
С уважением, команда iXBT.com
| DSC_15601.jpg |
DSC_15601.jpg
- Раздел: Семья, личное
- Дата съёмки: 07.05.2011 14:49
- Дата загрузки фото: 11.05.2011 08:16
- Оригинальная фотография: 4288 x 2848 (3,7 Мб)
- Технические характеристики:
- Фотоаппарат: Nikon D90
- Выдержка: 1/640
- Гиперфокальное расстояние: inf m
- Диафрагма: 2,5
- Светочувствительность: 200
- Фокусное расстояние: 50,0 mm (35 mm equivalent: 50,0 mm)
- Полный EXIF
- Adobe
- ColorTransform: YCbCr
- Composite
- Aperture: 2,5
- CircleOfConfusion: 0,020 mm
- DOF: inf (0,00 m - inf)
- FOV: 39,0 deg
- FocalLength35efl: 50,0 mm (35 mm equivalent: 50,0 mm)
- HyperfocalDistance: inf m
- ScaleFactor35efl: 1,5
- ShutterSpeed: 1/640
- ExifIFD
- ApertureValue: 2,5
- CFAPattern: [Green,Blue][Red,Green]
- ColorSpace: Uncalibrated
- Contrast: Normal
- CreateDate: 2011:05:07 14:49:50
- CustomRendered: Normal
- DateTimeOriginal: 2011:05:07 14:49:50
- DigitalZoomRatio: 1
- ExifImageHeight: 2848
- ExifImageWidth: 4288
- ExposureCompensation: 0
- ExposureMode: Auto
- ExposureProgram: Aperture-priority AE
- ExposureTime: 1/640
- FNumber: 2,5
- Flash: No Flash
- FocalLength: 50,0 mm
- FocalLengthIn35mmFormat: 75 mm
- GainControl: None
- ISO: 200
- LightSource: Unknown
- MaxApertureValue: 1,7
- MeteringMode: Spot
- Saturation: Normal
- SceneCaptureType: Portrait
- SceneType: Directly photographed
- SensingMethod: One-chip color area
- Sharpness: Normal
- ShutterSpeedValue: 1/640
- SubjectDistance: 1,78 m
- SubjectDistanceRange: Unknown
- WhiteBalance: Auto
- ICC-header
- IFD0
- BitsPerSample: 8 8 8
- ImageHeight: 2848
- ImageWidth: 4288
- Make: NIKON CORPORATION
- Model: NIKON D90
- ModifyDate: 2011:05:11 11:15:41
- Orientation: Horizontal (normal)
- PhotometricInterpretation: RGB
- SamplesPerPixel: 3
- IFD1
- IPTC
- DateCreated: 2011:05:07
- System
- XMP-aux
- ImageNumber: 1824
- Lens: 50.0 mm f/1.8
- LensID: 118
- LensInfo: 50mm f/1.8
- SerialNumber: 2278505
- XMP-crs
- AlreadyApplied: True
- BlueHue: 0
- BlueSaturation: 0
- Brightness: -4
- ChromaticAberrationB: 0
- ChromaticAberrationR: 0
- Clarity: -5
- ColorNoiseReduction: 25
- Contrast: +29
- ConvertToGrayscale: False
- Defringe: 0
- Exposure: +1.35
- FillLight: 35
- GrainAmount: 0
- GreenHue: 0
- GreenSaturation: 0
- HasCrop: False
- HasSettings: True
- HighlightRecovery: 31
- HueAdjustmentAqua: 0
- HueAdjustmentBlue: 0
- HueAdjustmentGreen: 0
- HueAdjustmentMagenta: 0
- HueAdjustmentOrange: 0
- HueAdjustmentPurple: 0
- HueAdjustmentRed: 0
- HueAdjustmentYellow: 0
- LuminanceAdjustmentAqua: 0
- LuminanceAdjustmentBlue: 0
- LuminanceAdjustmentGreen: 0
- LuminanceAdjustmentMagenta: 0
- LuminanceAdjustmentOrange: 0
- LuminanceAdjustmentPurple: 0
- LuminanceAdjustmentRed: 0
- LuminanceAdjustmentYellow: 0
- LuminanceSmoothing: 67
- ParametricDarks: 0
- ParametricHighlightSplit: 75
- ParametricHighlights: 0
- ParametricLights: 0
- ParametricMidtoneSplit: 50
- ParametricShadowSplit: 25
- ParametricShadows: 0
- PostCropVignetteAmount: +5
- PostCropVignetteFeather: 50
- PostCropVignetteMidpoint: 50
- PostCropVignetteRoundness: 0
- PostCropVignetteStyle: 2
- ProcessVersion: 5.0
- RawFileName: DSC_1560.NEF
- RedHue: 0
- RedSaturation: 0
- Saturation: -51
- SaturationAdjustmentAqua: 0
- SaturationAdjustmentBlue: 0
- SaturationAdjustmentGreen: 0
- SaturationAdjustmentMagenta: 0
- SaturationAdjustmentOrange: 0
- SaturationAdjustmentPurple: 0
- SaturationAdjustmentRed: 0
- SaturationAdjustmentYellow: 0
- ShadowTint: 0
- Shadows: 64
- SharpenDetail: 59
- SharpenEdgeMasking: 46
- SharpenRadius: +2.0
- Sharpness: 0
- SplitToningBalance: +98
- SplitToningHighlightHue: 53
- SplitToningHighlightSaturation: 50
- SplitToningShadowHue: 225
- SplitToningShadowSaturation: 100
- Temperature: 4900
- Tint: 0
- ToneCurve: 0, 0, 32, 22, 64, 56, 128, 128, 192, 196, 255, 255
- ToneCurveName: Medium Contrast
- Version: 5.7
- Vibrance: +36
- VignetteAmount: -19
- VignetteMidpoint: 50
- WhiteBalance: Custom
- XMP-dc
- XMP-xmp
- CreateDate: 2011:05:07 14:49:50.00+07:00
- ModifyDate: 2011:05:11 11:15:41+07:00
- Rating: 0
- XMP-xmpMM
Получить код для блога
| Вставка фотографии в текущем разрешении |
Вставка миниатюры |
HTML (для вставки в блог):
BBCode (для вставки в форум):
Ссылка на фото:
Ссылка на миниатюру:
- Послать ссылку другу
| Комментарии к фотографии |