- Раздел: Макро
- Дата съёмки: 11.05.2011 02:35
- Дата загрузки фото: 12.05.2011 00:39
- Оригинальная фотография: 800 x 533 (130 Кб)
- Технические характеристики:
- Фотоаппарат: Nikon D3100
- Выдержка: 1/2000
- Гиперфокальное расстояние: inf m
- Диафрагма: 2,8
- Светочувствительность: 200
- Фокусное расстояние: 45,0 mm (35 mm equivalent: 45,0 mm)
- Полный EXIF
- Composite
- Aperture: 2,8
- CircleOfConfusion: 0,020 mm
- FOV: 43,0 deg
- FocalLength35efl: 45,0 mm (35 mm equivalent: 45,0 mm)
- HyperfocalDistance: inf m
- ScaleFactor35efl: 1,5
- ShutterSpeed: 1/2000
- ExifIFD
- ApertureValue: 2,8
- CFAPattern: [Green,Blue][Red,Green]
- Contrast: Normal
- CreateDate: 2011:05:11 02:35:36
- CustomRendered: Normal
- DateTimeOriginal: 2011:05:11 02:35:36
- DigitalZoomRatio: 1
- ExifImageHeight: 533
- ExifImageWidth: 800
- ExposureCompensation: 0
- ExposureMode: Auto
- ExposureProgram: Aperture-priority AE
- ExposureTime: 1/2000
- FNumber: 2,8
- Flash: No Flash
- FocalLength: 45,0 mm
- FocalLengthIn35mmFormat: 67 mm
- GainControl: None
- ISO: 200
- LightSource: Unknown
- MaxApertureValue: 2,8
- MeteringMode: Multi-segment
- Saturation: Normal
- SceneCaptureType: Standard
- SceneType: Directly photographed
- SensingMethod: One-chip color area
- Sharpness: Hard
- ShutterSpeedValue: 1/2000
- SubjectDistance: 0,45 m
- SubjectDistanceRange: Unknown
- WhiteBalance: Auto
- ICC-header
- ICC-meas
- ICC-view
- IFD0
- Make: NIKON CORPORATION
- Model: NIKON D3100
- ModifyDate: 2011:05:12 00:24:08
- Orientation: Horizontal (normal)
- Software: ACD Systems Digital Imaging
- IFD1
- IPTC
- DateCreated: 2011:05:11
- System
- XMP-aux
- ApproximateFocusDistance: 0,45
- ImageNumber: 2235
- Lens: 45.0 mm f/2.8
- LensID: 160
- LensInfo: 45mm f/2.8
- SerialNumber: 6034988
- XMP-crs
- AlreadyApplied: True
- BlueHue: 0
- BlueSaturation: +63
- Brightness: +57
- CameraProfile: Embedded
- ChromaticAberrationB: 0
- ChromaticAberrationR: 0
- Clarity: 0
- ColorNoiseReduction: 34
- ColorNoiseReductionDetail: 50
- Contrast: 0
- ConvertToGrayscale: True
- Defringe: 0
- Exposure: +0.09
- FillLight: 0
- GrainAmount: 0
- GrayMixerAqua: -22
- GrayMixerBlue: +1
- GrayMixerGreen: -23
- GrayMixerMagenta: +9
- GrayMixerOrange: -10
- GrayMixerPurple: +13
- GrayMixerRed: +1
- GrayMixerYellow: -15
- GreenHue: 0
- GreenSaturation: 0
- HasCrop: False
- HasSettings: True
- HighlightRecovery: 79
- IncrementalTemperature: +23
- IncrementalTint: +49
- LensManualDistortionAmount: 0
- LensProfileEnable: 0
- LensProfileSetup: LensDefaults
- LuminanceSmoothing: 0
- ParametricDarks: -2
- ParametricHighlightSplit: 75
- ParametricHighlights: 0
- ParametricLights: +2
- ParametricMidtoneSplit: 50
- ParametricShadowSplit: 25
- ParametricShadows: -20
- PerspectiveHorizontal: 0
- PerspectiveRotate: 0.0
- PerspectiveScale: 100
- PerspectiveVertical: 0
- PostCropVignetteAmount: -9
- PostCropVignetteFeather: 67
- PostCropVignetteHighlightContrast: 0
- PostCropVignetteMidpoint: 50
- PostCropVignetteRoundness: +49
- PostCropVignetteStyle: 1
- ProcessVersion: 5.7
- RedHue: 0
- RedSaturation: -34
- ShadowTint: 0
- Shadows: 5
- SharpenDetail: 58
- SharpenEdgeMasking: 0
- SharpenRadius: +1.3
- Sharpness: 38
- SplitToningBalance: 0
- SplitToningHighlightHue: 50
- SplitToningHighlightSaturation: 66
- SplitToningShadowHue: 30
- SplitToningShadowSaturation: 28
- ToneCurve: 0, 0, 255, 255
- ToneCurveName: Linear
- Version: 6.4
- VignetteAmount: -41
- VignetteMidpoint: 48
- WhiteBalance: Custom
- XMP-exif
- DateTimeDigitized: 2011:05:11 02:35:36.20+3:00
- DateTimeOriginal: 2011:05:11 02:35:36.20+3:00
- FlashFired: False
- FlashFunction: False
- FlashMode: Unknown
- FlashRedEyeMode: False
- FlashReturn: No return detection
- FocalLengthIn35mmFormat: 67
- XMP-tiff
- XMP-x
- XMP-xmp
- CreateDate: 2011:05:11 02:35:36.20
- ModifyDate: 2011:05:11 18:22:05.0+3:00
- Просмотров: 1042
- Рейтинг: голосов еще нет
- Отзывов: 0