- Раздел: Семья, личное
- Дата съёмки: 03.10.2009 12:26
- Дата загрузки фото: 12.05.2011 09:42
- Оригинальная фотография: 3008 x 2000 (1,8 Мб)
- Технические характеристики:
- Фотоаппарат: Nikon D50
- Выдержка: 1/60
- Гиперфокальное расстояние: inf m
- Диафрагма: 4,2
- Светочувствительность: 400
- Фокусное расстояние: 110,0 mm (35 mm equivalent: 110,0 mm)
- Полный EXIF
- Composite
- Aperture: 4,2
- BlueBalance: 1,554688
- CircleOfConfusion: 0,020 mm
- DOF: inf (0,00 m - inf)
- FOV: 17,0 deg (0,00 m)
- FocalLength35efl: 110,0 mm (35 mm equivalent: 110,0 mm)
- HyperfocalDistance: inf m
- LensID: Sigma 70-300mm F4-5.6 APO Macro Super II
- LensSpec: 70-300mm f/4-5.6 D
- RedBalance: 2,144531
- ScaleFactor35efl: 1,5
- ShutterSpeed: 1/60
- ExifIFD
- ApertureValue: 4,2
- CFAPattern: [Blue,Green][Green,Red]
- Contrast: Low
- CreateDate: 2009:10:03 12:26:51
- CustomRendered: Normal
- DateTimeOriginal: 2009:10:03 12:26:51
- DigitalZoomRatio: 1
- ExifImageHeight: 2000
- ExifImageWidth: 3008
- ExposureCompensation: 0
- ExposureMode: Auto
- ExposureProgram: Not Defined
- ExposureTime: 1/60
- FNumber: 4,2
- Flash: Auto, Fired, Return detected
- FocalLength: 110,0 mm
- FocalLengthIn35mmFormat: 165 mm
- GainControl: None
- ISO: 400
- LightSource: Unknown
- MaxApertureValue: 4,0
- MeteringMode: Multi-segment
- Saturation: Normal
- SceneCaptureType: Portrait
- SceneType: Directly photographed
- SensingMethod: One-chip color area
- Sharpness: Soft
- ShutterSpeedValue: 1/60
- SubjectDistance: 3,16 m
- SubjectDistanceRange: Unknown
- UserComment: CROW_30
- WhiteBalance: Auto
- ICC-header
- ICC-meas
- ICC-view
- IFD0
- Make: NIKON CORPORATION
- Model: NIKON D50
- ModifyDate: 2009:10:03 12:26:51
- Orientation: Horizontal (normal)
- ReferenceBlackWhite: 0 255 0 255 0 255
- Software: Ver.1.00
- IPTC
- DateCreated: 2009:10:03
- Nikon
- AFAperture: 4,1
- AFAreaMode: Dynamic Area
- AFPoint: Center
- AFPointsInFocus: Center
- ColorHue: Mode1a
- EffectiveMaxAperture: 4,1
- ExitPupilPosition: 81,9 mm
- ExposureBracketValue: 0
- ExposureDifference: -1,5
- ExternalFlashExposureComp: 0
- ExternalFlashFirmware: n/a
- ExternalFlashFlags: (none)
- FlashCommanderMode: Off
- FlashCompensation: 0
- FlashControlMode: Off
- FlashExposureBracketValue: 0,0
- FlashExposureComp: 0
- FlashGNDistance: 0
- FlashGroupACompensation: 0
- FlashGroupAControlMode: Off
- FlashGroupBCompensation: 0
- FlashGroupBControlMode: Off
- FlashInfoVersion: 0100
- FlashMode: Fired, TTL Mode
- FlashSetting: Normal
- FlashSource: None
- FlashType: Built-in,TTL
- FocalLength: 109,9 mm
- FocusDistance: 3,16 m
- FocusMode: AF-A
- FocusPosition: 0x11
- HueAdjustment: 0
- ISOSetting: 400
- ImageOptimization:
- Lens: 70-300mm f/4-5.6
- LensDataVersion: 0201
- LensFStops: 5,00
- LensIDNumber: 86
- LensType: D
- LightSource: Speedlight
- MCUVersion: 28
- MakerNoteVersion: 2.10
- MaxApertureAtMaxFocal: 5,7
- MaxApertureAtMinFocal: 4,0
- MaxFocalLength: 302,0 mm
- MinFocalLength: 71,3 mm
- NEFCompression: Lossy (type 1)
- NoiseReduction: Off
- ProgramShift: 0
- Quality: RAW
- RawImageCenter: 1520 1008
- SensorPixelSize: 7,8 x 7,8 um
- SerialNumber:
- Sharpness: Auto
- ShootingMode: Single-Frame, Auto ISO
- ShotInfoVersion: 0205
- ShutterCount: 10177
- ToneComp: Auto
- VariProgram: Portrait
- VibrationReduction: n/a
- WB_RGGBLevels: 549 256 256 398
- WhiteBalanceFineTune: 0
- PreviewIFD
- System
- XMP-aux
- ApproximateFocusDistance: 3,16
- ImageNumber: 10177
- Lens: 70.0-300.0 mm f/4.0-5.6
- LensID: 86
- LensInfo: 70-300mm f/4-5.6
- XMP-crs
- AlreadyApplied: False
- BlueHue: 0
- BlueSaturation: 0
- Brightness: -18
- CameraProfile: Embedded
- ChromaticAberrationB: 0
- ChromaticAberrationR: 0
- Clarity: +30
- ColorNoiseReduction: 25
- ColorNoiseReductionDetail: 50
- Contrast: +14
- ConvertToGrayscale: False
- Defringe: 0
- Exposure: +0.65
- FillLight: 33
- GrainAmount: 0
- GreenHue: 0
- GreenSaturation: 0
- HasCrop: False
- HasSettings: True
- HighlightRecovery: 33
- HueAdjustmentAqua: 0
- HueAdjustmentBlue: 0
- HueAdjustmentGreen: 0
- HueAdjustmentMagenta: 0
- HueAdjustmentOrange: 0
- HueAdjustmentPurple: 0
- HueAdjustmentRed: 0
- HueAdjustmentYellow: 0
- IncrementalTemperature: -13
- IncrementalTint: -14
- LensManualDistortionAmount: 0
- LensProfileEnable: 0
- LensProfileSetup: LensDefaults
- LuminanceAdjustmentAqua: 0
- LuminanceAdjustmentBlue: 0
- LuminanceAdjustmentGreen: 0
- LuminanceAdjustmentMagenta: 0
- LuminanceAdjustmentOrange: 0
- LuminanceAdjustmentPurple: 0
- LuminanceAdjustmentRed: 0
- LuminanceAdjustmentYellow: 0
- LuminanceNoiseReductionContrast: 0
- LuminanceNoiseReductionDetail: 50
- LuminanceSmoothing: 24
- ParametricDarks: 0
- ParametricHighlightSplit: 75
- ParametricHighlights: 0
- ParametricLights: 0
- ParametricMidtoneSplit: 50
- ParametricShadowSplit: 25
- ParametricShadows: 0
- PerspectiveHorizontal: 0
- PerspectiveRotate: 0.0
- PerspectiveScale: 100
- PerspectiveVertical: 0
- PostCropVignetteAmount: 0
- ProcessVersion: 5.7
- RawFileName: DSC_97931.jpg
- RedHue: 0
- RedSaturation: 0
- Saturation: 0
- SaturationAdjustmentAqua: 0
- SaturationAdjustmentBlue: 0
- SaturationAdjustmentGreen: 0
- SaturationAdjustmentMagenta: 0
- SaturationAdjustmentOrange: 0
- SaturationAdjustmentPurple: 0
- SaturationAdjustmentRed: 0
- SaturationAdjustmentYellow: 0
- ShadowTint: 0
- Shadows: 7
- SharpenDetail: 80
- SharpenEdgeMasking: 50
- SharpenRadius: +0.5
- Sharpness: 19
- SplitToningBalance: 0
- SplitToningHighlightHue: 0
- SplitToningHighlightSaturation: 0
- SplitToningShadowHue: 0
- SplitToningShadowSaturation: 0
- ToneCurve: 0, 0, 32, 22, 64, 56, 128, 128, 192, 196, 255, 255
- ToneCurveName: Medium Contrast
- Version: 6.4
- Vibrance: +7
- VignetteAmount: 0
- WhiteBalance: Custom
- XMP-dc
- XMP-xmp
- CreateDate: 2009:10:03 12:26:51.20
- CreatorTool: Ver.1.00
- ModifyDate: 2009:10:03 12:26:51.20
- Rating: 0
- XMP-xmpMM
- Просмотров: 1374
- Рейтинг: голосов еще нет
- Отзывов: 3