- Раздел: Макро
- Дата съёмки: 08.05.2011 18:05
- Дата загрузки фото: 12.05.2011 21:48
- Оригинальная фотография: 2500 x 1811 (3,0 Мб)
- Технические характеристики:
- Фотоаппарат: Canon EOS 450D
- Выдержка: 1/180
- Гиперфокальное расстояние: inf m
- Диафрагма: 11,0
- Светочувствительность: 200
- Фокусное расстояние: 60,0 mm (35 mm equivalent: 120,0 mm)
- Полный EXIF
- Adobe
- ColorTransform: YCbCr
- Composite
- Aperture: 11,0
- CircleOfConfusion: 0,011 mm
- FOV: 17,0 deg
- FocalLength35efl: 60,0 mm (35 mm equivalent: 120,0 mm)
- HyperfocalDistance: inf m
- ScaleFactor35efl: 2,7
- ShutterSpeed: 1/180
- ExifIFD
- ApertureValue: 11,0
- CreateDate: 2011:05:08 18:05:29
- CustomRendered: Normal
- DateTimeOriginal: 2011:05:08 18:05:29
- ExposureCompensation: 0
- ExposureMode: Manual
- ExposureProgram: Manual
- ExposureTime: 1/180
- FNumber: 11,0
- Flash: On, Fired
- FocalLength: 60,0 mm
- ISO: 200
- MaxApertureValue: 2,0
- MeteringMode: Multi-segment
- SceneCaptureType: Standard
- ShutterSpeedValue: 1/180
- SubjectDistance: 0,22 m
- WhiteBalance: Auto
- ICC-header
- ICC-meas
- ICC-view
- IFD0
- Artist: ???????_?
- Make: Canon
- Model: Canon EOS 450D
- ModifyDate: 2011:05:12 21:47:26
- IFD1
- IPTC
- By-line: Äìèòðèé_Ç
- System
- XMP-aux
- Firmware: 1.0.4
- FlashCompensation: 0
- ImageNumber: 0
- Lens: 60mm
- LensID: 37
- LensInfo: 60mm f/?
- OwnerName: Дмитрий_З
- SerialNumber: 530198574
- XMP-crs
- AlreadyApplied: True
- BlueHue: 0
- BlueSaturation: 0
- Brightness: +50
- ChromaticAberrationB: 0
- ChromaticAberrationR: 0
- Clarity: +56
- ColorNoiseReduction: 25
- ColorNoiseReductionDetail: 50
- Contrast: +48
- ConvertToGrayscale: False
- CropAngle: 0
- CropBottom: 0.843567
- CropConstrainToWarp: 0
- CropHeight: 1811
- CropLeft: 0.254386
- CropRight: 0.983431
- CropTop: 0.05117
- CropUnit: pixels
- CropWidth: 2500
- Defringe: 0
- Exposure: 0.00
- FillLight: 0
- GrainAmount: 0
- GreenHue: 0
- GreenSaturation: 0
- HasCrop: True
- HasSettings: True
- HighlightRecovery: 100
- HueAdjustmentAqua: 0
- HueAdjustmentBlue: 0
- HueAdjustmentGreen: 0
- HueAdjustmentMagenta: 0
- HueAdjustmentOrange: 0
- HueAdjustmentPurple: 0
- HueAdjustmentRed: 0
- HueAdjustmentYellow: 0
- LensManualDistortionAmount: 0
- LensProfileEnable: 0
- LensProfileSetup: LensDefaults
- LuminanceAdjustmentAqua: 0
- LuminanceAdjustmentBlue: 0
- LuminanceAdjustmentGreen: 0
- LuminanceAdjustmentMagenta: 0
- LuminanceAdjustmentOrange: 0
- LuminanceAdjustmentPurple: 0
- LuminanceAdjustmentRed: 0
- LuminanceAdjustmentYellow: 0
- LuminanceSmoothing: 0
- ParametricDarks: 0
- ParametricHighlightSplit: 75
- ParametricHighlights: 0
- ParametricLights: 0
- ParametricMidtoneSplit: 50
- ParametricShadowSplit: 25
- ParametricShadows: 0
- PerspectiveHorizontal: 0
- PerspectiveRotate: 0.0
- PerspectiveScale: 100
- PerspectiveVertical: 0
- PostCropVignetteAmount: 0
- ProcessVersion: 5.7
- RedHue: 0
- RedSaturation: 0
- Saturation: 0
- SaturationAdjustmentAqua: 0
- SaturationAdjustmentBlue: 0
- SaturationAdjustmentGreen: 0
- SaturationAdjustmentMagenta: 0
- SaturationAdjustmentOrange: 0
- SaturationAdjustmentPurple: 0
- SaturationAdjustmentRed: 0
- SaturationAdjustmentYellow: 0
- ShadowTint: 0
- Shadows: 11
- SharpenDetail: 25
- SharpenEdgeMasking: 0
- SharpenRadius: +1.0
- Sharpness: 38
- SplitToningBalance: 0
- SplitToningHighlightHue: 0
- SplitToningHighlightSaturation: 0
- SplitToningShadowHue: 0
- SplitToningShadowSaturation: 0
- Temperature: 5250
- Tint: -5
- ToneCurve: 0, 0, 32, 22, 64, 56, 128, 128, 192, 196, 255, 255
- ToneCurveName: Medium Contrast
- Version: 6.1
- Vibrance: 0
- VignetteAmount: 0
- WhiteBalance: As Shot
- XMP-dc
- Creator: Дмитрий_З
- XMP-exif
- DateTimeDigitized: 2011:05:08 18:05:29.79+04:00
- DateTimeOriginal: 2011:05:08 18:05:29.79+04:00
- ExifImageHeight: 1811
- ExifImageWidth: 2500
- FlashFired: True
- FlashFunction: False
- FlashMode: On
- FlashRedEyeMode: False
- FlashReturn: No return detection
- XMP-tiff
- ImageHeight: 1811
- ImageWidth: 2500
- XMP-xmp
- CreateDate: 2011:05:08 18:05:29.79+04:00
- ModifyDate: 2011:05:12 21:47:26+04:00
- Просмотров: 300
- Рейтинг: голосов еще нет
- Отзывов: 0