- Раздел: Спорт
- Дата съёмки: 07.05.2011 11:27
- Дата загрузки фото: 14.05.2011 01:36
- Оригинальная фотография: 2373 x 3559 (1,3 Мб)
- Технические характеристики:
- Фотоаппарат: Sony DSLR-A700
- Выдержка: 1/800
- Гиперфокальное расстояние: inf m
- Диафрагма: 5,6
- Светочувствительность: 200
- Фокусное расстояние: 135,0 mm (35 mm equivalent: 135,0 mm)
- Экспокоррекция: +1,3
- Полный EXIF
- Adobe
- ColorTransform: YCbCr
- Composite
- Aperture: 5,6
- CircleOfConfusion: 0,020 mm
- FOV: 15,0 deg
- FocalLength35efl: 135,0 mm (35 mm equivalent: 135,0 mm)
- HyperfocalDistance: inf m
- ScaleFactor35efl: 1,5
- ShutterSpeed: 1/800
- ExifIFD
- ApertureValue: 5,6
- BrightnessValue: 10
- Contrast: Normal
- CreateDate: 2011:05:07 11:27:51
- CustomRendered: Normal
- DateTimeOriginal: 2011:05:07 11:27:51
- DigitalZoomRatio: 0
- ExposureCompensation: +1,3
- ExposureMode: Auto
- ExposureProgram: Aperture-priority AE
- ExposureTime: 1/800
- FNumber: 5,6
- Flash: Off, Did not fire
- FocalLength: 135,0 mm
- FocalLengthIn35mmFormat: 202 mm
- ISO: 200
- LensInfo: 135mm f/1.8
- LensModel: 135mm F1.8 ZA
- LightSource: Unknown
- MaxApertureValue: 1,8
- MeteringMode: Center-weighted average
- Saturation: Normal
- SceneCaptureType: Standard
- SceneType: Directly photographed
- SensitivityType: Unknown
- Sharpness: Normal
- ShutterSpeedValue: 1/800
- WhiteBalance: Auto
- ICC-header
- ICC-meas
- ICC-view
- IFD0
- ImageDescription: SONY DSC
- Make: SONY
- Model: DSLR-A700
- ModifyDate: 2011:05:11 02:40:04
- Software: DSLR-A700 v04
- IFD1
- IPTC
- Caption-Abstract: SONY DSC
- System
- XMP-aux
- Lens: 135mm F1.8 ZA
- LensID: 47
- XMP-crs
- AlreadyApplied: True
- BlueHue: 0
- BlueSaturation: 0
- Brightness: +50
- CameraProfile: ACR 4.4
- ChromaticAberrationB: 0
- ChromaticAberrationR: 0
- Clarity: 0
- ColorNoiseReduction: 25
- ColorNoiseReductionDetail: 50
- Contrast: +10
- ConvertToGrayscale: False
- CropAngle: 0
- CropBottom: 0.899489
- CropConstrainToWarp: 0
- CropHeight: 3
- CropLeft: 0.071604
- CropRight: 0.904654
- CropTop: 0.06644
- CropUnit: Unknown (3)
- CropWidth: 2
- Defringe: 0
- Exposure: -0.30
- FillLight: 0
- GrainAmount: 0
- GreenHue: 0
- GreenSaturation: 0
- HasCrop: True
- HasSettings: True
- HighlightRecovery: 0
- HueAdjustmentAqua: 0
- HueAdjustmentBlue: 0
- HueAdjustmentGreen: 0
- HueAdjustmentMagenta: 0
- HueAdjustmentOrange: 0
- HueAdjustmentPurple: 0
- HueAdjustmentRed: 0
- HueAdjustmentYellow: 0
- LensManualDistortionAmount: 0
- LensProfileEnable: 0
- LensProfileSetup: LensDefaults
- LuminanceAdjustmentAqua: 0
- LuminanceAdjustmentBlue: 0
- LuminanceAdjustmentGreen: 0
- LuminanceAdjustmentMagenta: 0
- LuminanceAdjustmentOrange: 0
- LuminanceAdjustmentPurple: 0
- LuminanceAdjustmentRed: 0
- LuminanceAdjustmentYellow: 0
- LuminanceSmoothing: 0
- ParametricDarks: -10
- ParametricHighlightSplit: 75
- ParametricHighlights: 0
- ParametricLights: 0
- ParametricMidtoneSplit: 50
- ParametricShadowSplit: 25
- ParametricShadows: 0
- PerspectiveHorizontal: 0
- PerspectiveRotate: 0.0
- PerspectiveScale: 100
- PerspectiveVertical: 0
- PostCropVignetteAmount: 0
- ProcessVersion: 5.7
- RawFileName: DSC03991.ARW
- RedHue: 0
- RedSaturation: 0
- Saturation: 0
- SaturationAdjustmentAqua: 0
- SaturationAdjustmentBlue: 0
- SaturationAdjustmentGreen: 0
- SaturationAdjustmentMagenta: 0
- SaturationAdjustmentOrange: 0
- SaturationAdjustmentPurple: 0
- SaturationAdjustmentRed: 0
- SaturationAdjustmentYellow: 0
- ShadowTint: 0
- Shadows: 5
- SharpenDetail: 25
- SharpenEdgeMasking: 0
- SharpenRadius: +1.0
- Sharpness: 25
- SplitToningBalance: 0
- SplitToningHighlightHue: 0
- SplitToningHighlightSaturation: 0
- SplitToningShadowHue: 0
- SplitToningShadowSaturation: 0
- Temperature: 5400
- Tint: +2
- ToneCurve: 0, 0, 32, 22, 64, 56, 128, 128, 192, 196, 255, 255
- ToneCurveName: Medium Contrast
- Version: 6.3
- Vibrance: +23
- VignetteAmount: +20
- VignetteMidpoint: 50
- WhiteBalance: As Shot
- XMP-dc
- XMP-exif
- DateTimeOriginal: 2011:05:07 11:27:51+04:00
- ExifImageHeight: 3559
- ExifImageWidth: 2373
- FlashFired: False
- FlashFunction: False
- FlashMode: Off
- FlashRedEyeMode: False
- FlashReturn: No return detection
- XMP-tiff
- ImageHeight: 3559
- ImageWidth: 2373
- XMP-xmp
- CreateDate: 2011:05:07 11:27:51+04:00
- CreatorTool: DSLR-A700 v04
- ModifyDate: 2011:05:11 02:40:04+04:00
- Rating: 0
- Просмотров: 177
- Рейтинг: голосов еще нет
- Отзывов: 0