- Раздел: Природа
- Дата съёмки: 26.05.2011 14:09
- Дата загрузки фото: 26.05.2011 21:21
- Оригинальная фотография: 3692 x 2050 (4,8 Мб)
- Технические характеристики:
- Фотоаппарат: Panasonic DMC-FZ38
- Выдержка: 1/400
- Диафрагма: 3,7
- Светочувствительность: 80
- Фокусное расстояние: 50,0 mm
- Полный EXIF
- Adobe
- ColorTransform: YCbCr
- Composite
- Aperture: 3,7
- FocalLength35efl: 50,0 mm
- ShutterSpeed: 1/400
- ExifIFD
- ApertureValue: 3,7
- ColorSpace: sRGB
- CreateDate: 2011:05:26 14:09:13
- DateTimeOriginal: 2011:05:26 14:09:13
- ExifImageHeight: 2050
- ExifImageWidth: 3692
- ExposureCompensation: 0
- ExposureProgram: Aperture-priority AE
- ExposureTime: 1/400
- FNumber: 3,7
- Flash: Off, Did not fire
- FocalLength: 50,1 mm
- ISO: 80
- MaxApertureValue: 2,8
- MeteringMode: Center-weighted average
- ShutterSpeedValue: 1/400
- ICC-header
- ICC-meas
- ICC-view
- IFD0
- Make: Panasonic
- Model: DMC-FZ38
- ModifyDate: 2011:05:26 19:44:56
- Orientation: Horizontal (normal)
- IFD1
- IPTC
- DateCreated: 2011:05:26
- System
- XMP-crs
- AlreadyApplied: True
- BlueHue: 0
- BlueSaturation: 0
- Brightness: +50
- CameraProfile: Matrix
- ChromaticAberrationB: 0
- ChromaticAberrationR: 0
- Clarity: +35
- ColorNoiseReduction: 25
- ColorNoiseReductionDetail: 50
- Contrast: +25
- ConvertToGrayscale: False
- CropAngle: 0
- CropBottom: 0.767058
- CropLeft: 0.07701
- CropRight: 1
- CropTop: 0
- Defringe: 0
- Exposure: 0.00
- FillLight: 0
- GrainAmount: 0
- GreenHue: 0
- GreenSaturation: 0
- HasCrop: True
- HasSettings: True
- HighlightRecovery: 70
- HueAdjustmentAqua: 0
- HueAdjustmentBlue: 0
- HueAdjustmentGreen: -50
- HueAdjustmentMagenta: 0
- HueAdjustmentOrange: 0
- HueAdjustmentPurple: 0
- HueAdjustmentRed: 0
- HueAdjustmentYellow: 0
- LuminanceAdjustmentAqua: 0
- LuminanceAdjustmentBlue: 0
- LuminanceAdjustmentGreen: 0
- LuminanceAdjustmentMagenta: 0
- LuminanceAdjustmentOrange: 0
- LuminanceAdjustmentPurple: 0
- LuminanceAdjustmentRed: 0
- LuminanceAdjustmentYellow: 0
- LuminanceNoiseReductionContrast: 0
- LuminanceNoiseReductionDetail: 100
- LuminanceSmoothing: 40
- ParametricDarks: -10
- ParametricHighlightSplit: 75
- ParametricHighlights: 0
- ParametricLights: 0
- ParametricMidtoneSplit: 50
- ParametricShadowSplit: 25
- ParametricShadows: 0
- PostCropVignetteAmount: 0
- ProcessVersion: 5.7
- RawFileName: P1030097.RW2
- RedHue: 0
- RedSaturation: 0
- Saturation: +25
- SaturationAdjustmentAqua: 0
- SaturationAdjustmentBlue: 0
- SaturationAdjustmentGreen: +50
- SaturationAdjustmentMagenta: 0
- SaturationAdjustmentOrange: 0
- SaturationAdjustmentPurple: 0
- SaturationAdjustmentRed: 0
- SaturationAdjustmentYellow: +50
- ShadowTint: 0
- Shadows: 5
- SharpenDetail: 25
- SharpenEdgeMasking: 0
- SharpenRadius: +1.0
- Sharpness: 50
- SplitToningBalance: 0
- SplitToningHighlightHue: 0
- SplitToningHighlightSaturation: 0
- SplitToningShadowHue: 0
- SplitToningShadowSaturation: 0
- Temperature: 5200
- Tint: 0
- ToneCurve: 0, 0, 32, 22, 64, 56, 128, 128, 192, 196, 255, 255
- ToneCurveName: Medium Contrast
- Version: 6.0
- Vibrance: +25
- VignetteAmount: -50
- VignetteMidpoint: 25
- WhiteBalance: Custom
- XMP-dc
- XMP-xmp
- CreateDate: 2011:05:26 14:09:13+06:00
- ModifyDate: 2011:05:26 19:44:56+06:00
- Rating: 0
- XMP-xmpMM
- Просмотров: 412
- Рейтинг: голосов еще нет
- Отзывов: 0