- Раздел: Другое, разное
- Дата съёмки: 08.05.2011 14:58
- Дата загрузки фото: 27.05.2011 20:27
- Оригинальная фотография: 868 x 695 (193 Кб)
- Технические характеристики:
- Фотоаппарат: Canon EOS 400D DIGITAL
- Выдержка: 1/250
- Гиперфокальное расстояние: inf m
- Диафрагма: 6,3
- Светочувствительность: 100
- Фокусное расстояние: 400,0 mm (35 mm equivalent: 2400,0 mm)
- Полный EXIF
- Adobe
- ColorTransform: YCbCr
- Composite
- Aperture: 6,3
- CircleOfConfusion: 0,004 mm
- FOV: 0,0 deg
- FocalLength35efl: 400,0 mm (35 mm equivalent: 2400,0 mm)
- HyperfocalDistance: inf m
- ScaleFactor35efl: 6,8
- ShutterSpeed: 1/250
- ExifIFD
- ApertureValue: 6,3
- ColorSpace: Uncalibrated
- CreateDate: 2011:05:08 14:58:48
- CustomRendered: Normal
- DateTimeOriginal: 2011:05:08 14:58:48
- ExifImageHeight: 695
- ExifImageWidth: 868
- ExposureCompensation: 0
- ExposureMode: Auto
- ExposureProgram: Aperture-priority AE
- ExposureTime: 1/250
- FNumber: 6,3
- Flash: Off, Did not fire
- FocalLength: 400,0 mm
- ISO: 100
- MaxApertureValue: 5,6
- MeteringMode: Partial
- SceneCaptureType: Standard
- ShutterSpeedValue: 1/250
- WhiteBalance: Auto
- IFD0
- Artist: unknown
- Make: Canon
- Model: Canon EOS 400D DIGITAL
- ModifyDate: 2011:05:24 15:05:04
- Orientation: Horizontal (normal)
- IFD1
- IPTC
- By-line: unknown
- System
- XMP-aux
- Firmware: 1.0.4
- FlashCompensation: 0
- ImageNumber: 96
- Lens: EF100-400mm f/4.5-5.6L IS USM
- LensInfo: 100-400mm f/?
- OwnerName: unknown
- SerialNumber: 430124338
- XMP-crs
- AlreadyApplied: True
- BlueHue: 0
- BlueSaturation: 0
- Brightness: +29
- CameraProfile: ACR 4.4
- ChromaticAberrationB: 0
- ChromaticAberrationR: 0
- Clarity: 0
- ColorNoiseReduction: 0
- Contrast: +28
- ConvertToGrayscale: False
- CropAngle: 0
- CropBottom: 0.617476
- CropHeight: 5
- CropLeft: 0.370148
- CropRight: 0.593449
- CropTop: 0.349515
- CropUnit: Unknown (3)
- CropWidth: 4
- Defringe: 0
- Exposure: 0.00
- FillLight: 16
- GreenHue: 0
- GreenSaturation: 0
- HasCrop: True
- HasSettings: True
- HighlightRecovery: 21
- HueAdjustmentAqua: 0
- HueAdjustmentBlue: 0
- HueAdjustmentGreen: 0
- HueAdjustmentMagenta: 0
- HueAdjustmentOrange: 0
- HueAdjustmentPurple: 0
- HueAdjustmentRed: 0
- HueAdjustmentYellow: 0
- LuminanceAdjustmentAqua: 0
- LuminanceAdjustmentBlue: 0
- LuminanceAdjustmentGreen: 0
- LuminanceAdjustmentMagenta: 0
- LuminanceAdjustmentOrange: 0
- LuminanceAdjustmentPurple: 0
- LuminanceAdjustmentRed: 0
- LuminanceAdjustmentYellow: 0
- LuminanceSmoothing: 0
- ParametricDarks: 0
- ParametricHighlightSplit: 75
- ParametricHighlights: 0
- ParametricLights: 0
- ParametricMidtoneSplit: 50
- ParametricShadowSplit: 25
- ParametricShadows: 0
- PostCropVignetteAmount: 0
- RawFileName: IMG_8934.CR2
- RedHue: 0
- RedSaturation: 0
- Saturation: +14
- SaturationAdjustmentAqua: 0
- SaturationAdjustmentBlue: 0
- SaturationAdjustmentGreen: 0
- SaturationAdjustmentMagenta: 0
- SaturationAdjustmentOrange: 0
- SaturationAdjustmentPurple: 0
- SaturationAdjustmentRed: 0
- SaturationAdjustmentYellow: 0
- ShadowTint: 0
- Shadows: 3
- SharpenDetail: 0
- SharpenEdgeMasking: 0
- SharpenRadius: +0.5
- Sharpness: 0
- SplitToningBalance: 0
- SplitToningHighlightHue: 0
- SplitToningHighlightSaturation: 0
- SplitToningShadowHue: 0
- SplitToningShadowSaturation: 0
- Temperature: 5450
- Tint: +10
- ToneCurve: 0, 0, 32, 22, 64, 56, 128, 128, 192, 196, 255, 255
- ToneCurveName: Medium Contrast
- Version: 4.6
- Vibrance: +39
- VignetteAmount: 0
- WhiteBalance: As Shot
- XMP-dc
- Creator: unknown
- Format: image/jpeg
- XMP-exif
- ColorSpace: Unknown (-1)
- DateTimeDigitized: 2011:05:08 14:58:48+04:00
- DateTimeOriginal: 2011:05:08 14:58:48+04:00
- FlashFired: False
- FlashFunction: False
- FlashMode: Off
- FlashRedEyeMode: False
- FlashReturn: No return detection
- XMP-tiff
- XMP-xmp
- CreateDate: 2011:05:24 15:05:04+04:00
- ModifyDate: 2011:05:24 15:05:04+04:00
- Rating: 0
- XMP-xmpMM