Уважаемые друзья и участники проекта iXBT.photo! К сожалению, 1 марта 2026 года проект iXBT.photo прекратит свою работу и будет закрыт. Мы высоко ценим ваше участие и тот вклад, который вы внесли в развитие нашего сообщества. Пожалуйста, не забудьте сохранить ваши фотографии до этой даты.
С уважением, команда iXBT.com
| DSC_0010.jpg |
DSC_0010.jpg
- Раздел: Природа
- Дата съёмки: 04.06.2011 19:09
- Дата загрузки фото: 06.06.2011 20:45
- Оригинальная фотография: 4288 x 2848 (9,1 Мб)
- Технические характеристики:
- Фотоаппарат: Nikon D90
- Выдержка: 1/60
- Гиперфокальное расстояние: inf m
- Диафрагма: 7,1
- Светочувствительность: 200
- Фокусное расстояние: 40,0 mm (35 mm equivalent: 40,0 mm)
- Экспокоррекция: +1/3
- Полный EXIF
- Adobe
- ColorTransform: YCbCr
- Composite
- Aperture: 7,1
- CircleOfConfusion: 0,020 mm
- FOV: 48,0 deg
- FocalLength35efl: 40,0 mm (35 mm equivalent: 40,0 mm)
- HyperfocalDistance: inf m
- ScaleFactor35efl: 1,5
- ShutterSpeed: 1/60
- ExifIFD
- ApertureValue: 7,1
- CFAPattern: [Green,Blue][Red,Green]
- Contrast: Normal
- CreateDate: 2011:06:04 19:09:53
- CustomRendered: Normal
- DateTimeOriginal: 2011:06:04 19:09:53
- DigitalZoomRatio: 1
- ExposureCompensation: +1/3
- ExposureMode: Auto
- ExposureProgram: Aperture-priority AE
- ExposureTime: 1/60
- FNumber: 7,1
- Flash: No Flash
- FocalLength: 40,0 mm
- FocalLengthIn35mmFormat: 60 mm
- GainControl: None
- ISO: 200
- LensInfo: 18-105mm f/3.5-5.6
- LensModel: 18.0-105.0 mm f/3.5-5.6
- LightSource: Cloudy
- MaxApertureValue: 4,6
- MeteringMode: Center-weighted average
- Saturation: Normal
- SceneCaptureType: Landscape
- SceneType: Directly photographed
- SensingMethod: One-chip color area
- SensitivityType: Unknown
- SerialNumber: 6576123
- Sharpness: Normal
- ShutterSpeedValue: 1/60
- SubjectDistance: 0,47 m
- SubjectDistanceRange: Unknown
- WhiteBalance: Manual
- ICC-header
- ICC-meas
- ICC-view
- IFD0
- Make: NIKON CORPORATION
- Model: NIKON D90
- ModifyDate: 2011:06:06 19:43:00
- Software: Ver.1.00
- IFD1
- System
- XMP-aux
- ApproximateFocusDistance: 0,47
- ImageNumber: 2412
- Lens: 18.0-105.0 mm f/3.5-5.6
- LensID: 158
- XMP-crs
- AlreadyApplied: True
- BlueHue: 0
- BlueSaturation: 0
- Brightness: +49
- CameraProfile: Camera Landscape v3
- ChromaticAberrationB: 0
- ChromaticAberrationR: 0
- Clarity: 0
- ColorNoiseReduction: 25
- ColorNoiseReductionDetail: 50
- Contrast: +26
- ConvertToGrayscale: False
- Defringe: 0
- Exposure: 0.00
- FillLight: 0
- GrainAmount: 0
- GreenHue: 0
- GreenSaturation: 0
- HasCrop: False
- HasSettings: True
- HighlightRecovery: 0
- HueAdjustmentAqua: 0
- HueAdjustmentBlue: 0
- HueAdjustmentGreen: 0
- HueAdjustmentMagenta: 0
- HueAdjustmentOrange: 0
- HueAdjustmentPurple: 0
- HueAdjustmentRed: 0
- HueAdjustmentYellow: 0
- LensManualDistortionAmount: 0
- LensProfileEnable: 0
- LensProfileSetup: LensDefaults
- LuminanceAdjustmentAqua: 0
- LuminanceAdjustmentBlue: 0
- LuminanceAdjustmentGreen: 0
- LuminanceAdjustmentMagenta: 0
- LuminanceAdjustmentOrange: 0
- LuminanceAdjustmentPurple: 0
- LuminanceAdjustmentRed: 0
- LuminanceAdjustmentYellow: 0
- LuminanceSmoothing: 0
- ParametricDarks: 0
- ParametricHighlightSplit: 75
- ParametricHighlights: 0
- ParametricLights: 0
- ParametricMidtoneSplit: 50
- ParametricShadowSplit: 25
- ParametricShadows: 0
- PerspectiveHorizontal: 0
- PerspectiveRotate: 0.0
- PerspectiveScale: 100
- PerspectiveVertical: 0
- PostCropVignetteAmount: 0
- ProcessVersion: 5.7
- RedHue: 0
- RedSaturation: 0
- Saturation: +3
- SaturationAdjustmentAqua: 0
- SaturationAdjustmentBlue: 0
- SaturationAdjustmentGreen: 0
- SaturationAdjustmentMagenta: 0
- SaturationAdjustmentOrange: 0
- SaturationAdjustmentPurple: 0
- SaturationAdjustmentRed: 0
- SaturationAdjustmentYellow: 0
- ShadowTint: 0
- Shadows: 0
- SharpenDetail: 25
- SharpenEdgeMasking: 0
- SharpenRadius: +1.0
- Sharpness: 25
- SplitToningBalance: 0
- SplitToningHighlightHue: 0
- SplitToningHighlightSaturation: 0
- SplitToningShadowHue: 0
- SplitToningShadowSaturation: 0
- Temperature: 7500
- Tint: -46
- ToneCurve: 0, 0, 32, 22, 64, 56, 128, 128, 192, 196, 255, 255
- ToneCurveName: Medium Contrast
- Version: 6.3
- Vibrance: -1
- VignetteAmount: 0
- WhiteBalance: Custom
- XMP-exif
- DateTimeDigitized: 2011:06:04 19:09:53.00+03:00
- DateTimeOriginal: 2011:06:04 19:09:53.00+03:00
- ExifImageHeight: 2848
- ExifImageWidth: 4288
- FlashFired: False
- FlashFunction: False
- FlashMode: Unknown
- FlashRedEyeMode: False
- FlashReturn: No return detection
- XMP-tiff
- ImageHeight: 2848
- ImageWidth: 4288
- XMP-xmp
- CreateDate: 2011:06:04 19:09:53.00+03:00
- ModifyDate: 2011:06:06 19:43:00+03:00
- Просмотров: 171
- Рейтинг: голосов еще нет
- Отзывов: 0
Получить код для блога
| Вставка фотографии в текущем разрешении |
Вставка миниатюры |
HTML (для вставки в блог):
BBCode (для вставки в форум):
Ссылка на фото:
Ссылка на миниатюру:
- Послать ссылку другу
| Комментарии к фотографии |