- Раздел: Путешествия
- Дата съёмки: 29.05.2011 11:33
- Дата загрузки фото: 07.06.2011 00:40
- Оригинальная фотография: 1800 x 1200 (1,4 Мб)
- Технические характеристики:
- Фотоаппарат: Canon EOS 450D
- Выдержка: 1/1000
- Гиперфокальное расстояние: inf m
- Диафрагма: 7,1
- Светочувствительность: 200
- Фокусное расстояние: 50,0 mm (35 mm equivalent: 150,0 mm)
- Полный EXIF
- Adobe
- ColorTransform: YCbCr
- Composite
- Aperture: 7,1
- CircleOfConfusion: 0,008 mm
- DOF: inf (0,00 m - inf)
- FOV: 13,0 deg
- FocalLength35efl: 50,0 mm (35 mm equivalent: 150,0 mm)
- HyperfocalDistance: inf m
- ScaleFactor35efl: 3,8
- ShutterSpeed: 1/1000
- ExifIFD
- ApertureValue: 7,1
- ColorSpace: sRGB
- CreateDate: 2011:05:29 11:33:35
- CustomRendered: Normal
- DateTimeOriginal: 2011:05:29 11:33:35
- ExifImageHeight: 1200
- ExifImageWidth: 1800
- ExposureCompensation: 0
- ExposureMode: Auto
- ExposureProgram: Aperture-priority AE
- ExposureTime: 1/1000
- FNumber: 7,1
- Flash: Off, Did not fire
- FocalLength: 50,0 mm
- ISO: 200
- LensInfo: 24-105mm f/?
- LensModel: EF24-105mm f/4L IS USM
- MaxApertureValue: 4,0
- MeteringMode: Partial
- OwnerName: Kazarenko_Andrey
- SceneCaptureType: Standard
- SensitivityType: Unknown
- SerialNumber: 430161525
- ShutterSpeedValue: 1/1000
- SubjectDistance: 4294967295 m
- WhiteBalance: Auto
- ICC-header
- ICC-meas
- ICC-view
- IFD0
- Artist: Kazarenko_Andrey
- BitsPerSample: 8 8 8
- ImageHeight: 2848
- ImageWidth: 4272
- Make: Canon
- Model: Canon EOS 450D
- ModifyDate: 2011:06:07 00:25:51
- Orientation: Horizontal (normal)
- PhotometricInterpretation: RGB
- SamplesPerPixel: 3
- IFD1
- IPTC
- By-line: Kazarenko_Andrey
- DateCreated: 2011:05:29
- System
- XMP-aux
- ApproximateFocusDistance: 4294967295
- Firmware: 1.0.4
- FlashCompensation: 0
- ImageNumber: 0
- Lens: EF24-105mm f/4L IS USM
- LensID: 237
- XMP-crs
- AlreadyApplied: True
- BlueHue: 0
- BlueSaturation: 0
- Brightness: +49
- ChromaticAberrationB: 0
- ChromaticAberrationR: 0
- Clarity: 0
- ColorNoiseReduction: 25
- ColorNoiseReductionDetail: 50
- Contrast: +40
- ConvertToGrayscale: False
- Defringe: 0
- Exposure: +0.05
- FillLight: 0
- GrainAmount: 0
- GreenHue: 0
- GreenSaturation: 0
- HasCrop: False
- HasSettings: True
- HighlightRecovery: 0
- HueAdjustmentAqua: 0
- HueAdjustmentBlue: 0
- HueAdjustmentGreen: +40
- HueAdjustmentMagenta: 0
- HueAdjustmentOrange: 0
- HueAdjustmentPurple: 0
- HueAdjustmentRed: 0
- HueAdjustmentYellow: +19
- LensManualDistortionAmount: 0
- LensProfileEnable: 0
- LensProfileSetup: LensDefaults
- LuminanceAdjustmentAqua: 0
- LuminanceAdjustmentBlue: -13
- LuminanceAdjustmentGreen: 0
- LuminanceAdjustmentMagenta: 0
- LuminanceAdjustmentOrange: 0
- LuminanceAdjustmentPurple: 0
- LuminanceAdjustmentRed: 0
- LuminanceAdjustmentYellow: 0
- LuminanceSmoothing: 0
- ParametricDarks: 0
- ParametricHighlightSplit: 75
- ParametricHighlights: 0
- ParametricLights: 0
- ParametricMidtoneSplit: 50
- ParametricShadowSplit: 25
- ParametricShadows: 0
- PerspectiveHorizontal: 0
- PerspectiveRotate: 0.0
- PerspectiveScale: 100
- PerspectiveVertical: 0
- PostCropVignetteAmount: 0
- ProcessVersion: 5.7
- RedHue: 0
- RedSaturation: 0
- Saturation: +20
- SaturationAdjustmentAqua: 0
- SaturationAdjustmentBlue: +15
- SaturationAdjustmentGreen: 0
- SaturationAdjustmentMagenta: 0
- SaturationAdjustmentOrange: 0
- SaturationAdjustmentPurple: 0
- SaturationAdjustmentRed: 0
- SaturationAdjustmentYellow: 0
- ShadowTint: 0
- Shadows: 6
- SharpenDetail: 25
- SharpenEdgeMasking: 0
- SharpenRadius: +1.0
- Sharpness: 25
- SplitToningBalance: 0
- SplitToningHighlightHue: 0
- SplitToningHighlightSaturation: 0
- SplitToningShadowHue: 0
- SplitToningShadowSaturation: 0
- Temperature: 5500
- Tint: +4
- ToneCurve: 0, 0, 32, 22, 64, 56, 128, 128, 192, 196, 255, 255
- ToneCurveName: Medium Contrast
- Version: 6.3
- Vibrance: +33
- VignetteAmount: 0
- WhiteBalance: As Shot
- XMP-dc
- Creator: Kazarenko_Andrey
- Format: image/jpeg
- XMP-xmp
- CreateDate: 2011:05:29 11:33:35.89+04:00
- ModifyDate: 2011:06:07 00:25:51+04:00
- XMP-xmpMM