- Раздел: Город
- Дата съёмки: 04.04.2010 18:09
- Дата загрузки фото: 10.06.2011 00:03
- Оригинальная фотография: 1700 x 2200 (774 Кб)
- Технические характеристики:
- Фотоаппарат: Canon EOS 350D DIGITAL
- Выдержка: 1/160
- Гиперфокальное расстояние: inf m
- Диафрагма: 9,0
- Светочувствительность: 100
- Фокусное расстояние: 10,0 mm (35 mm equivalent: 20,0 mm)
- Экспокоррекция: -2/3
- Полный EXIF
- Adobe
- ColorTransform: Unknown (RGB or CMYK)
- Composite
- Aperture: 9,0
- CircleOfConfusion: 0,012 mm
- FOV: 83,0 deg
- FocalLength35efl: 10,0 mm (35 mm equivalent: 20,0 mm)
- HyperfocalDistance: inf m
- ScaleFactor35efl: 2,4
- ShutterSpeed: 1/160
- ExifIFD
- ApertureValue: 9,0
- ColorSpace: Uncalibrated
- CreateDate: 2010:04:04 18:09:38
- CustomRendered: Normal
- DateTimeOriginal: 2010:04:04 18:09:38
- ExifImageHeight: 2200
- ExifImageWidth: 1700
- ExposureCompensation: -2/3
- ExposureMode: Auto
- ExposureProgram: Aperture-priority AE
- ExposureTime: 1/160
- FNumber: 9,0
- Flash: Off, Did not fire
- FocalLength: 10,0 mm
- ISO: 100
- MeteringMode: Multi-segment
- SceneCaptureType: Standard
- ShutterSpeedValue: 1/160
- WhiteBalance: Auto
- ICC-header
- IFD0
- Artist: Yuras
- Make: Canon
- Model: Canon EOS 350D DIGITAL
- ModifyDate: 2011:06:09 23:01:52
- Orientation: Horizontal (normal)
- IFD1
- IPTC
- By-line: Yuras
- System
- XMP-aux
- Firmware: 1.0.3
- FlashCompensation: 0
- ImageNumber: 154
- Lens: 10.0-20.0 mm
- LensID: 65535
- LensInfo: 10-20mm f/?
- OwnerName: Yuras
- SerialNumber: 230102161
- XMP-crs
- AlreadyApplied: True
- BlueHue: 0
- BlueSaturation: 0
- Brightness: +63
- ChromaticAberrationB: 0
- ChromaticAberrationR: 0
- Clarity: -14
- ColorNoiseReduction: 25
- Contrast: +29
- ConvertToGrayscale: True
- Defringe: 0
- Exposure: 0.00
- FillLight: 5
- GrainAmount: 0
- GrayMixerAqua: -42
- GrayMixerBlue: -85
- GrayMixerGreen: -27
- GrayMixerMagenta: -38
- GrayMixerOrange: +8
- GrayMixerPurple: -2
- GrayMixerRed: -24
- GrayMixerYellow: -24
- GreenHue: 0
- GreenSaturation: 0
- HasCrop: False
- HasSettings: True
- HighlightRecovery: 46
- LuminanceSmoothing: 23
- ParametricDarks: 0
- ParametricHighlightSplit: 75
- ParametricHighlights: +7
- ParametricLights: -14
- ParametricMidtoneSplit: 50
- ParametricShadowSplit: 25
- ParametricShadows: -50
- PostCropVignetteAmount: 0
- ProcessVersion: 5.0
- RawFileName: IMG_9882.CR2
- RedHue: 0
- RedSaturation: 0
- ShadowTint: 0
- Shadows: 0
- SharpenDetail: 21
- SharpenEdgeMasking: 18
- SharpenRadius: +0.9
- Sharpness: 69
- SplitToningBalance: 0
- SplitToningHighlightHue: 0
- SplitToningHighlightSaturation: 0
- SplitToningShadowHue: 0
- SplitToningShadowSaturation: 0
- Temperature: 5350
- Tint: -1
- ToneCurve: 0, 0, 32, 22, 64, 56, 128, 128, 192, 196, 255, 255
- ToneCurveName: Medium Contrast
- Version: 5.7
- VignetteAmount: -30
- VignetteMidpoint: 46
- WhiteBalance: As Shot
- XMP-dc
- Creator: Yuras
- Format: image/jpeg
- XMP-exif
- DateTimeDigitized: 2010:04:04 18:09:38+03:00
- DateTimeOriginal: 2010:04:04 18:09:38+03:00
- FlashFired: False
- FlashFunction: False
- FlashMode: Off
- FlashRedEyeMode: False
- FlashReturn: No return detection
- XMP-tiff
- XMP-xmp
- CreateDate: 2010:04:04 18:09:38+03:00
- ModifyDate: 2011:06:09 23:01:52+03:00
- Rating: 0
- XMP-xmpMM