Уважаемые друзья и участники проекта iXBT.photo! К сожалению, 1 марта 2026 года проект iXBT.photo прекратит свою работу и будет закрыт. Мы высоко ценим ваше участие и тот вклад, который вы внесли в развитие нашего сообщества. Пожалуйста, не забудьте сохранить ваши фотографии до этой даты.
С уважением, команда iXBT.com
| Хива. Загадки старого города 1.jpg |
Хива. Загадки старого города 1.jpg
- Раздел: Активный отдых, туризм
- Дата съёмки: 08.06.2011 05:50
- Дата загрузки фото: 10.06.2011 19:04
- Оригинальная фотография: 450 x 300 ( 77 Кб)
- Технические характеристики:
- Фотоаппарат: Canon EOS 5D Mark II
- Выдержка: 1/100
- Гиперфокальное расстояние: inf m
- Диафрагма: 8,0
- Светочувствительность: 100
- Фокусное расстояние: 24,0 mm (35 mm equivalent: 288,0 mm)
- Полный EXIF
- Adobe
- ColorTransform: YCbCr
- Composite
- Aperture: 8,0
- CircleOfConfusion: 0,002 mm
- DOF: inf (0,00 m - inf)
- FOV: 7,0 deg
- FocalLength35efl: 24,0 mm (35 mm equivalent: 288,0 mm)
- HyperfocalDistance: inf m
- ScaleFactor35efl: 12,2
- ShutterSpeed: 1/100
- ExifIFD
- ApertureValue: 8,0
- ColorSpace: sRGB
- CreateDate: 2011:06:08 05:50:58
- CustomRendered: Normal
- DateTimeOriginal: 2011:06:08 05:50:58
- ExifImageHeight: 300
- ExifImageWidth: 450
- ExposureCompensation: 0
- ExposureMode: Auto
- ExposureProgram: Aperture-priority AE
- ExposureTime: 1/100
- FNumber: 8,0
- Flash: Off, Did not fire
- FocalLength: 24,0 mm
- ISO: 100
- MaxApertureValue: 4,0
- MeteringMode: Center-weighted average
- SceneCaptureType: Standard
- ShutterSpeedValue: 1/100
- SubjectDistance: 4294967295 m
- WhiteBalance: Auto
- ICC-header
- ICC-meas
- ICC-view
- IFD0
- Artist: Photographer: Evgeny Ostapenko
- Copyright: Copyright: Evgeny Ostapenko
- Make: Canon
- Model: Canon EOS 5D Mark II
- ModifyDate: 2011:06:10 18:04:50
- Orientation: Horizontal (normal)
- IFD1
- IPTC
- By-line: Photographer: Evgeny Ostapenko
- CopyrightNotice: Copyright: Evgeny Ostapenko
- System
- XMP-aux
- Firmware: 2.0.7
- FlashCompensation: 0
- ImageNumber: 0
- Lens: EF24-105mm f/4L IS USM
- LensID: 237
- LensInfo: 24-105mm f/?
- OwnerName: Evgeny Ostapenko
- SerialNumber: 1210806178
- XMP-crs
- AlreadyApplied: True
- BlueHue: 0
- BlueSaturation: 0
- Brightness: +60
- ChromaticAberrationB: 0
- ChromaticAberrationR: 0
- Clarity: 0
- ColorNoiseReduction: 25
- Contrast: +24
- ConvertToGrayscale: False
- Defringe: 0
- Exposure: +0.15
- FillLight: 13
- GrainAmount: 0
- GreenHue: 0
- GreenSaturation: 0
- HasCrop: False
- HasSettings: True
- HighlightRecovery: 67
- HueAdjustmentAqua: 0
- HueAdjustmentBlue: 0
- HueAdjustmentGreen: 0
- HueAdjustmentMagenta: 0
- HueAdjustmentOrange: 0
- HueAdjustmentPurple: 0
- HueAdjustmentRed: 0
- HueAdjustmentYellow: 0
- LuminanceAdjustmentAqua: 0
- LuminanceAdjustmentBlue: 0
- LuminanceAdjustmentGreen: 0
- LuminanceAdjustmentMagenta: 0
- LuminanceAdjustmentOrange: 0
- LuminanceAdjustmentPurple: 0
- LuminanceAdjustmentRed: 0
- LuminanceAdjustmentYellow: 0
- LuminanceSmoothing: 0
- ParametricDarks: 0
- ParametricHighlightSplit: 75
- ParametricHighlights: 0
- ParametricLights: 0
- ParametricMidtoneSplit: 50
- ParametricShadowSplit: 25
- ParametricShadows: 0
- PostCropVignetteAmount: 0
- ProcessVersion: 5.0
- RawFileName: IMG_5573.CR2
- RedHue: 0
- RedSaturation: 0
- Saturation: 0
- SaturationAdjustmentAqua: 0
- SaturationAdjustmentBlue: 0
- SaturationAdjustmentGreen: 0
- SaturationAdjustmentMagenta: 0
- SaturationAdjustmentOrange: 0
- SaturationAdjustmentPurple: 0
- SaturationAdjustmentRed: 0
- SaturationAdjustmentYellow: 0
- ShadowTint: 0
- Shadows: 6
- SharpenDetail: 25
- SharpenEdgeMasking: 0
- SharpenRadius: +1.0
- Sharpness: 25
- SplitToningBalance: 0
- SplitToningHighlightHue: 0
- SplitToningHighlightSaturation: 0
- SplitToningShadowHue: 0
- SplitToningShadowSaturation: 0
- Temperature: 4700
- Tint: -2
- ToneCurve: 0, 0, 32, 22, 64, 56, 128, 128, 192, 196, 255, 255
- ToneCurveName: Medium Contrast
- Version: 5.7
- Vibrance: 0
- VignetteAmount: 0
- WhiteBalance: As Shot
- XMP-dc
- Creator: Photographer: Evgeny Ostapenko
- Format: image/jpeg
- Rights: Copyright: Evgeny Ostapenko
- XMP-exif
- DateTimeDigitized: 2011:06:08 05:50:58.79+05:00
- DateTimeOriginal: 2011:06:08 05:50:58.79+05:00
- FlashFired: False
- FlashFunction: False
- FlashMode: Off
- FlashRedEyeMode: False
- FlashReturn: No return detection
- XMP-tiff
- XMP-xmp
- CreateDate: 2011:06:08 05:50:58.79+05:00
- ModifyDate: 2011:06:10 18:04:50+05:00
- Rating: 0
- XMP-xmpMM
- Просмотров: 676
- Рейтинг: голосов еще нет
- Отзывов: 0
Получить код для блога
| Вставка фотографии в текущем разрешении |
Вставка миниатюры |
HTML (для вставки в блог):
BBCode (для вставки в форум):
Ссылка на фото:
Ссылка на миниатюру:
- Послать ссылку другу
| Комментарии к фотографии |