- Раздел: Тесты фототехники
- Дата съёмки: 09.05.2011 15:18
- Дата загрузки фото: 10.06.2011 22:31
- Оригинальная фотография: 1600 x 2400 (981 Кб)
- Технические характеристики:
- Фотоаппарат: Sony DSLR-A850
- Выдержка: 1/640
- Гиперфокальное расстояние: inf m
- Диафрагма: 3,5
- Светочувствительность: 800
- Фокусное расстояние: 80,0 mm (35 mm equivalent: 80,0 mm)
- Экспокоррекция: -0,3
- Полный EXIF
- Composite
- Aperture: 3,5
- CircleOfConfusion: 0,030 mm
- FOV: 25,0 deg
- FocalLength35efl: 80,0 mm (35 mm equivalent: 80,0 mm)
- HyperfocalDistance: inf m
- ScaleFactor35efl: 1,0
- ShutterSpeed: 1/640
- ExifIFD
- ApertureValue: 3,5
- BrightnessValue: 4,75
- Contrast: Normal
- CreateDate: 2011:05:09 15:18:22
- CustomRendered: Normal
- DateTimeOriginal: 2011:05:09 15:18:22
- ExifImageHeight: 2400
- ExifImageWidth: 1600
- ExposureCompensation: -0,3
- ExposureMode: Auto
- ExposureProgram: Aperture-priority AE
- ExposureTime: 1/640
- FNumber: 3,5
- Flash: Off, Did not fire
- FocalLength: 80,0 mm
- FocalLengthIn35mmFormat: 80 mm
- ISO: 800
- LightSource: Unknown
- MaxApertureValue: 2,8
- MeteringMode: Multi-segment
- Saturation: Normal
- SceneCaptureType: Standard
- SceneType: Directly photographed
- Sharpness: Normal
- ShutterSpeedValue: 1/640
- WhiteBalance: Auto
- ICC-header
- ICC-meas
- ICC-view
- IFD0
- ImageDescription: SONY DSC
- Make: SONY
- Model: DSLR-A850
- ModifyDate: 2011:06:10 21:28:04
- Orientation: Horizontal (normal)
- Software: ACD Systems Digital Imaging
- IFD1
- IPTC
- Caption-Abstract: SONY DSC
- System
- XMP-aux
- Lens: 80-200mm F2.8
- LensID: 1
- LensInfo: 80-200mm f/2.8
- XMP-crs
- AlreadyApplied: True
- BlueHue: 0
- BlueSaturation: 0
- Brightness: +50
- ChromaticAberrationB: 0
- ChromaticAberrationR: 0
- Clarity: 0
- ColorNoiseReduction: 25
- Contrast: +12
- ConvertToGrayscale: False
- Defringe: 0
- Exposure: -0.10
- FillLight: 0
- GrainAmount: 0
- GreenHue: 0
- GreenSaturation: 0
- HasCrop: False
- HasSettings: True
- HighlightRecovery: 5
- HueAdjustmentAqua: 0
- HueAdjustmentBlue: 0
- HueAdjustmentGreen: 0
- HueAdjustmentMagenta: 0
- HueAdjustmentOrange: 0
- HueAdjustmentPurple: 0
- HueAdjustmentRed: 0
- HueAdjustmentYellow: 0
- LuminanceAdjustmentAqua: 0
- LuminanceAdjustmentBlue: 0
- LuminanceAdjustmentGreen: 0
- LuminanceAdjustmentMagenta: 0
- LuminanceAdjustmentOrange: 0
- LuminanceAdjustmentPurple: 0
- LuminanceAdjustmentRed: 0
- LuminanceAdjustmentYellow: 0
- LuminanceSmoothing: 0
- ParametricDarks: 0
- ParametricHighlightSplit: 75
- ParametricHighlights: 0
- ParametricLights: 0
- ParametricMidtoneSplit: 50
- ParametricShadowSplit: 25
- ParametricShadows: 0
- PostCropVignetteAmount: 0
- ProcessVersion: 5.0
- RawFileName: DSC09713.ARW
- RedHue: 0
- RedSaturation: 0
- Saturation: 0
- SaturationAdjustmentAqua: 0
- SaturationAdjustmentBlue: 0
- SaturationAdjustmentGreen: 0
- SaturationAdjustmentMagenta: 0
- SaturationAdjustmentOrange: 0
- SaturationAdjustmentPurple: 0
- SaturationAdjustmentRed: 0
- SaturationAdjustmentYellow: 0
- ShadowTint: 0
- Shadows: 2
- SharpenDetail: 25
- SharpenEdgeMasking: 0
- SharpenRadius: +1.0
- Sharpness: 25
- SplitToningBalance: 0
- SplitToningHighlightHue: 0
- SplitToningHighlightSaturation: 0
- SplitToningShadowHue: 0
- SplitToningShadowSaturation: 0
- Temperature: 5150
- Tint: +20
- ToneCurve: 0, 0, 32, 22, 64, 56, 128, 128, 192, 196, 255, 255
- ToneCurveName: Medium Contrast
- Version: 5.7
- Vibrance: 0
- VignetteAmount: 0
- WhiteBalance: Custom
- XMP-dc
- XMP-exif
- DateTimeDigitized: 2011:05:09 15:18:22+03:00
- DateTimeOriginal: 2011:05:09 15:18:22+03:00
- ExifImageHeight: 6048
- ExifImageWidth: 4032
- FlashFired: False
- FlashFunction: False
- FlashMode: Off
- FlashRedEyeMode: False
- FlashReturn: No return detection
- XMP-tiff
- ImageHeight: 6048
- ImageWidth: 4032
- XMP-xmp
- CreateDate: 2011:05:09 15:18:22+03:00
- CreatorTool: DSLR-A850 v2.00
- ModifyDate: 2011:05:22 00:11:13+03:00
- Rating: 0
- Просмотров: 864
- Рейтинг: голосов еще нет
- Отзывов: отключены