- Раздел: Путешествия
- Дата съёмки: 11.06.2011 15:06
- Дата загрузки фото: 24.06.2011 19:03
- Оригинальная фотография: 3000 x 1993 (2,3 Мб)
- Технические характеристики:
- Фотоаппарат: Nikon D5000
- Выдержка: 1/640
- Гиперфокальное расстояние: inf m
- Диафрагма: 10,0
- Светочувствительность:
- Фокусное расстояние: 18,0 mm (35 mm equivalent: 18,0 mm)
- Экспокоррекция: -1
- Полный EXIF
- Composite
- Aperture: 10,0
- CircleOfConfusion: 0,020 mm
- DOF: inf (0,00 m - inf)
- FOV: 90,0 deg
- FocalLength35efl: 18,0 mm (35 mm equivalent: 18,0 mm)
- HyperfocalDistance: inf m
- ScaleFactor35efl: 1,5
- ShutterSpeed: 1/640
- ExifIFD
- ApertureValue: 10,0
- CFAPattern: [Green,Blue][Red,Green]
- Contrast: Normal
- CreateDate: 2011:06:11 15:06:51
- CustomRendered: Normal
- DateTimeOriginal: 2011:06:11 15:06:51
- DigitalZoomRatio: 1
- ExifImageHeight: 1993
- ExifImageWidth: 3000
- ExposureCompensation: -1
- ExposureMode: Auto
- ExposureProgram: Aperture-priority AE
- ExposureTime: 1/640
- FNumber: 10,0
- Flash: No Flash
- FocalLength: 18,0 mm
- FocalLengthIn35mmFormat: 27 mm
- GainControl: None
- ISO:
- LightSource: Fine Weather
- MaxApertureValue: 3,6
- MeteringMode: Multi-segment
- Saturation: Normal
- SceneCaptureType: Landscape
- SceneType: Directly photographed
- SensingMethod: One-chip color area
- Sharpness: Normal
- ShutterSpeedValue: 1/640
- SubjectDistance: 4,22 m
- SubjectDistanceRange: Unknown
- UserComment: KOMMENTARI
- WhiteBalance: Manual
- ICC-header
- IFD0
- Make: NIKON CORPORATION
- Model: NIKON D5000
- ModifyDate: 2011:01:21 18:59:58
- Orientation: Horizontal (normal)
- Software: ACD Systems Digital Imaging
- IFD1
- IPTC
- System
- XMP-aux
- ImageNumber: 12680
- Lens: 18.0-105.0 mm f/3.5-5.6
- LensID: 158
- LensInfo: 18-105mm f/3.5-5.6
- SerialNumber: 6255071
- XMP-crs
- AlreadyApplied: True
- BlueHue: 0
- BlueSaturation: 0
- Brightness: +24
- ChromaticAberrationB: 0
- ChromaticAberrationR: 0
- Clarity: +39
- ColorNoiseReduction: 25
- ColorNoiseReductionDetail: 50
- Contrast: +25
- ConvertToGrayscale: False
- Defringe: 0
- Exposure: -0.80
- FillLight: 73
- GrainAmount: 0
- GreenHue: 0
- GreenSaturation: 0
- HasCrop: False
- HasSettings: True
- HighlightRecovery: 79
- HueAdjustmentAqua: 0
- HueAdjustmentBlue: 0
- HueAdjustmentGreen: 0
- HueAdjustmentMagenta: 0
- HueAdjustmentOrange: 0
- HueAdjustmentPurple: 0
- HueAdjustmentRed: 0
- HueAdjustmentYellow: 0
- LuminanceAdjustmentAqua: 0
- LuminanceAdjustmentBlue: 0
- LuminanceAdjustmentGreen: 0
- LuminanceAdjustmentMagenta: 0
- LuminanceAdjustmentOrange: 0
- LuminanceAdjustmentPurple: 0
- LuminanceAdjustmentRed: 0
- LuminanceAdjustmentYellow: 0
- LuminanceSmoothing: 0
- ParametricDarks: 0
- ParametricHighlightSplit: 75
- ParametricHighlights: 0
- ParametricLights: 0
- ParametricMidtoneSplit: 50
- ParametricShadowSplit: 25
- ParametricShadows: 0
- PostCropVignetteAmount: 0
- ProcessVersion: 5.7
- RawFileName: DSC_1541.NEF
- RedHue: 0
- RedSaturation: 0
- Saturation: +17
- SaturationAdjustmentAqua: 0
- SaturationAdjustmentBlue: 0
- SaturationAdjustmentGreen: 0
- SaturationAdjustmentMagenta: 0
- SaturationAdjustmentOrange: 0
- SaturationAdjustmentPurple: 0
- SaturationAdjustmentRed: 0
- SaturationAdjustmentYellow: 0
- ShadowTint: 0
- Shadows: 8
- SharpenDetail: 25
- SharpenEdgeMasking: 0
- SharpenRadius: +1.0
- Sharpness: 25
- SplitToningBalance: 0
- SplitToningHighlightHue: 0
- SplitToningHighlightSaturation: 0
- SplitToningShadowHue: 0
- SplitToningShadowSaturation: 0
- Temperature: 4800
- Tint: -16
- ToneCurve: 0, 0, 32, 22, 64, 56, 128, 128, 192, 196, 255, 255
- ToneCurveName: Medium Contrast
- Version: 6.0
- Vibrance: +46
- VignetteAmount: 0
- WhiteBalance: Custom
- XMP-dc
- XMP-exif
- DateTimeDigitized: 2011:06:11 15:06:510Z
- DateTimeOriginal: 2011:06:11 15:06:510Z
- ExifImageHeight: 2848
- ExifImageWidth: 4288
- FlashFired: False
- FlashFunction: False
- FlashMode: Unknown
- FlashRedEyeMode: False
- FlashReturn: No return detection
- FocalLengthIn35mmFormat: 27
- XMP-tiff
- ImageHeight: 2848
- ImageWidth: 4288
- XMP-x
- XMP-xmp
- CreateDate: 2011:06:11 15:06:51.00+04:00
- CreatorTool: Ver.1.00
- ModifyDate: 2011:01:21 15:55:280Z
- Rating: 0
- Просмотров: 427
- Рейтинг: голосов еще нет
- Отзывов: 0