- Раздел: Путешествия
- Дата съёмки: 23.06.2011 16:12
- Дата загрузки фото: 25.06.2011 20:17
- Оригинальная фотография: 3972 x 2638 (2,8 Мб)
- Технические характеристики:
- Фотоаппарат: FujiFilm FinePix X100
- Выдержка: 1/450
- Гиперфокальное расстояние: inf m
- Диафрагма: 4,0
- Светочувствительность: 200
- Фокусное расстояние: 23,0 mm
- Экспокоррекция: -0,33
- Полный EXIF
- Adobe
- ColorTransform: YCbCr
- Composite
- Aperture: 4,0
- CircleOfConfusion: 0,036 mm
- FocalLength35efl: 23,0 mm
- HyperfocalDistance: inf m
- ScaleFactor35efl: 0,8
- ShutterSpeed: 1/450
- ExifIFD
- ApertureValue: 4,0
- BrightnessValue: 7,52
- CreateDate: 2011:06:23 16:12:17
- CustomRendered: Normal
- DateTimeOriginal: 2011:06:23 16:12:17
- ExposureCompensation: -0,33
- ExposureMode: Auto
- ExposureProgram: Aperture-priority AE
- ExposureTime: 1/450
- FNumber: 4,0
- Flash: Off, Did not fire
- FocalLength: 23,0 mm
- ISO: 200
- LightSource: Unknown
- MaxApertureValue: 2,0
- MeteringMode: Multi-segment
- SceneCaptureType: Standard
- SceneType: Directly photographed
- SensingMethod: One-chip color area
- SensitivityType: Standard Output Sensitivity
- Sharpness: Normal
- ShutterSpeedValue: 1/450
- SubjectDistanceRange: Unknown
- WhiteBalance: Auto
- ICC-header
- ICC-meas
- ICC-view
- IFD0
- Make: FUJIFILM
- Model: FinePix X100
- ModifyDate: 2011:06:25 16:52:16
- IFD1
- IPTC
- DateCreated: 2011:06:23
- System
- XMP-crs
- AlreadyApplied: True
- BlueHue: 0
- BlueSaturation: 0
- Brightness: +40
- ChromaticAberrationB: 0
- ChromaticAberrationR: 0
- Clarity: +47
- ColorNoiseReduction: 25
- ColorNoiseReductionDetail: 50
- Contrast: +43
- ConvertToGrayscale: False
- CropAngle: 0
- CropBottom: 0.97456
- CropConstrainToWarp: 0
- CropHeight: 2638
- CropLeft: 0.015648
- CropRight: 0.941991
- CropTop: 0.048219
- CropUnit: pixels
- CropWidth: 3972
- Defringe: 0
- Exposure: +0.45
- FillLight: 0
- GrainAmount: 0
- GreenHue: 0
- GreenSaturation: 0
- HasCrop: True
- HasSettings: True
- HighlightRecovery: 0
- HueAdjustmentAqua: 0
- HueAdjustmentBlue: 0
- HueAdjustmentGreen: 0
- HueAdjustmentMagenta: 0
- HueAdjustmentOrange: 0
- HueAdjustmentPurple: 0
- HueAdjustmentRed: 0
- HueAdjustmentYellow: 0
- LensManualDistortionAmount: 0
- LensProfileChromaticAberrationScale: 100
- LensProfileDistortionScale: 100
- LensProfileEnable: 1
- LensProfileFilename: Fujifilm FinePix X100.lcp
- LensProfileSetup: LensDefaults
- LensProfileVignettingScale: 100
- LuminanceAdjustmentAqua: 0
- LuminanceAdjustmentBlue: -70
- LuminanceAdjustmentGreen: 0
- LuminanceAdjustmentMagenta: 0
- LuminanceAdjustmentOrange: 0
- LuminanceAdjustmentPurple: 0
- LuminanceAdjustmentRed: 0
- LuminanceAdjustmentYellow: 0
- LuminanceNoiseReductionContrast: 0
- LuminanceNoiseReductionDetail: 50
- LuminanceSmoothing: 25
- ParametricDarks: 0
- ParametricHighlightSplit: 75
- ParametricHighlights: 0
- ParametricLights: 0
- ParametricMidtoneSplit: 50
- ParametricShadowSplit: 25
- ParametricShadows: 0
- PerspectiveHorizontal: 0
- PerspectiveRotate: 0.0
- PerspectiveScale: 100
- PerspectiveVertical: -10
- PostCropVignetteAmount: -13
- PostCropVignetteFeather: 50
- PostCropVignetteHighlightContrast: 0
- PostCropVignetteMidpoint: 70
- PostCropVignetteRoundness: 0
- PostCropVignetteStyle: 1
- ProcessVersion: 5.7
- RedHue: 0
- RedSaturation: 0
- Saturation: 0
- SaturationAdjustmentAqua: 0
- SaturationAdjustmentBlue: 0
- SaturationAdjustmentGreen: 0
- SaturationAdjustmentMagenta: 0
- SaturationAdjustmentOrange: 0
- SaturationAdjustmentPurple: 0
- SaturationAdjustmentRed: 0
- SaturationAdjustmentYellow: 0
- ShadowTint: 0
- Shadows: 2
- SharpenDetail: 25
- SharpenEdgeMasking: 0
- SharpenRadius: +0.6
- Sharpness: 50
- SplitToningBalance: 0
- SplitToningHighlightHue: 0
- SplitToningHighlightSaturation: 0
- SplitToningShadowHue: 0
- SplitToningShadowSaturation: 0
- Temperature: 5793
- Tint: +2
- ToneCurve: 0, 0, 32, 22, 64, 56, 128, 128, 192, 196, 255, 255
- ToneCurveName: Medium Contrast
- Version: 6.4.1
- Vibrance: 0
- VignetteAmount: 0
- WhiteBalance: Custom
- XMP-xmp
- ModifyDate: 2011:06:25 16:52:16+04:00
- Просмотров: 344
- Рейтинг: голосов еще нет
- Отзывов: 0