Уважаемые друзья и участники проекта iXBT.photo! К сожалению, 1 марта 2026 года проект iXBT.photo прекратит свою работу и будет закрыт. Мы высоко ценим ваше участие и тот вклад, который вы внесли в развитие нашего сообщества. Пожалуйста, не забудьте сохранить ваши фотографии до этой даты.
С уважением, команда iXBT.com
| _SAM0951.jpg |
_SAM0951.jpg
- Раздел: Пейзаж
- Дата съёмки: 18.06.2011 10:34
- Дата загрузки фото: 26.06.2011 21:32
- Оригинальная фотография: 1623 x 1080 (1,0 Мб)
- Технические характеристики:
- Фотоаппарат: Samsung NX100
- Выдержка: 1/320
- Диафрагма: 5,6
- Светочувствительность: 100
- Фокусное расстояние: 20,0 mm
- Экспокоррекция: -1,3
- Полный EXIF
- Adobe
- ColorTransform: YCbCr
- Composite
- Aperture: 5,6
- FocalLength35efl: 20,0 mm
- ShutterSpeed: 1/320
- ExifIFD
- ApertureValue: 5,6
- ColorSpace: sRGB
- CustomRendered: Custom
- DateTimeOriginal: 2011:06:18 10:34:19
- ExifImageHeight: 1080
- ExifImageWidth: 1623
- ExposureCompensation: -1,3
- ExposureProgram: Aperture-priority AE
- ExposureTime: 1/320
- FNumber: 5,6
- Flash: Off, Did not fire
- FocalLength: 20,0 mm
- ISO: 100
- LightSource: Other
- MeteringMode: Multi-segment
- SceneCaptureType: Standard
- ShutterSpeedValue: 1/320
- ICC-header
- ICC-meas
- ICC-view
- IFD0
- Make: SAMSUNG
- Model: NX100
- ModifyDate: 2011:06:26 21:29:14
- Orientation: Horizontal (normal)
- IFD1
- IPTC
- DateCreated: 2011:06:18
- System
- XMP-crs
- AlreadyApplied: True
- BlueHue: 0
- BlueSaturation: 0
- Brightness: 0
- CameraProfile: Embedded
- ChromaticAberrationB: 0
- ChromaticAberrationR: 0
- Clarity: 0
- ColorNoiseReduction: 0
- Contrast: +14
- ConvertToGrayscale: False
- Defringe: 0
- Exposure: +0.25
- FillLight: 40
- GrainAmount: 0
- GreenHue: 0
- GreenSaturation: 0
- HasCrop: False
- HasSettings: True
- HighlightRecovery: 30
- HueAdjustmentAqua: 0
- HueAdjustmentBlue: -5
- HueAdjustmentGreen: 0
- HueAdjustmentMagenta: 0
- HueAdjustmentOrange: 0
- HueAdjustmentPurple: 0
- HueAdjustmentRed: 0
- HueAdjustmentYellow: 0
- IncrementalTemperature: -5
- IncrementalTint: 0
- LensManualDistortionAmount: 0
- LensProfileEnable: 0
- LensProfileSetup: LensDefaults
- LuminanceAdjustmentAqua: -1
- LuminanceAdjustmentBlue: -36
- LuminanceAdjustmentGreen: 0
- LuminanceAdjustmentMagenta: 0
- LuminanceAdjustmentOrange: 0
- LuminanceAdjustmentPurple: 0
- LuminanceAdjustmentRed: 0
- LuminanceAdjustmentYellow: 0
- LuminanceSmoothing: 0
- ParametricDarks: +18
- ParametricHighlightSplit: 75
- ParametricHighlights: 0
- ParametricLights: 0
- ParametricMidtoneSplit: 50
- ParametricShadowSplit: 25
- ParametricShadows: +15
- PerspectiveHorizontal: 0
- PerspectiveRotate: 0.0
- PerspectiveScale: 100
- PerspectiveVertical: 0
- PostCropVignetteAmount: 0
- ProcessVersion: 5.7
- RawFileName: _SAM0951.tif
- RedHue: 0
- RedSaturation: 0
- Saturation: 0
- SaturationAdjustmentAqua: +1
- SaturationAdjustmentBlue: +32
- SaturationAdjustmentGreen: -21
- SaturationAdjustmentMagenta: 0
- SaturationAdjustmentOrange: 0
- SaturationAdjustmentPurple: 0
- SaturationAdjustmentRed: 0
- SaturationAdjustmentYellow: -2
- ShadowTint: 0
- Shadows: 2
- SharpenDetail: 25
- SharpenEdgeMasking: 0
- SharpenRadius: +1.0
- Sharpness: 0
- SplitToningBalance: 0
- SplitToningHighlightHue: 0
- SplitToningHighlightSaturation: 0
- SplitToningShadowHue: 0
- SplitToningShadowSaturation: 0
- ToneCurve: 0, 0, 241, 255
- ToneCurveName: Custom
- Version: 6.4
- Vibrance: 0
- VignetteAmount: 0
- WhiteBalance: Custom
- XMP-dc
- XMP-xmp
- CreateDate: 2011:06:18 10:34:19
- CreatorTool: Samsung RAW Converter 4 version 4.0.0.10
- ModifyDate: 2011:06:26 21:29:14+04:00
- Rating: 0
- XMP-xmpMM
Получить код для блога
| Вставка фотографии в текущем разрешении |
Вставка миниатюры |
HTML (для вставки в блог):
BBCode (для вставки в форум):
Ссылка на фото:
Ссылка на миниатюру:
- Послать ссылку другу
| Комментарии к фотографии |