- Раздел: Цветы
- Дата съёмки: 04.06.2011 15:07
- Дата загрузки фото: 01.07.2011 03:10
- Оригинальная фотография: 3000 x 2250 (3,2 Мб)
- Технические характеристики:
- Фотоаппарат: Canon PowerShot SX20 IS
- Выдержка: 1/320
- Гиперфокальное расстояние: inf m
- Диафрагма: 5,7
- Светочувствительность: 100
- Фокусное расстояние: 100,0 mm (35 mm equivalent: 700,0 mm)
- Экспокоррекция: -2/3
- Полный EXIF
- Composite
- Aperture: 5,7
- CircleOfConfusion: 0,004 mm
- DOF: inf (0,00 m - inf)
- FOV: 2,0 deg
- FocalLength35efl: 100,0 mm (35 mm equivalent: 700,0 mm)
- HyperfocalDistance: inf m
- ScaleFactor35efl: 7,4
- ShutterSpeed: 1/320
- ExifIFD
- ApertureValue: 5,7
- CreateDate: 2011:06:04 15:07:54
- CustomRendered: Normal
- DateTimeOriginal: 2011:06:04 15:07:54
- DigitalZoomRatio: 1
- ExifImageHeight: 2250
- ExifImageWidth: 3000
- ExposureCompensation: -2/3
- ExposureMode: Manual
- ExposureTime: 1/320
- FNumber: 5,7
- Flash: Off, Did not fire
- FocalLength: 100,0 mm
- ISO: 100
- MaxApertureValue: 5,7
- MeteringMode: Center-weighted average
- SceneCaptureType: Standard
- SensingMethod: One-chip color area
- ShutterSpeedValue: 1/320
- SubjectDistance: 4,27 m
- WhiteBalance: Auto
- ICC-header
- ICC-meas
- ICC-view
- IFD0
- Make: Canon
- Model: Canon PowerShot SX20 IS
- ModifyDate: 2011:07:01 02:07:19
- Orientation: Horizontal (normal)
- Software: Программа цифровой обработки изображений компании ACD Systems
- IFD1
- IPTC
- System
- XMP-aux
- ApproximateFocusDistance: 4,27
- Firmware: 1.02
- FlashCompensation: 0
- Lens: 5.0-100.0 mm
- LensInfo: 5-100mm f/?
- XMP-crs
- AlreadyApplied: True
- BlueHue: 0
- BlueSaturation: 0
- Brightness: 0
- CameraProfile: Embedded
- ChromaticAberrationB: 0
- ChromaticAberrationR: 0
- Clarity: +43
- ColorNoiseReduction: 0
- Contrast: 0
- ConvertToGrayscale: False
- Defringe: 2
- Exposure: 0.00
- FillLight: 0
- GrainAmount: 0
- GreenHue: 0
- GreenSaturation: 0
- HasCrop: False
- HasSettings: True
- HighlightRecovery: 17
- HueAdjustmentAqua: 0
- HueAdjustmentBlue: 0
- HueAdjustmentGreen: 0
- HueAdjustmentMagenta: 0
- HueAdjustmentOrange: 0
- HueAdjustmentPurple: 0
- HueAdjustmentRed: 0
- HueAdjustmentYellow: 0
- IncrementalTemperature: -5
- IncrementalTint: 0
- LensManualDistortionAmount: 0
- LensProfileEnable: 0
- LensProfileSetup: LensDefaults
- LuminanceAdjustmentAqua: 0
- LuminanceAdjustmentBlue: 0
- LuminanceAdjustmentGreen: 0
- LuminanceAdjustmentMagenta: 0
- LuminanceAdjustmentOrange: 0
- LuminanceAdjustmentPurple: 0
- LuminanceAdjustmentRed: 0
- LuminanceAdjustmentYellow: 0
- LuminanceSmoothing: 0
- ParametricDarks: -5
- ParametricHighlightSplit: 75
- ParametricHighlights: -29
- ParametricLights: 0
- ParametricMidtoneSplit: 50
- ParametricShadowSplit: 25
- ParametricShadows: 0
- PerspectiveHorizontal: 0
- PerspectiveRotate: 0.0
- PerspectiveScale: 100
- PerspectiveVertical: 0
- PostCropVignetteAmount: 0
- ProcessVersion: 5.7
- RedHue: 0
- RedSaturation: 0
- Saturation: +10
- SaturationAdjustmentAqua: 0
- SaturationAdjustmentBlue: 0
- SaturationAdjustmentGreen: 0
- SaturationAdjustmentMagenta: 0
- SaturationAdjustmentOrange: 0
- SaturationAdjustmentPurple: 0
- SaturationAdjustmentRed: 0
- SaturationAdjustmentYellow: 0
- ShadowTint: 0
- Shadows: 0
- SharpenDetail: 54
- SharpenEdgeMasking: 0
- SharpenRadius: +2.0
- Sharpness: 10
- SplitToningBalance: 0
- SplitToningHighlightHue: 0
- SplitToningHighlightSaturation: 0
- SplitToningShadowHue: 0
- SplitToningShadowSaturation: 0
- ToneCurve: 0, 0, 255, 255
- ToneCurveName: Linear
- Version: 6.2
- Vibrance: 0
- VignetteAmount: 0
- WhiteBalance: Custom
- XMP-dc
- XMP-exif
- DateTimeDigitized: 2011:06:04 15:07:54.0+2:00
- DateTimeOriginal: 2011:06:04 15:07:54.0+2:00
- ExifImageHeight: 3000
- ExifImageWidth: 4000
- FlashFired: False
- FlashFunction: False
- FlashMode: Off
- FlashRedEyeMode: False
- FlashReturn: No return detection
- XMP-tiff
- ImageHeight: 3000
- ImageWidth: 4000
- XMP-x
- XMP-xmp
- CreateDate: 2011:06:04 15:07:54+02:00
- ModifyDate: 2011:06:06 19:42:21.0+2:00
- Просмотров: 203
- Рейтинг: голосов еще нет
- Отзывов: 0