- Раздел: Другое, разное
- Дата съёмки: 02.07.2011 10:53
- Дата загрузки фото: 07.07.2011 14:32
- Оригинальная фотография: 800 x 533 (214 Кб)
- Технические характеристики:
- Фотоаппарат: Canon EOS 40D
- Выдержка: 1/640
- Гиперфокальное расстояние: inf m
- Диафрагма: 4,0
- Светочувствительность: 100
- Фокусное расстояние: 200,0 mm (35 mm equivalent: 1400,0 mm)
- Экспокоррекция: +1
- Полный EXIF
- Adobe
- ColorTransform: YCbCr
- Composite
- Aperture: 4,0
- CircleOfConfusion: 0,004 mm
- DOF: inf (0,00 m - inf)
- FOV: 1,0 deg
- FocalLength35efl: 200,0 mm (35 mm equivalent: 1400,0 mm)
- HyperfocalDistance: inf m
- ScaleFactor35efl: 7,9
- ShutterSpeed: 1/640
- ExifIFD
- ApertureValue: 4,0
- ColorSpace: sRGB
- CreateDate: 2011:07:02 10:53:58
- CustomRendered: Normal
- DateTimeOriginal: 2011:07:02 10:53:58
- ExifImageHeight: 533
- ExifImageWidth: 800
- ExposureCompensation: +1
- ExposureMode: Auto
- ExposureProgram: Aperture-priority AE
- ExposureTime: 1/640
- FNumber: 4,0
- Flash: Off, Did not fire
- FocalLength: 200,0 mm
- ISO: 100
- LensInfo: 70-200mm f/?
- LensModel: EF70-200mm f/4L USM
- MaxApertureValue: 4,0
- MeteringMode: Multi-segment
- OwnerName: But Viktor
- SceneCaptureType: Standard
- SensitivityType: Unknown
- SerialNumber: 730413298
- ShutterSpeedValue: 1/640
- SubjectDistance: 19,1 m
- WhiteBalance: Auto
- ICC-header
- ICC-meas
- ICC-view
- IFD0
- Artist: But Viktor
- BitsPerSample: 8 8 8
- ImageHeight: 2048
- ImageWidth: 3072
- Make: Canon
- Model: Canon EOS 40D
- ModifyDate: 2011:07:03 00:12:28
- Orientation: Horizontal (normal)
- PhotometricInterpretation: RGB
- SamplesPerPixel: 3
- XPKeywords: кроншнеп
- IFD1
- IPTC
- By-line: But Viktor
- DateCreated: 2011:07:02
- Keywords: кроншнеп
- Writer-Editor: Виктор Бут
- System
- XMP-aux
- ApproximateFocusDistance: 19,1
- Firmware: 1.1.1
- FlashCompensation: 0
- ImageNumber: 0
- Lens: EF70-200mm f/4L USM
- LensID: 186
- XMP-crs
- AlreadyApplied: True
- BlueHue: 0
- BlueSaturation: 0
- Brightness: +5
- ChromaticAberrationB: 0
- ChromaticAberrationR: 0
- Clarity: -6
- ColorNoiseReduction: 25
- ColorNoiseReductionDetail: 50
- Contrast: +50
- ConvertToGrayscale: False
- CropAngle: 0
- CropBottom: 0.951296
- CropConstrainToWarp: 0
- CropHeight: 2048
- CropLeft: 0.089345
- CropRight: 0.879509
- CropTop: 0.161132
- CropUnit: pixels
- CropWidth: 3072
- Defringe: 0
- Exposure: +0.60
- FillLight: 8
- GrainAmount: 0
- GreenHue: 0
- GreenSaturation: 0
- HasCrop: True
- HasSettings: True
- HighlightRecovery: 0
- HueAdjustmentAqua: 0
- HueAdjustmentBlue: 0
- HueAdjustmentGreen: 0
- HueAdjustmentMagenta: 0
- HueAdjustmentOrange: 0
- HueAdjustmentPurple: 0
- HueAdjustmentRed: 0
- HueAdjustmentYellow: 0
- LensManualDistortionAmount: 0
- LensProfileEnable: 0
- LensProfileSetup: LensDefaults
- LuminanceAdjustmentAqua: 0
- LuminanceAdjustmentBlue: 0
- LuminanceAdjustmentGreen: 0
- LuminanceAdjustmentMagenta: 0
- LuminanceAdjustmentOrange: 0
- LuminanceAdjustmentPurple: 0
- LuminanceAdjustmentRed: 0
- LuminanceAdjustmentYellow: 0
- LuminanceSmoothing: 0
- ParametricDarks: 0
- ParametricHighlightSplit: 75
- ParametricHighlights: 0
- ParametricLights: 0
- ParametricMidtoneSplit: 50
- ParametricShadowSplit: 25
- ParametricShadows: 0
- PerspectiveHorizontal: 0
- PerspectiveRotate: 0.0
- PerspectiveScale: 100
- PerspectiveVertical: 0
- PostCropVignetteAmount: 0
- ProcessVersion: 5.7
- RedHue: 0
- RedSaturation: 0
- Saturation: +6
- SaturationAdjustmentAqua: 0
- SaturationAdjustmentBlue: 0
- SaturationAdjustmentGreen: 0
- SaturationAdjustmentMagenta: 0
- SaturationAdjustmentOrange: 0
- SaturationAdjustmentPurple: 0
- SaturationAdjustmentRed: 0
- SaturationAdjustmentYellow: 0
- ShadowTint: 0
- Shadows: 13
- SharpenDetail: 25
- SharpenEdgeMasking: 0
- SharpenRadius: +1.0
- Sharpness: 25
- SplitToningBalance: 0
- SplitToningHighlightHue: 0
- SplitToningHighlightSaturation: 0
- SplitToningShadowHue: 0
- SplitToningShadowSaturation: 0
- Temperature: 4750
- Tint: +15
- ToneCurve: 0, 0, 32, 22, 64, 56, 128, 128, 192, 196, 255, 255
- ToneCurveName: Medium Contrast
- Version: 6.2
- Vibrance: +3
- VignetteAmount: 0
- WhiteBalance: As Shot
- XMP-dc
- Creator: But Viktor
- Format: image/jpeg
- Subject: кроншнеп
- XMP-iptcCore
- CreatorWorkURL: www.viktor-byt.ru
- XMP-microsoft
- LastKeywordIPTC: кроншнеп
- LastKeywordXMP: кроншнеп
- XMP-xmp
- CreateDate: 2011:07:02 10:53:58.00+11:00
- ModifyDate: 2011:07:03 00:12:28+11:00
- XMP-xmpMM
- XMP-xmpRights
- WebStatement: www.viktor-byt.ru
- Просмотров: 579
- Рейтинг: голосов еще нет
- Отзывов: отключены