- Раздел: Город
- Дата съёмки: 10.07.2011 19:52
- Дата загрузки фото: 16.07.2011 00:29
- Оригинальная фотография: 1280 x 938 (311 Кб)
- Технические характеристики:
- Фотоаппарат: Canon EOS 550D
- Выдержка: 1/20
- Диафрагма: 6,3
- Светочувствительность: 800
- Фокусное расстояние: 10,0 mm
- Полный EXIF
- Adobe
- ColorTransform: Unknown (RGB or CMYK)
- Composite
- Aperture: 6,3
- FocalLength35efl: 10,0 mm
- ShutterSpeed: 1/20
- ExifIFD
- ColorSpace: Uncalibrated
- DateTimeOriginal: 2011:07:10 19:52:09
- ExifImageHeight: 938
- ExifImageWidth: 1280
- ExposureTime: 1/20
- FNumber: 6,3
- FocalLength: 10,0 mm
- ISO: 800
- ICC-header
- IFD0
- Artist: Yuras
- BitsPerSample: 8
- ImageHeight: 2859
- ImageWidth: 4000
- Model: Canon EOS 550D
- ModifyDate: 2011:07:15 23:26:16
- Orientation: Horizontal (normal)
- PhotometricInterpretation: BlackIsZero
- SamplesPerPixel: 1
- IFD1
- IPTC
- By-line: Yuras
- System
- XMP-aux
- Firmware: 1.0.9
- FlashCompensation: 0
- ImageNumber: 0
- Lens: 10-20mm
- LensID: 152
- LensInfo: 10-20mm f/?
- OwnerName: Yuras
- SerialNumber: 1331701938
- XMP-crs
- AlreadyApplied: True
- BlueHue: 0
- BlueSaturation: 0
- Brightness: +50
- ChromaticAberrationB: 0
- ChromaticAberrationR: 0
- Clarity: 0
- ColorNoiseReduction: 53
- Contrast: +25
- ConvertToGrayscale: False
- Defringe: 0
- Exposure: +1.00
- FillLight: 5
- GrainAmount: 0
- GreenHue: 0
- GreenSaturation: 0
- HasCrop: False
- HasSettings: True
- HighlightRecovery: 0
- HueAdjustmentAqua: 0
- HueAdjustmentBlue: 0
- HueAdjustmentGreen: 0
- HueAdjustmentMagenta: 0
- HueAdjustmentOrange: 0
- HueAdjustmentPurple: 0
- HueAdjustmentRed: 0
- HueAdjustmentYellow: 0
- LuminanceAdjustmentAqua: 0
- LuminanceAdjustmentBlue: 0
- LuminanceAdjustmentGreen: 0
- LuminanceAdjustmentMagenta: 0
- LuminanceAdjustmentOrange: 0
- LuminanceAdjustmentPurple: 0
- LuminanceAdjustmentRed: 0
- LuminanceAdjustmentYellow: 0
- LuminanceSmoothing: 50
- ParametricDarks: 0
- ParametricHighlightSplit: 75
- ParametricHighlights: 0
- ParametricLights: 0
- ParametricMidtoneSplit: 50
- ParametricShadowSplit: 25
- ParametricShadows: 0
- PostCropVignetteAmount: 0
- ProcessVersion: 5.0
- RawFileName: IMG_1739.CR2
- RedHue: 0
- RedSaturation: 0
- Saturation: +18
- SaturationAdjustmentAqua: 0
- SaturationAdjustmentBlue: 0
- SaturationAdjustmentGreen: 0
- SaturationAdjustmentMagenta: 0
- SaturationAdjustmentOrange: 0
- SaturationAdjustmentPurple: 0
- SaturationAdjustmentRed: 0
- SaturationAdjustmentYellow: 0
- ShadowTint: 0
- Shadows: 0
- SharpenDetail: 25
- SharpenEdgeMasking: 0
- SharpenRadius: +1.0
- Sharpness: 25
- SplitToningBalance: 0
- SplitToningHighlightHue: 0
- SplitToningHighlightSaturation: 0
- SplitToningShadowHue: 0
- SplitToningShadowSaturation: 0
- Temperature: 6650
- Tint: +28
- ToneCurve: 0, 0, 32, 22, 64, 56, 128, 128, 192, 196, 255, 255
- ToneCurveName: Medium Contrast
- Version: 5.7
- Vibrance: -3
- VignetteAmount: 0
- WhiteBalance: As Shot
- XMP-dc
- Creator: Yuras
- Format: image/jpeg
- XMP-exif
- DateTimeOriginal: 2011:07:10 19:52:09+03:00
- XMP-pmtm
- BlackClip: 0.030900
- ColorSaturation: 0.0
- ColorTemperature: 0.0
- Gamma: 1.4
- HighlightsSmoothing: 5.0
- Luminosity: -2.5
- Method: Details Enhancer
- Microcontrast: 10.0
- Microsmoothing: 6.0
- SaturationHighlights: 0.0
- SaturationShadows: 0.0
- ShadowsClipping: 0.0
- ShadowsSmoothing: 18.0
- Smoothing: 3.3
- SmoothingMode: Slider
- Strength: 100.0
- Version: 4.0
- WhiteClip: 1.129400
- XMP-tiff
- BitsPerSample: 16
- XMP-xmp
- CreateDate: 2011:07:10 19:52:09.61+03:00
- ModifyDate: 2011:07:15 23:26:16+03:00
- Rating: 0
- XMP-xmpMM