- Раздел: Автомобили
- Дата съёмки: 17.07.2011 23:46
- Дата загрузки фото: 18.07.2011 00:22
- Оригинальная фотография: 2600 x 1733 (751 Кб)
- Технические характеристики:
- Фотоаппарат: Canon EOS 550D
- Выдержка: 0,3
- Гиперфокальное расстояние: inf m
- Диафрагма: 4,5
- Светочувствительность: 200
- Фокусное расстояние: 28,0 mm (35 mm equivalent: 84,0 mm)
- Экспокоррекция: +1/3
- Полный EXIF
- Adobe
- ColorTransform: YCbCr
- Composite
- Aperture: 4,5
- CircleOfConfusion: 0,010 mm
- FOV: 24,0 deg
- FocalLength35efl: 28,0 mm (35 mm equivalent: 84,0 mm)
- HyperfocalDistance: inf m
- ScaleFactor35efl: 3,1
- ShutterSpeed: 0,3
- ExifIFD
- ApertureValue: 4,5
- ColorSpace: Uncalibrated
- CreateDate: 2011:07:17 23:46:19
- CustomRendered: Normal
- DateTimeOriginal: 2011:07:17 23:46:19
- ExifImageHeight: 1733
- ExifImageWidth: 2600
- ExposureCompensation: +1/3
- ExposureMode: Auto
- ExposureProgram: Aperture-priority AE
- ExposureTime: 0,3
- FNumber: 4,5
- Flash: Off, Did not fire
- FocalLength: 28,0 mm
- ISO: 200
- LensInfo: 17-85mm f/?
- LensModel: EF-S17-85mm f/4-5.6 IS USM
- MaxApertureValue: 4,6
- MeteringMode: Multi-segment
- SceneCaptureType: Standard
- SensitivityType: Unknown
- SerialNumber: 632251148
- ShutterSpeedValue: 0,3
- SubjectDistance: 0,72 m
- WhiteBalance: Auto
- ICC-header
- IFD0
- Artist: NRG
- BitsPerSample: 8 8 8
- ImageHeight: 3456
- ImageWidth: 5184
- Make: Canon
- Model: Canon EOS 550D
- ModifyDate: 2011:07:18 00:20:03
- Orientation: Horizontal (normal)
- PhotometricInterpretation: RGB
- SamplesPerPixel: 3
- IFD1
- IPTC
- By-line: NRG
- DateCreated: 2011:07:17
- System
- XMP-aux
- ApproximateFocusDistance: 0,72
- Firmware: 1.0.6
- FlashCompensation: 0
- ImageNumber: 0
- Lens: EF-S17-85mm f/4-5.6 IS USM
- LensID: 234
- XMP-crs
- AlreadyApplied: True
- BlueHue: 0
- BlueSaturation: 0
- Brightness: +17
- ChromaticAberrationB: 0
- ChromaticAberrationR: 0
- Clarity: 0
- ColorNoiseReduction: 25
- ColorNoiseReductionDetail: 50
- Contrast: +41
- ConvertToGrayscale: False
- Defringe: 0
- Exposure: +1.20
- FillLight: 0
- GrainAmount: 0
- GreenHue: 0
- GreenSaturation: 0
- HasCrop: False
- HasSettings: True
- HighlightRecovery: 10
- HueAdjustmentAqua: 0
- HueAdjustmentBlue: 0
- HueAdjustmentGreen: 0
- HueAdjustmentMagenta: 0
- HueAdjustmentOrange: 0
- HueAdjustmentPurple: 0
- HueAdjustmentRed: 0
- HueAdjustmentYellow: 0
- LensManualDistortionAmount: 0
- LensProfileEnable: 0
- LensProfileSetup: LensDefaults
- LuminanceAdjustmentAqua: 0
- LuminanceAdjustmentBlue: 0
- LuminanceAdjustmentGreen: 0
- LuminanceAdjustmentMagenta: 0
- LuminanceAdjustmentOrange: 0
- LuminanceAdjustmentPurple: 0
- LuminanceAdjustmentRed: 0
- LuminanceAdjustmentYellow: 0
- LuminanceSmoothing: 0
- ParametricDarks: 0
- ParametricHighlightSplit: 75
- ParametricHighlights: 0
- ParametricLights: 0
- ParametricMidtoneSplit: 50
- ParametricShadowSplit: 25
- ParametricShadows: 0
- PerspectiveHorizontal: 0
- PerspectiveRotate: 0.0
- PerspectiveScale: 100
- PerspectiveVertical: 0
- PostCropVignetteAmount: 0
- ProcessVersion: 5.7
- RawFileName: _MG_6263.CR2
- RedHue: 0
- RedSaturation: 0
- Saturation: 0
- SaturationAdjustmentAqua: 0
- SaturationAdjustmentBlue: 0
- SaturationAdjustmentGreen: 0
- SaturationAdjustmentMagenta: 0
- SaturationAdjustmentOrange: 0
- SaturationAdjustmentPurple: 0
- SaturationAdjustmentRed: 0
- SaturationAdjustmentYellow: 0
- ShadowTint: 0
- Shadows: 20
- SharpenDetail: 25
- SharpenEdgeMasking: 0
- SharpenRadius: +1.0
- Sharpness: 25
- SplitToningBalance: 0
- SplitToningHighlightHue: 0
- SplitToningHighlightSaturation: 0
- SplitToningShadowHue: 0
- SplitToningShadowSaturation: 0
- Temperature: 2500
- Tint: -2
- ToneCurve: 0, 0, 32, 22, 64, 56, 128, 128, 192, 196, 255, 255
- ToneCurveName: Medium Contrast
- Version: 6.3
- Vibrance: 0
- VignetteAmount: 0
- WhiteBalance: Custom
- XMP-dc
- Creator: NRG
- Format: image/jpeg
- XMP-xmp
- CreateDate: 2011:07:17 23:46:19.00+04:00
- ModifyDate: 2011:07:18 00:20:03+04:00
- Rating: 0
- XMP-xmpMM
- Просмотров: 317
- Рейтинг: голосов еще нет
- Отзывов: 0