Уважаемые друзья и участники проекта iXBT.photo! К сожалению, 1 марта 2026 года проект iXBT.photo прекратит свою работу и будет закрыт. Мы высоко ценим ваше участие и тот вклад, который вы внесли в развитие нашего сообщества. Пожалуйста, не забудьте сохранить ваши фотографии до этой даты.
С уважением, команда iXBT.com
| IMG_8667.jpg |
IMG_8667.jpg
- Раздел: Портрет
- Дата съёмки: 08.07.2011 22:37
- Дата загрузки фото: 19.07.2011 00:21
- Оригинальная фотография: 1499 x 999 (254 Кб)
- Технические характеристики:
- Фотоаппарат: Canon EOS 1000D
- Выдержка: 1/1250
- Гиперфокальное расстояние: inf m
- Диафрагма: 2,8
- Светочувствительность: 200
- Фокусное расстояние: 50,0 mm (35 mm equivalent: 200,0 mm)
- Экспокоррекция: +1/3
- Полный EXIF
- Adobe
- ColorTransform: YCbCr
- Composite
- Aperture: 2,8
- CircleOfConfusion: 0,007 mm
- FOV: 10,0 deg
- FocalLength35efl: 50,0 mm (35 mm equivalent: 200,0 mm)
- HyperfocalDistance: inf m
- ScaleFactor35efl: 4,2
- ShutterSpeed: 1/1250
- ExifIFD
- ApertureValue: 2,8
- CreateDate: 2011:07:08 22:37:51
- CustomRendered: Normal
- DateTimeOriginal: 2011:07:08 22:37:51
- ExposureCompensation: +1/3
- ExposureMode: Auto
- ExposureProgram: Aperture-priority AE
- ExposureTime: 1/1250
- FNumber: 2,8
- Flash: Off, Did not fire
- FocalLength: 50,0 mm
- ISO: 200
- LensInfo: 50mm f/?
- LensModel: EF50mm f/1.8 II
- MaxApertureValue: 1,8
- MeteringMode: Multi-segment
- OwnerName: Vlasov
- SceneCaptureType: Standard
- SensitivityType: Unknown
- SerialNumber: 1380312588
- ShutterSpeedValue: 1/1250
- WhiteBalance: Auto
- ICC-header
- ICC-meas
- ICC-view
- IFD0
- Artist: Vlasov
- Make: Canon
- Model: Canon EOS 1000D
- ModifyDate: 2011:07:13 23:16:40
- IFD1
- IPTC
- By-line: Vlasov
- System
- XMP-aux
- Firmware: 1.0.5
- FlashCompensation: 0
- ImageNumber: 0
- Lens: EF50mm f/1.8 II
- LensID: 29
- XMP-crs
- AlreadyApplied: True
- BlueHue: -54
- BlueSaturation: -45
- Brightness: +44
- CameraProfile: ACR 4.6
- ChromaticAberrationB: 0
- ChromaticAberrationR: 0
- Clarity: +33
- ColorNoiseReduction: 100
- ColorNoiseReductionDetail: 50
- Contrast: +47
- ConvertToGrayscale: False
- CropAngle: 0
- CropBottom: 0.993094
- CropConstrainToWarp: 0
- CropHeight: 999
- CropLeft: 0
- CropRight: 0.872007
- CropTop: 0.121087
- CropUnit: pixels
- CropWidth: 1499
- Defringe: 2
- Exposure: +0.40
- FillLight: 18
- GrainAmount: 0
- GreenHue: +59
- GreenSaturation: 0
- HasCrop: True
- HasSettings: True
- HighlightRecovery: 30
- HueAdjustmentAqua: +27
- HueAdjustmentBlue: -19
- HueAdjustmentGreen: +21
- HueAdjustmentMagenta: +23
- HueAdjustmentOrange: +22
- HueAdjustmentPurple: +3
- HueAdjustmentRed: -15
- HueAdjustmentYellow: +38
- LensManualDistortionAmount: 0
- LensProfileEnable: 0
- LensProfileSetup: LensDefaults
- LuminanceAdjustmentAqua: 0
- LuminanceAdjustmentBlue: +23
- LuminanceAdjustmentGreen: +5
- LuminanceAdjustmentMagenta: +21
- LuminanceAdjustmentOrange: +55
- LuminanceAdjustmentPurple: 0
- LuminanceAdjustmentRed: +20
- LuminanceAdjustmentYellow: +6
- LuminanceNoiseReductionContrast: 0
- LuminanceNoiseReductionDetail: 50
- LuminanceSmoothing: 36
- ParametricDarks: +28
- ParametricHighlightSplit: 75
- ParametricHighlights: +28
- ParametricLights: -9
- ParametricMidtoneSplit: 50
- ParametricShadowSplit: 25
- ParametricShadows: -7
- PerspectiveHorizontal: 0
- PerspectiveRotate: 0.0
- PerspectiveScale: 100
- PerspectiveVertical: 0
- PostCropVignetteAmount: 0
- ProcessVersion: 5.7
- RedHue: +2
- RedSaturation: -28
- Saturation: +3
- SaturationAdjustmentAqua: +21
- SaturationAdjustmentBlue: +33
- SaturationAdjustmentGreen: -31
- SaturationAdjustmentMagenta: +27
- SaturationAdjustmentOrange: +10
- SaturationAdjustmentPurple: +27
- SaturationAdjustmentRed: -27
- SaturationAdjustmentYellow: +10
- ShadowTint: +64
- Shadows: 3
- SharpenDetail: 14
- SharpenEdgeMasking: 0
- SharpenRadius: +0.8
- Sharpness: 80
- SplitToningBalance: +38
- SplitToningHighlightHue: 66
- SplitToningHighlightSaturation: 30
- SplitToningShadowHue: 201
- SplitToningShadowSaturation: 41
- Temperature: 6050
- Tint: +18
- ToneCurve: 0, 0, 32, 22, 64, 56, 128, 128, 192, 196, 255, 255
- ToneCurveName: Medium Contrast
- Version: 6.3
- Vibrance: -40
- VignetteAmount: -25
- VignetteMidpoint: 50
- WhiteBalance: Custom
- XMP-dc
- XMP-exif
- DateTimeDigitized: 2011:07:08 22:37:51.03+04:00
- DateTimeOriginal: 2011:07:08 22:37:51.03+04:00
- ExifImageHeight: 999
- ExifImageWidth: 1499
- FlashFired: False
- FlashFunction: False
- FlashMode: Off
- FlashRedEyeMode: False
- FlashReturn: No return detection
- XMP-tiff
- ImageHeight: 999
- ImageWidth: 1499
- XMP-xmp
- CreateDate: 2011:07:08 22:37:51.03+04:00
- ModifyDate: 2011:07:13 23:16:40+04:00
Получить код для блога
| Вставка фотографии в текущем разрешении |
Вставка миниатюры |
HTML (для вставки в блог):
BBCode (для вставки в форум):
Ссылка на фото:
Ссылка на миниатюру:
- Послать ссылку другу
| Комментарии к фотографии |