Уважаемые друзья и участники проекта iXBT.photo! К сожалению, 1 марта 2026 года проект iXBT.photo прекратит свою работу и будет закрыт. Мы высоко ценим ваше участие и тот вклад, который вы внесли в развитие нашего сообщества. Пожалуйста, не забудьте сохранить ваши фотографии до этой даты.
С уважением, команда iXBT.com
| DSC_4823__11.jpg |
DSC_4823__11.jpg
- Раздел: Портрет
- Дата съёмки: 27.07.2011 11:12
- Дата загрузки фото: 27.07.2011 15:13
- Оригинальная фотография: 1283 x 700 (228 Кб)
- Технические характеристики:
- Фотоаппарат: Nikon D90
- Выдержка: 1/640
- Гиперфокальное расстояние: inf m
- Диафрагма: 4,0
- Светочувствительность: 250
- Фокусное расстояние: 62,0 mm (35 mm equivalent: 62,0 mm)
- Полный EXIF
- Adobe
- ColorTransform: YCbCr
- Composite
- Aperture: 4,0
- CircleOfConfusion: 0,020 mm
- DOF: inf (0,00 m - inf)
- FOV: 32,0 deg
- FocalLength35efl: 62,0 mm (35 mm equivalent: 62,0 mm)
- HyperfocalDistance: inf m
- ScaleFactor35efl: 1,5
- ShutterSpeed: 1/640
- ExifIFD
- ApertureValue: 4,0
- CFAPattern: [Green,Blue][Red,Green]
- ColorSpace: sRGB
- Contrast: Normal
- CreateDate: 2011:07:27 11:12:55
- CustomRendered: Normal
- DateTimeOriginal: 2011:07:27 11:12:55
- DigitalZoomRatio: 1
- ExifImageHeight: 700
- ExifImageWidth: 1283
- ExposureCompensation: 0
- ExposureMode: Manual
- ExposureProgram: Manual
- ExposureTime: 1/640
- FNumber: 4,0
- Flash: On, Return detected
- FocalLength: 62,0 mm
- FocalLengthIn35mmFormat: 93 mm
- GainControl: None
- ISO: 250
- LightSource: Unknown
- MaxApertureValue: 2,8
- MeteringMode: Multi-segment
- Saturation: Normal
- SceneCaptureType: Portrait
- SceneType: Directly photographed
- SensingMethod: One-chip color area
- Sharpness: Normal
- ShutterSpeedValue: 1/640
- SubjectDistance: 3162 m
- SubjectDistanceRange: Unknown
- WhiteBalance: Auto
- ICC-header
- ICC-meas
- ICC-view
- IFD0
- Make: NIKON CORPORATION
- Model: NIKON D90
- ModifyDate: 2011:07:27 16:12:00
- Orientation: Horizontal (normal)
- IFD1
- IPTC
- System
- XMP-aux
- ImageNumber: 5111
- Lens: 28.0-70.0 mm f/2.8
- LensID: 37
- LensInfo: 28-70mm f/2.8
- SerialNumber: 2278505
- XMP-crs
- AlreadyApplied: True
- BlueHue: 0
- BlueSaturation: 0
- Brightness: +30
- CameraProfile: Camera D2X Mode 3 v3
- ChromaticAberrationB: 0
- ChromaticAberrationR: 0
- Clarity: +100
- ColorNoiseReduction: 25
- Contrast: -50
- ConvertToGrayscale: False
- CropAngle: 0
- CropBottom: 0.902622
- CropHeight: 1920
- CropLeft: 0.176617
- CropRight: 0.997512
- CropTop: 0.228464
- CropUnit: pixels
- CropWidth: 3520
- Defringe: 0
- Exposure: +0.27
- FillLight: 38
- GreenHue: 0
- GreenSaturation: 0
- HasCrop: True
- HasSettings: True
- HighlightRecovery: 13
- HueAdjustmentAqua: +11
- HueAdjustmentBlue: 0
- HueAdjustmentGreen: 0
- HueAdjustmentMagenta: 0
- HueAdjustmentOrange: 0
- HueAdjustmentPurple: 0
- HueAdjustmentRed: 0
- HueAdjustmentYellow: 0
- LuminanceAdjustmentAqua: 0
- LuminanceAdjustmentBlue: -9
- LuminanceAdjustmentGreen: +3
- LuminanceAdjustmentMagenta: 0
- LuminanceAdjustmentOrange: 0
- LuminanceAdjustmentPurple: 0
- LuminanceAdjustmentRed: 0
- LuminanceAdjustmentYellow: 0
- LuminanceSmoothing: 0
- ParametricDarks: -7
- ParametricHighlightSplit: 75
- ParametricHighlights: +38
- ParametricLights: +29
- ParametricMidtoneSplit: 50
- ParametricShadowSplit: 25
- ParametricShadows: -47
- PostCropVignetteAmount: 0
- RedHue: 0
- RedSaturation: 0
- Saturation: -33
- SaturationAdjustmentAqua: +12
- SaturationAdjustmentBlue: +94
- SaturationAdjustmentGreen: +44
- SaturationAdjustmentMagenta: +41
- SaturationAdjustmentOrange: +3
- SaturationAdjustmentPurple: 0
- SaturationAdjustmentRed: 0
- SaturationAdjustmentYellow: 0
- ShadowTint: 0
- Shadows: 22
- SharpenDetail: 25
- SharpenEdgeMasking: 0
- SharpenRadius: +1.0
- Sharpness: 25
- SplitToningBalance: -8
- SplitToningHighlightHue: 55
- SplitToningHighlightSaturation: 46
- SplitToningShadowHue: 37
- SplitToningShadowSaturation: 15
- Temperature: 5200
- Tint: +28
- ToneCurve: 0, 0, 32, 22, 64, 56, 128, 128, 192, 196, 255, 255
- ToneCurveName: Medium Contrast
- Version: 5.7
- Vibrance: +2
- VignetteAmount: -11
- VignetteMidpoint: 0
- WhiteBalance: Custom
- XMP-dc
- XMP-exif
- DateTimeDigitized: 2011:07:27 11:12:55.00+07:00
- DateTimeOriginal: 2011:07:27 11:12:55.00+07:00
- FlashFired: True
- FlashFunction: False
- FlashMode: On
- FlashRedEyeMode: False
- FlashReturn: Return detected
- XMP-tiff
- ImageHeight: 1920
- ImageWidth: 3520
- XMP-xmp
- CreateDate: 2011:07:27 11:12:55.00+07:00
- ModifyDate: 2011:07:27 16:12+07:00
- XMP-xmpMM
Получить код для блога
| Вставка фотографии в текущем разрешении |
Вставка миниатюры |
HTML (для вставки в блог):
BBCode (для вставки в форум):
Ссылка на фото:
Ссылка на миниатюру:
- Послать ссылку другу
| Комментарии к фотографии |