Уважаемые друзья и участники проекта iXBT.photo! К сожалению, 1 марта 2026 года проект iXBT.photo прекратит свою работу и будет закрыт. Мы высоко ценим ваше участие и тот вклад, который вы внесли в развитие нашего сообщества. Пожалуйста, не забудьте сохранить ваши фотографии до этой даты.
С уважением, команда iXBT.com
| Ай-Петри |
Ай-Петри
Вид на побережье с айпетринского плато.
- Раздел: Пейзаж
- Дата съёмки: 07.07.2011 17:17
- Дата загрузки фото: 28.07.2011 13:50
- Оригинальная фотография: 10173 x 1990 (12,1 Мб)
- Технические характеристики:
- Фотоаппарат: Canon EOS 20D
- Выдержка: 1/500
- Диафрагма: 8,0
- Светочувствительность: 100
- Фокусное расстояние: 50,0 mm
- Полный EXIF
- Adobe
- ColorTransform: YCbCr
- Composite
- Aperture: 8,0
- FocalLength35efl: 50,0 mm
- ShutterSpeed: 1/500
- ExifIFD
- ApertureValue: 8,0
- ColorSpace: sRGB
- CreateDate: 2011:07:07 17:17:45
- CustomRendered: Normal
- DateTimeOriginal: 2011:07:07 17:17:45
- ExifImageHeight: 1990
- ExifImageWidth: 10173
- ExposureCompensation: 0
- ExposureMode: Manual
- ExposureProgram: Manual
- ExposureTime: 1/500
- FNumber: 8,0
- Flash: Off, Did not fire
- FocalLength: 50,0 mm
- ISO: 100
- LensInfo: 50mm f/?
- LensModel: 50.0 mm
- MaxApertureValue: 1,8
- MeteringMode: Multi-segment
- OwnerName: unknown
- SceneCaptureType: Standard
- SerialNumber: 820410131
- ShutterSpeedValue: 1/500
- WhiteBalance: Auto
- ICC-header
- ICC-meas
- ICC-view
- IFD0
- Artist: unknown
- BitsPerSample: 8 8 8
- ImageHeight: 2183
- ImageWidth: 3276
- Make: Canon
- Model: Canon EOS 20D
- ModifyDate: 2011:07:27 23:33:29
- Orientation: Horizontal (normal)
- PhotometricInterpretation: RGB
- PlanarConfiguration: Chunky
- SamplesPerPixel: 3
- IFD1
- IPTC
- By-line: unknown
- DateCreated: 2011:07:07
- System
- XMP-aux
- Firmware: 2.0.3
- FlashCompensation: 0
- ImageNumber: 46
- Lens: 50.0 mm
- XMP-crs
- AlreadyApplied: True
- BlueHue: 0
- BlueSaturation: 0
- Brightness: +50
- CameraProfile: Camera Standard
- ChromaticAberrationB: 0
- ChromaticAberrationR: 0
- Clarity: 0
- ColorNoiseReduction: 25
- ColorNoiseReductionDetail: 50
- Contrast: +25
- ConvertToGrayscale: False
- CropAngle: -2.71102
- CropBottom: 0.933683
- CropConstrainToWarp: 0
- CropHeight: 2183
- CropLeft: 0.018421
- CropRight: 0.981579
- CropTop: 0.066317
- CropUnit: pixels
- CropWidth: 3276
- Defringe: 0
- Exposure: 0.00
- FillLight: 30
- GrainAmount: 0
- GreenHue: 0
- GreenSaturation: 0
- HasCrop: True
- HasSettings: True
- HighlightRecovery: 0
- HueAdjustmentAqua: 0
- HueAdjustmentBlue: 0
- HueAdjustmentGreen: 0
- HueAdjustmentMagenta: 0
- HueAdjustmentOrange: 0
- HueAdjustmentPurple: 0
- HueAdjustmentRed: 0
- HueAdjustmentYellow: 0
- LensManualDistortionAmount: 0
- LensProfileEnable: 0
- LensProfileSetup: LensDefaults
- LuminanceAdjustmentAqua: 0
- LuminanceAdjustmentBlue: -16
- LuminanceAdjustmentGreen: +50
- LuminanceAdjustmentMagenta: 0
- LuminanceAdjustmentOrange: 0
- LuminanceAdjustmentPurple: 0
- LuminanceAdjustmentRed: 0
- LuminanceAdjustmentYellow: 0
- LuminanceNoiseReductionContrast: 0
- LuminanceNoiseReductionDetail: 50
- LuminanceSmoothing: 15
- ParametricDarks: 0
- ParametricHighlightSplit: 75
- ParametricHighlights: 0
- ParametricLights: 0
- ParametricMidtoneSplit: 50
- ParametricShadowSplit: 25
- ParametricShadows: 0
- PerspectiveHorizontal: 0
- PerspectiveRotate: 0.0
- PerspectiveScale: 100
- PerspectiveVertical: 0
- PostCropVignetteAmount: 0
- ProcessVersion: 5.7
- RedHue: 0
- RedSaturation: 0
- Saturation: 0
- SaturationAdjustmentAqua: 0
- SaturationAdjustmentBlue: +50
- SaturationAdjustmentGreen: +34
- SaturationAdjustmentMagenta: 0
- SaturationAdjustmentOrange: 0
- SaturationAdjustmentPurple: 0
- SaturationAdjustmentRed: 0
- SaturationAdjustmentYellow: 0
- ShadowTint: 0
- Shadows: 5
- SharpenDetail: 25
- SharpenEdgeMasking: 0
- SharpenRadius: +1.0
- Sharpness: 0
- SplitToningBalance: 0
- SplitToningHighlightHue: 0
- SplitToningHighlightSaturation: 0
- SplitToningShadowHue: 0
- SplitToningShadowSaturation: 0
- Temperature: 5600
- Tint: +6
- ToneCurve: 0, 0, 32, 22, 64, 56, 128, 128, 192, 196, 255, 255
- ToneCurveName: Medium Contrast
- Version: 6.4
- Vibrance: 0
- VignetteAmount: 0
- WhiteBalance: As Shot
- XMP-dc
- Creator: unknown
- Format: image/jpeg
- XMP-exif
- DateTimeDigitized: 2011:07:07 17:17:45+03:00
- DateTimeOriginal: 2011:07:07 17:17:45+03:00
- FlashFired: False
- FlashFunction: False
- FlashMode: Off
- FlashRedEyeMode: False
- FlashReturn: No return detection
- XMP-tiff
- BitsPerSample: 8, 8, 8
- XMP-xmp
- CreateDate: 2011:07:27 23:33:29+03:00
- ModifyDate: 2011:07:27 23:33:29+03:00
- XMP-xmpMM
- Просмотров: 309
- Рейтинг: голосов еще нет
- Отзывов: 0
Получить код для блога
| Вставка фотографии в текущем разрешении |
Вставка миниатюры |
HTML (для вставки в блог):
BBCode (для вставки в форум):
Ссылка на фото:
Ссылка на миниатюру:
- Послать ссылку другу
| Комментарии к фотографии |