Уважаемые друзья и участники проекта iXBT.photo! К сожалению, 1 марта 2026 года проект iXBT.photo прекратит свою работу и будет закрыт. Мы высоко ценим ваше участие и тот вклад, который вы внесли в развитие нашего сообщества. Пожалуйста, не забудьте сохранить ваши фотографии до этой даты.
С уважением, команда iXBT.com
| IMG_5975.jpg |
IMG_5975.jpg
- Раздел: Портрет
- Дата съёмки: 12.05.2011 18:42
- Дата загрузки фото: 30.07.2011 00:16
- Оригинальная фотография: 3456 x 2592 (5,3 Мб)
- Технические характеристики:
- Фотоаппарат: Canon EOS 1000D
- Выдержка: 1/500
- Гиперфокальное расстояние: inf m
- Диафрагма: 2,8
- Светочувствительность: 100
- Фокусное расстояние: 50,0 mm (35 mm equivalent: 50,0 mm)
- Полный EXIF
- Adobe
- ColorTransform: YCbCr
- Composite
- Aperture: 2,8
- CircleOfConfusion: 0,017 mm
- FOV: 39,0 deg
- FocalLength35efl: 50,0 mm (35 mm equivalent: 50,0 mm)
- HyperfocalDistance: inf m
- ScaleFactor35efl: 1,8
- ShutterSpeed: 1/500
- ExifIFD
- ApertureValue: 2,8
- CreateDate: 2011:05:12 18:42:44
- CustomRendered: Normal
- DateTimeOriginal: 2011:05:12 18:42:44
- ExposureCompensation: 0
- ExposureMode: Auto
- ExposureProgram: Aperture-priority AE
- ExposureTime: 1/500
- FNumber: 2,8
- Flash: Off, Did not fire
- FocalLength: 50,0 mm
- ISO: 100
- LensInfo: 50mm f/?
- LensModel: EF50mm f/1.8 II
- MaxApertureValue: 1,8
- MeteringMode: Multi-segment
- OwnerName: Vlasov
- SceneCaptureType: Standard
- SensitivityType: Unknown
- SerialNumber: 1380312588
- ShutterSpeedValue: 1/500
- WhiteBalance: Auto
- ICC-header
- ICC-meas
- ICC-view
- IFD0
- Artist: Vlasov
- Make: Canon
- Model: Canon EOS 1000D
- ModifyDate: 2011:05:14 19:10:43
- IFD1
- IPTC
- By-line: Vlasov
- System
- XMP-aux
- Firmware: 1.0.5
- FlashCompensation: 0
- ImageNumber: 0
- Lens: EF50mm f/1.8 II
- LensID: 29
- XMP-crs
- AlreadyApplied: True
- BlueHue: 0
- BlueSaturation: -16
- Brightness: +22
- ChromaticAberrationB: 0
- ChromaticAberrationR: 0
- Clarity: 0
- ColorNoiseReduction: 0
- Contrast: +68
- ConvertToGrayscale: True
- CropAngle: 0
- CropBottom: 1
- CropConstrainToWarp: 0
- CropHeight: 2592
- CropLeft: 0.111112
- CropRight: 1
- CropTop: 0
- CropUnit: pixels
- CropWidth: 3456
- Defringe: 0
- Exposure: +0.50
- FillLight: 10
- GradientBasedCorrActive: true
- GradientBasedCorrAmount: 1.000000
- GradientBasedCorrBrightness: 0.025000
- GradientBasedCorrClarity: -0.300000
- GradientBasedCorrContrast: 0.250000
- GradientBasedCorrExposure: -0.125000
- GradientBasedCorrHue: 50.000000
- GradientBasedCorrMaskFullX: -0.140127
- GradientBasedCorrMaskFullY: 0.496815
- GradientBasedCorrMaskValue: 1.000000
- GradientBasedCorrMaskWhat: Mask/Gradient
- GradientBasedCorrMaskZeroX: 0.127389
- GradientBasedCorrMaskZeroY: 0.496815
- GradientBasedCorrSaturation: 0.247000
- GradientBasedCorrSharpness: 0.000000
- GradientBasedCorrWhat: Correction
- GrainAmount: 15
- GrainFrequency: 50
- GrainSize: 25
- GrayMixerAqua: -40
- GrayMixerBlue: 0
- GrayMixerGreen: -25
- GrayMixerMagenta: +19
- GrayMixerOrange: -10
- GrayMixerPurple: +73
- GrayMixerRed: -17
- GrayMixerYellow: -23
- GreenHue: 0
- GreenSaturation: +18
- HasCrop: True
- HasSettings: True
- HighlightRecovery: 70
- LensManualDistortionAmount: 0
- LensProfileEnable: 0
- LensProfileSetup: LensDefaults
- LuminanceSmoothing: 0
- ParametricDarks: 0
- ParametricHighlightSplit: 75
- ParametricHighlights: 0
- ParametricLights: 0
- ParametricMidtoneSplit: 50
- ParametricShadowSplit: 25
- ParametricShadows: 0
- PerspectiveHorizontal: 0
- PerspectiveRotate: 0.0
- PerspectiveScale: 100
- PerspectiveVertical: 0
- PostCropVignetteAmount: -50
- PostCropVignetteFeather: 85
- PostCropVignetteHighlightContrast: 25
- PostCropVignetteMidpoint: 75
- PostCropVignetteRoundness: +43
- PostCropVignetteStyle: 2
- ProcessVersion: 5.7
- RedHue: +5
- RedSaturation: -7
- ShadowTint: 0
- Shadows: 7
- SharpenDetail: 25
- SharpenEdgeMasking: 0
- SharpenRadius: +1.0
- Sharpness: 25
- SplitToningBalance: 0
- SplitToningHighlightHue: 61
- SplitToningHighlightSaturation: 2
- SplitToningShadowHue: 229
- SplitToningShadowSaturation: 5
- Temperature: 4800
- Tint: +16
- ToneCurve: 43, 46, 72, 65, 128, 128, 192, 202, 255, 255
- ToneCurveName: Custom
- Version: 6.3
- VignetteAmount: -50
- VignetteMidpoint: 33
- WhiteBalance: As Shot
- XMP-dc
- XMP-exif
- DateTimeDigitized: 2011:05:12 18:42:44.69+04:00
- DateTimeOriginal: 2011:05:12 18:42:44.69+04:00
- ExifImageHeight: 2592
- ExifImageWidth: 3456
- FlashFired: False
- FlashFunction: False
- FlashMode: Off
- FlashRedEyeMode: False
- FlashReturn: No return detection
- XMP-tiff
- ImageHeight: 2592
- ImageWidth: 3456
- XMP-xmp
- CreateDate: 2011:05:12 18:42:44.69+04:00
- ModifyDate: 2011:05:14 19:10:43+04:00
- Просмотров: 1346
- Рейтинг: голосов еще нет
- Отзывов: 0
Получить код для блога
| Вставка фотографии в текущем разрешении |
Вставка миниатюры |
HTML (для вставки в блог):
BBCode (для вставки в форум):
Ссылка на фото:
Ссылка на миниатюру:
- Послать ссылку другу
| Комментарии к фотографии |