Уважаемые друзья и участники проекта iXBT.photo! К сожалению, 1 марта 2026 года проект iXBT.photo прекратит свою работу и будет закрыт. Мы высоко ценим ваше участие и тот вклад, который вы внесли в развитие нашего сообщества. Пожалуйста, не забудьте сохранить ваши фотографии до этой даты.
С уважением, команда iXBT.com
| Презентация первой в мире клаббер-пиццы 'Celebrity' |
Презентация первой в мире клаббер-пиццы 'Celebrity'
Королевство пиццы с гордостью представляют первую в мире клаббер-пиццу 'Celebrity', созданную специально для ночных жителей и тусовщиков! Клаббер-пицца 'Celebrity' создавалась Королевством пиццы при поддержке сайта clubber.ru, совместно с клабберами города!
- Раздел: Другое, разное
- Дата съёмки: 22.07.2011 01:10
- Дата загрузки фото: 10.08.2011 04:57
- Оригинальная фотография: 533 x 800 (321 Кб)
- Технические характеристики:
- Фотоаппарат: Canon EOS 50D
- Выдержка: 1/160
- Гиперфокальное расстояние: inf m
- Диафрагма: 2,2
- Светочувствительность: 800
- Фокусное расстояние: 35,0 mm (35 mm equivalent: 140,0 mm)
- Полный EXIF
- Adobe
- ColorTransform: YCbCr
- Composite
- Aperture: 2,2
- CircleOfConfusion: 0,006 mm
- FOV: 14,0 deg
- FocalLength35efl: 35,0 mm (35 mm equivalent: 140,0 mm)
- HyperfocalDistance: inf m
- ScaleFactor35efl: 4,7
- ShutterSpeed: 1/160
- ExifIFD
- ApertureValue: 2,2
- ColorSpace: sRGB
- CreateDate: 2011:07:22 01:10:55
- CustomRendered: Normal
- DateTimeOriginal: 2011:07:22 01:10:55
- ExifImageHeight: 800
- ExifImageWidth: 533
- ExposureCompensation: 0
- ExposureMode: Manual
- ExposureProgram: Manual
- ExposureTime: 1/160
- FNumber: 2,2
- Flash: On, Fired
- FocalLength: 35,0 mm
- ISO: 800
- LensInfo: 35mm f/?
- LensModel: EF35mm f/2
- MaxApertureValue: 2,0
- MeteringMode: Spot
- SceneCaptureType: Standard
- SensitivityType: Unknown
- SerialNumber: 2130708363
- ShutterSpeedValue: 1/160
- WhiteBalance: Auto
- ICC-header
- ICC-meas
- ICC-view
- IFD0
- BitsPerSample: 8 8 8
- ImageHeight: 2376
- ImageWidth: 1584
- Make: Canon
- Model: Canon EOS 50D
- ModifyDate: 2011:07:22 21:18:27
- Orientation: Horizontal (normal)
- PhotometricInterpretation: RGB
- SamplesPerPixel: 3
- IFD1
- IPTC
- DateCreated: 2011:07:22
- System
- XMP-aux
- Firmware: 1.0.7
- FlashCompensation: 0
- ImageNumber: 0
- Lens: EF35mm f/2
- LensID: 11
- XMP-crs
- AlreadyApplied: True
- BlueHue: 0
- BlueSaturation: 0
- Brightness: +50
- ChromaticAberrationB: 0
- ChromaticAberrationR: 0
- Clarity: 0
- ColorNoiseReduction: 25
- ColorNoiseReductionDetail: 50
- Contrast: +25
- ConvertToGrayscale: False
- Defringe: 0
- Exposure: 0.00
- FillLight: 33
- GrainAmount: 0
- GreenHue: 0
- GreenSaturation: 0
- HasCrop: False
- HasSettings: True
- HighlightRecovery: 0
- HueAdjustmentAqua: 0
- HueAdjustmentBlue: 0
- HueAdjustmentGreen: 0
- HueAdjustmentMagenta: 0
- HueAdjustmentOrange: 0
- HueAdjustmentPurple: 0
- HueAdjustmentRed: 0
- HueAdjustmentYellow: 0
- LensManualDistortionAmount: 0
- LensProfileEnable: 0
- LensProfileSetup: LensDefaults
- LuminanceAdjustmentAqua: 0
- LuminanceAdjustmentBlue: 0
- LuminanceAdjustmentGreen: 0
- LuminanceAdjustmentMagenta: 0
- LuminanceAdjustmentOrange: 0
- LuminanceAdjustmentPurple: 0
- LuminanceAdjustmentRed: 0
- LuminanceAdjustmentYellow: 0
- LuminanceSmoothing: 0
- ParametricDarks: 0
- ParametricHighlightSplit: 75
- ParametricHighlights: 0
- ParametricLights: 0
- ParametricMidtoneSplit: 50
- ParametricShadowSplit: 25
- ParametricShadows: 0
- PerspectiveHorizontal: 0
- PerspectiveRotate: 0.0
- PerspectiveScale: 100
- PerspectiveVertical: 0
- PostCropVignetteAmount: 0
- ProcessVersion: 5.7
- RedHue: 0
- RedSaturation: 0
- Saturation: 0
- SaturationAdjustmentAqua: 0
- SaturationAdjustmentBlue: 0
- SaturationAdjustmentGreen: 0
- SaturationAdjustmentMagenta: 0
- SaturationAdjustmentOrange: 0
- SaturationAdjustmentPurple: 0
- SaturationAdjustmentRed: 0
- SaturationAdjustmentYellow: 0
- ShadowTint: 0
- Shadows: 5
- SharpenDetail: 25
- SharpenEdgeMasking: 0
- SharpenRadius: +1.0
- Sharpness: 25
- SplitToningBalance: 0
- SplitToningHighlightHue: 0
- SplitToningHighlightSaturation: 0
- SplitToningShadowHue: 0
- SplitToningShadowSaturation: 0
- Temperature: 5750
- Tint: +14
- ToneCurve: 0, 0, 32, 22, 64, 56, 128, 128, 192, 196, 255, 255
- ToneCurveName: Medium Contrast
- Version: 6.2
- Vibrance: 0
- VignetteAmount: 0
- WhiteBalance: As Shot
- XMP-dc
- XMP-xmp
- CreateDate: 2011:07:22 01:10:55.59+08:00
- ModifyDate: 2011:07:22 21:18:27+08:00
- XMP-xmpMM
- Просмотров: 165
- Рейтинг: голосов еще нет
- Отзывов: 0
Получить код для блога
| Вставка фотографии в текущем разрешении |
Вставка миниатюры |
HTML (для вставки в блог):
BBCode (для вставки в форум):
Ссылка на фото:
Ссылка на миниатюру:
- Послать ссылку другу
| Комментарии к фотографии |