| » Участники » Дмитрий Алимкин » Wedding » IMG_0523_Pavel_&_Oksana.jpg |
Уважаемые друзья и участники проекта iXBT.photo! К сожалению, 1 марта 2026 года проект iXBT.photo прекратит свою работу и будет закрыт. Мы высоко ценим ваше участие и тот вклад, который вы внесли в развитие нашего сообщества. Пожалуйста, не забудьте сохранить ваши фотографии до этой даты.
С уважением, команда iXBT.com
| IMG_0523_Pavel_&_Oksana.jpg |
IMG_0523_Pavel_&_Oksana.jpg
- Раздел: Другое, разное
- Дата съёмки: 23.07.2011 13:59
- Дата загрузки фото: 07.09.2011 14:21
- Оригинальная фотография: 940 x 627 (460 Кб)
- Технические характеристики:
- Фотоаппарат: Canon EOS 7D
- Выдержка: 1/500
- Гиперфокальное расстояние: inf m
- Диафрагма: 2,8
- Светочувствительность: 125
- Фокусное расстояние: 85,0 mm (35 mm equivalent: 680,0 mm)
- Полный EXIF
- Adobe
- ColorTransform: YCbCr
- Composite
- Aperture: 2,8
- CircleOfConfusion: 0,003 mm
- DOF: inf (0,00 m - inf)
- FOV: 3,0 deg
- FocalLength35efl: 85,0 mm (35 mm equivalent: 680,0 mm)
- HyperfocalDistance: inf m
- ScaleFactor35efl: 8,7
- ShutterSpeed: 1/500
- ExifIFD
- ApertureValue: 2,8
- ColorSpace: sRGB
- CreateDate: 2011:07:23 13:59:35
- CustomRendered: Normal
- DateTimeOriginal: 2011:07:23 13:59:35
- ExifImageHeight: 627
- ExifImageWidth: 940
- ExposureCompensation: 0
- ExposureMode: Auto
- ExposureProgram: Aperture-priority AE
- ExposureTime: 1/500
- FNumber: 2,8
- Flash: Off, Did not fire
- FocalLength: 85,0 mm
- ISO: 125
- MaxApertureValue: 1,8
- MeteringMode: Multi-segment
- SceneCaptureType: Standard
- ShutterSpeedValue: 1/500
- SubjectDistance: 7,27 m
- WhiteBalance: Auto
- ICC-header
- ICC-meas
- ICC-view
- IFD0
- Artist: Алимкин Дмитрий Алексеевич (Dmitriy Alimkin)
- BitsPerSample: 8 8 8
- Copyright: Все права защищены. Copyright © Дмитрий Алимкин
- All rights reserved Copyright В© Dmitriy Alimkin:
- ImageDescription: +380964858778 +380955562665
- d.alimkin@mail.ru Alimkin.Dmitriy@gmail.com:
- ImageHeight: 3000
- ImageWidth: 4500
- Make: Canon
- Model: Canon EOS 7D
- ModifyDate: 2011:09:06 09:01:14
- Orientation: Horizontal (normal)
- PhotometricInterpretation: RGB
- SamplesPerPixel: 3
- IFD1
- IPTC
- By-line: Алимкин Дмитрий А
- By-lineTitle: Национальный сою
- Caption-Abstract: +380964858778 +380955562665
d.alimkin@mail.ru Alimkin.Dmitriy@gmail.com
- CopyrightNotice: Все права защищены. Copyright © Дмитрий Алимкин
All rights reserved Copyright В© Dmitriy Alimkin
- DateCreated: 2011:07:23
- Keywords: Wedding photo
- ObjectName: Wedding photo
- Writer-Editor: Wedding photo
- System
- XMP-aux
- ApproximateFocusDistance: 7,27
- Firmware: 1.2.3
- FlashCompensation: 0
- ImageNumber: 0
- Lens: EF85mm f/1.8 USM
- LensID: 155
- LensInfo: 85mm f/?
- SerialNumber: 1680917963
- XMP-crs
- AlreadyApplied: True
- BlueHue: 0
- BlueSaturation: +11
- Brightness: +50
- CameraProfile: Camera Standard
- ChromaticAberrationB: 0
- ChromaticAberrationR: 0
- Clarity: -11
- ColorNoiseReduction: 15
- ColorNoiseReductionDetail: 0
- Contrast: +25
- ConvertToGrayscale: False
- CropAngle: 0
- CropBottom: 1
- CropConstrainToWarp: 0
- CropHeight: 3142
- CropLeft: 0.0371
- CropRight: 0.946247
- CropTop: 0.090853
- CropUnit: pixels
- CropWidth: 4713
- Defringe: 0
- Exposure: +0.34
- FillLight: 0
- GrainAmount: 0
- GreenHue: 0
- GreenSaturation: +7
- HasCrop: True
- HasSettings: True
- HighlightRecovery: 0
- HueAdjustmentAqua: 0
- HueAdjustmentBlue: 0
- HueAdjustmentGreen: 0
- HueAdjustmentMagenta: 0
- HueAdjustmentOrange: 0
- HueAdjustmentPurple: 0
- HueAdjustmentRed: 0
- HueAdjustmentYellow: 0
- LensManualDistortionAmount: 0
- LensProfileEnable: 0
- LensProfileSetup: LensDefaults
- LuminanceAdjustmentAqua: 0
- LuminanceAdjustmentBlue: 0
- LuminanceAdjustmentGreen: 0
- LuminanceAdjustmentMagenta: 0
- LuminanceAdjustmentOrange: 0
- LuminanceAdjustmentPurple: 0
- LuminanceAdjustmentRed: 0
- LuminanceAdjustmentYellow: 0
- LuminanceNoiseReductionContrast: 0
- LuminanceNoiseReductionDetail: 5
- LuminanceSmoothing: 25
- ParametricDarks: +29
- ParametricHighlightSplit: 75
- ParametricHighlights: 0
- ParametricLights: 0
- ParametricMidtoneSplit: 50
- ParametricShadowSplit: 25
- ParametricShadows: 0
- PerspectiveHorizontal: 0
- PerspectiveRotate: 0.0
- PerspectiveScale: 100
- PerspectiveVertical: 0
- PostCropVignetteAmount: -43
- PostCropVignetteFeather: 50
- PostCropVignetteHighlightContrast: 0
- PostCropVignetteMidpoint: 40
- PostCropVignetteRoundness: 0
- PostCropVignetteStyle: 1
- ProcessVersion: 5.7
- RedHue: 0
- RedSaturation: -6
- Saturation: -2
- SaturationAdjustmentAqua: 0
- SaturationAdjustmentBlue: 0
- SaturationAdjustmentGreen: 0
- SaturationAdjustmentMagenta: 0
- SaturationAdjustmentOrange: 0
- SaturationAdjustmentPurple: 0
- SaturationAdjustmentRed: 0
- SaturationAdjustmentYellow: 0
- ShadowTint: 0
- Shadows: 6
- SharpenDetail: 0
- SharpenEdgeMasking: 0
- SharpenRadius: +0.8
- Sharpness: 30
- SplitToningBalance: 0
- SplitToningHighlightHue: 0
- SplitToningHighlightSaturation: 0
- SplitToningShadowHue: 0
- SplitToningShadowSaturation: 0
- Temperature: 5298
- Tint: +6
- ToneCurve: 0, 0, 32, 22, 64, 56, 128, 128, 192, 196, 255, 255
- ToneCurveName: Medium Contrast
- Version: 6.4
- Vibrance: +10
- VignetteAmount: 0
- WhiteBalance: Custom
- XMP-dc
- Creator: Алимкин Дмитрий Алексеевич (Dmitriy Alimkin)
- Description: +380964858778 +380955562665
- Format: image/jpeg
- Rights: Все права защищены. Copyright © Дмитрий Алимкин
- Subject: Wedding photo
- Title: Wedding photo
- XMP-xmp
- CreateDate: 2011:07:23 13:59:35.97
- ModifyDate: 2011:09:06 09:01:14+03:00
- XMP-xmpMM
- XMP-xmpRights
- Marked: True
- UsageTerms:
- WebStatement: http://alimkin.mylivepage.ru/
- Просмотров: 232
- Рейтинг: голосов еще нет
- Отзывов: отключены
Получить код для блога
| Вставка фотографии в текущем разрешении |
Вставка миниатюры |
HTML (для вставки в блог):
BBCode (для вставки в форум):
Ссылка на фото:
Ссылка на миниатюру:
- Послать ссылку другу
| Комментарии к фотографии |