- Раздел: Спорт
- Дата съёмки: 04.09.2011 10:58
- Дата загрузки фото: 09.09.2011 13:18
- Оригинальная фотография: 2582 x 1937 (2,8 Мб)
- Технические характеристики:
- Фотоаппарат: Canon PowerShot S95
- Выдержка: 1/640
- Гиперфокальное расстояние: inf m
- Диафрагма: 4,9
- Светочувствительность: 80
- Фокусное расстояние: 22,0 mm (35 mm equivalent: 132,0 mm)
- Полный EXIF
- Adobe
- ColorTransform: YCbCr
- Composite
- Aperture: 4,9
- CircleOfConfusion: 0,005 mm
- DOF: inf (0,00 m - inf)
- FOV: 15,0 deg
- FocalLength35efl: 22,0 mm (35 mm equivalent: 132,0 mm)
- HyperfocalDistance: inf m
- ScaleFactor35efl: 6,6
- ShutterSpeed: 1/640
- ExifIFD
- ApertureValue: 4,9
- CreateDate: 2011:09:04 10:58:17
- CustomRendered: Normal
- DateTimeOriginal: 2011:09:04 10:58:17
- DigitalZoomRatio: 1
- ExposureCompensation: 0
- ExposureMode: Auto
- ExposureTime: 1/640
- FNumber: 4,9
- Flash: Off, Did not fire
- FocalLength: 22,5 mm
- ISO: 80
- LensInfo: 6-22.5mm f/?
- LensModel: 6.0-22.5 mm
- MaxApertureValue: 4,9
- MeteringMode: Spot
- SceneCaptureType: Standard
- SensingMethod: One-chip color area
- SensitivityType: Standard Output Sensitivity and Recommended Exposure Index
- ShutterSpeedValue: 1/640
- SubjectDistance: 64,4 m
- WhiteBalance: Auto
- ICC-header
- ICC-meas
- ICC-view
- IFD0
- Make: Canon
- Model: Canon PowerShot S95
- ModifyDate: 2011:09:07 17:39:31
- IFD1
- IPTC
- DateCreated: 2011:09:04
- System
- XMP-aux
- ApproximateFocusDistance: 64,4
- Firmware: 1.00
- FlashCompensation: 0
- Lens: 6.0-22.5 mm
- XMP-crs
- AlreadyApplied: True
- BlueHue: 0
- BlueSaturation: 0
- Brightness: +14
- ChromaticAberrationB: 0
- ChromaticAberrationR: 0
- Clarity: +15
- ColorNoiseReduction: 25
- ColorNoiseReductionDetail: 50
- Contrast: +46
- ConvertToGrayscale: False
- CropAngle: -1.604
- CropBottom: 0.960977
- CropConstrainToWarp: 0
- CropHeight: 1937
- CropLeft: 0.011089
- CropRight: 0.988912
- CropTop: 0.039023
- CropUnit: pixels
- CropWidth: 2582
- Defringe: 0
- Exposure: -0.27
- FillLight: 59
- GrainAmount: 0
- GreenHue: 0
- GreenSaturation: 0
- HasCrop: True
- HasSettings: True
- HighlightRecovery: 9
- HueAdjustmentAqua: 0
- HueAdjustmentBlue: 0
- HueAdjustmentGreen: 0
- HueAdjustmentMagenta: 0
- HueAdjustmentOrange: 0
- HueAdjustmentPurple: 0
- HueAdjustmentRed: 0
- HueAdjustmentYellow: 0
- LensManualDistortionAmount: 0
- LensProfileChromaticAberrationScale: 100
- LensProfileDistortionScale: 100
- LensProfileEnable: 1
- LensProfileFilename: Canon PowerShot S95 - RAW.lcp
- LensProfileSetup: LensDefaults
- LensProfileVignettingScale: 100
- LuminanceAdjustmentAqua: 0
- LuminanceAdjustmentBlue: 0
- LuminanceAdjustmentGreen: 0
- LuminanceAdjustmentMagenta: 0
- LuminanceAdjustmentOrange: 0
- LuminanceAdjustmentPurple: 0
- LuminanceAdjustmentRed: 0
- LuminanceAdjustmentYellow: 0
- LuminanceNoiseReductionContrast: 0
- LuminanceNoiseReductionDetail: 50
- LuminanceSmoothing: 36
- ParametricDarks: +29
- ParametricHighlightSplit: 75
- ParametricHighlights: 0
- ParametricLights: -30
- ParametricMidtoneSplit: 50
- ParametricShadowSplit: 25
- ParametricShadows: 0
- PerspectiveHorizontal: 0
- PerspectiveRotate: 0.0
- PerspectiveScale: 100
- PerspectiveVertical: 0
- PostCropVignetteAmount: -53
- PostCropVignetteFeather: 80
- PostCropVignetteHighlightContrast: 0
- PostCropVignetteMidpoint: 38
- PostCropVignetteRoundness: 0
- PostCropVignetteStyle: 1
- ProcessVersion: 5.7
- RedHue: 0
- RedSaturation: 0
- Saturation: +10
- SaturationAdjustmentAqua: 0
- SaturationAdjustmentBlue: 0
- SaturationAdjustmentGreen: 0
- SaturationAdjustmentMagenta: 0
- SaturationAdjustmentOrange: 0
- SaturationAdjustmentPurple: 0
- SaturationAdjustmentRed: 0
- SaturationAdjustmentYellow: 0
- ShadowTint: 0
- Shadows: 7
- SharpenDetail: 50
- SharpenEdgeMasking: 0
- SharpenRadius: +1.3
- Sharpness: 87
- SplitToningBalance: 0
- SplitToningHighlightHue: 0
- SplitToningHighlightSaturation: 0
- SplitToningShadowHue: 0
- SplitToningShadowSaturation: 0
- Temperature: 5500
- Tint: +10
- ToneCurve: 0, 0, 32, 22, 64, 56, 128, 128, 192, 196, 255, 255
- ToneCurveName: Medium Contrast
- Version: 6.4.1
- Vibrance: 0
- VignetteAmount: 0
- WhiteBalance: Daylight
- XMP-xmp
- ModifyDate: 2011:09:07 17:39:31+03:00
- Просмотров: 172
- Рейтинг: голосов еще нет
- Отзывов: 0