Уважаемые друзья и участники проекта iXBT.photo! К сожалению, 1 марта 2026 года проект iXBT.photo прекратит свою работу и будет закрыт. Мы высоко ценим ваше участие и тот вклад, который вы внесли в развитие нашего сообщества. Пожалуйста, не забудьте сохранить ваши фотографии до этой даты.
С уважением, команда iXBT.com
| LR3-7363.jpg |
LR3-7363.jpg
- Раздел: Другое, разное
- Дата съёмки: 07.08.2011 13:48
- Дата загрузки фото: 13.09.2011 17:39
- Оригинальная фотография: 599 x 900 (188 Кб)
- Технические характеристики:
- Фотоаппарат: Sony NEX-3
- Выдержка: 1/80
- Диафрагма: 1,0
- Светочувствительность: 400
- Экспокоррекция: +0,3
- Полный EXIF
- Adobe
- ColorTransform: YCbCr
- Composite
- Aperture: 1,0
- ShutterSpeed: 1/80
- ExifIFD
- ApertureValue: 1,0
- BrightnessValue: -0,75
- ColorSpace: Uncalibrated
- Contrast: High
- CreateDate: 2011:08:07 13:48:09
- CustomRendered: Normal
- DateTimeOriginal: 2011:08:07 13:48:09
- ExifImageHeight: 900
- ExifImageWidth: 599
- ExposureCompensation: +0,3
- ExposureMode: Auto
- ExposureProgram: Aperture-priority AE
- ExposureTime: 1/80
- FNumber: 1,0
- Flash: Off, Did not fire
- ISO: 400
- LensModel: ----
- LightSource: Shade
- MaxApertureValue: 1,0
- MeteringMode: Multi-segment
- RecommendedExposureIndex: 400
- Saturation: Low
- SceneCaptureType: Standard
- SceneType: Directly photographed
- SensitivityType: Recommended Exposure Index
- Sharpness: Hard
- ShutterSpeedValue: 1/80
- WhiteBalance: Manual
- IFD0
- BitsPerSample: 8 8 8
- Copyright: Mikael 2011
- ImageDescription: SONY DSC
- ImageHeight: 4592
- ImageWidth: 3056
- Make: SONY
- Model: NEX-3
- ModifyDate: 2011:08:14 23:45:53
- Orientation: Horizontal (normal)
- PhotometricInterpretation: RGB
- SamplesPerPixel: 3
- IFD1
- IPTC
- Caption-Abstract: SONY DSC
- CopyrightNotice: Mikael 2011
- DateCreated: 2011:08:07
- System
- XMP-aux
- XMP-crs
- AlreadyApplied: True
- BlueHue: 0
- BlueSaturation: 0
- Brightness: +9
- CameraProfile: Embedded
- ChromaticAberrationB: 0
- ChromaticAberrationR: 0
- Clarity: +10
- ColorNoiseReduction: 0
- Contrast: +57
- ConvertToGrayscale: False
- Defringe: 0
- Exposure: -1.71
- FillLight: 49
- GradientBasedCorrActive: true
- GradientBasedCorrAmount: 1.000000
- GradientBasedCorrBrightness: 0.025000
- GradientBasedCorrClarity: 0.000000
- GradientBasedCorrContrast: 0.000000
- GradientBasedCorrExposure: -0.025000
- GradientBasedCorrHue: 35.000000
- GradientBasedCorrMaskFullX: 0.816456
- GradientBasedCorrMaskFullY: 0.411392
- GradientBasedCorrMaskValue: 1.000000
- GradientBasedCorrMaskWhat: Mask/Gradient
- GradientBasedCorrMaskZeroX: 0.361131
- GradientBasedCorrMaskZeroY: 0.442204
- GradientBasedCorrSaturation: 0.330000
- GradientBasedCorrSharpness: 0.000000
- GradientBasedCorrWhat: Correction
- GrainAmount: 0
- GreenHue: 0
- GreenSaturation: 0
- HasCrop: False
- HasSettings: True
- HighlightRecovery: 0
- HueAdjustmentAqua: 0
- HueAdjustmentBlue: 0
- HueAdjustmentGreen: 0
- HueAdjustmentMagenta: 0
- HueAdjustmentOrange: +2
- HueAdjustmentPurple: 0
- HueAdjustmentRed: +7
- HueAdjustmentYellow: -16
- IncrementalTemperature: +38
- IncrementalTint: -3
- LensManualDistortionAmount: 0
- LensProfileEnable: 0
- LensProfileSetup: LensDefaults
- LuminanceAdjustmentAqua: -2
- LuminanceAdjustmentBlue: +7
- LuminanceAdjustmentGreen: 0
- LuminanceAdjustmentMagenta: 0
- LuminanceAdjustmentOrange: 0
- LuminanceAdjustmentPurple: 0
- LuminanceAdjustmentRed: 0
- LuminanceAdjustmentYellow: 0
- LuminanceSmoothing: 0
- ParametricDarks: -12
- ParametricHighlightSplit: 78
- ParametricHighlights: +2
- ParametricLights: -45
- ParametricMidtoneSplit: 60
- ParametricShadowSplit: 27
- ParametricShadows: -7
- PerspectiveHorizontal: 0
- PerspectiveRotate: 0.0
- PerspectiveScale: 100
- PerspectiveVertical: 0
- PostCropVignetteAmount: 0
- ProcessVersion: 5.7
- RedHue: 0
- RedSaturation: 0
- Saturation: -52
- SaturationAdjustmentAqua: +60
- SaturationAdjustmentBlue: +68
- SaturationAdjustmentGreen: +45
- SaturationAdjustmentMagenta: 0
- SaturationAdjustmentOrange: +14
- SaturationAdjustmentPurple: 0
- SaturationAdjustmentRed: 0
- SaturationAdjustmentYellow: -17
- ShadowTint: -100
- Shadows: 18
- SharpenDetail: 25
- SharpenEdgeMasking: 0
- SharpenRadius: +1.0
- Sharpness: 0
- SplitToningBalance: -64
- SplitToningHighlightHue: 244
- SplitToningHighlightSaturation: 15
- SplitToningShadowHue: 218
- SplitToningShadowSaturation: 14
- ToneCurve: 0, 0, 255, 255
- ToneCurveName: Linear
- Version: 6.2
- Vibrance: +7
- VignetteAmount: 0
- WhiteBalance: Custom
- XMP-dc
- Description: SONY DSC
- Format: image/jpeg
- Rights: Mikael 2011
- XMP-xmp
- CreateDate: 2011:08:07 13:48:09+04:00
- CreatorTool: NEX-3 Ver.03
- Label: Purple
- ModifyDate: 2011:08:14 23:45:53+04:00
- Rating: 3
- XMP-xmpMM
- XMP-xmpRights
- Просмотров: 120
- Рейтинг: голосов еще нет
- Отзывов: 0
Получить код для блога
| Вставка фотографии в текущем разрешении |
Вставка миниатюры |
HTML (для вставки в блог):
BBCode (для вставки в форум):
Ссылка на фото:
Ссылка на миниатюру:
- Послать ссылку другу
| Комментарии к фотографии |