Уважаемые друзья и участники проекта iXBT.photo! К сожалению, 1 марта 2026 года проект iXBT.photo прекратит свою работу и будет закрыт. Мы высоко ценим ваше участие и тот вклад, который вы внесли в развитие нашего сообщества. Пожалуйста, не забудьте сохранить ваши фотографии до этой даты.
С уважением, команда iXBT.com
| LR3-7390.jpg |
LR3-7390.jpg
- Раздел: Другое, разное
- Дата съёмки: 07.08.2011 13:51
- Дата загрузки фото: 13.09.2011 17:46
- Оригинальная фотография: 900 x 599 (164 Кб)
- Технические характеристики:
- Фотоаппарат: Sony NEX-3
- Выдержка: 1/2000
- Диафрагма: 1,0
- Светочувствительность: 400
- Экспокоррекция: +0,7
- Полный EXIF
- Adobe
- ColorTransform: YCbCr
- Composite
- Aperture: 1,0
- ShutterSpeed: 1/2000
- ExifIFD
- ApertureValue: 1,0
- BrightnessValue: 4,75
- ColorSpace: Uncalibrated
- Contrast: High
- CreateDate: 2011:08:07 13:51:09
- CustomRendered: Normal
- DateTimeOriginal: 2011:08:07 13:51:09
- ExifImageHeight: 599
- ExifImageWidth: 900
- ExposureCompensation: +0,7
- ExposureMode: Auto
- ExposureProgram: Aperture-priority AE
- ExposureTime: 1/2000
- FNumber: 1,0
- Flash: Off, Did not fire
- ISO: 400
- LensModel: ----
- LightSource: Shade
- MaxApertureValue: 1,0
- MeteringMode: Multi-segment
- RecommendedExposureIndex: 400
- Saturation: Low
- SceneCaptureType: Standard
- SceneType: Directly photographed
- SensitivityType: Recommended Exposure Index
- Sharpness: Hard
- ShutterSpeedValue: 1/2000
- WhiteBalance: Manual
- IFD0
- BitsPerSample: 8 8 8
- Copyright: Mikael 2011
- ImageDescription: SONY DSC
- ImageHeight: 3056
- ImageWidth: 4592
- Make: SONY
- Model: NEX-3
- ModifyDate: 2011:08:14 23:46:24
- Orientation: Horizontal (normal)
- PhotometricInterpretation: RGB
- SamplesPerPixel: 3
- IFD1
- IPTC
- Caption-Abstract: SONY DSC
- CopyrightNotice: Mikael 2011
- DateCreated: 2011:08:07
- System
- XMP-aux
- XMP-crs
- AlreadyApplied: True
- BlueHue: 0
- BlueSaturation: -61
- Brightness: +20
- CameraProfile: Embedded
- ChromaticAberrationB: 0
- ChromaticAberrationR: 0
- Clarity: +28
- ColorNoiseReduction: 0
- Contrast: -7
- ConvertToGrayscale: False
- Defringe: 0
- Exposure: 0.00
- FillLight: 50
- GrainAmount: 18
- GrainFrequency: 50
- GrainSize: 25
- GreenHue: 0
- GreenSaturation: -21
- HasCrop: False
- HasSettings: True
- HighlightRecovery: 0
- HueAdjustmentAqua: -1
- HueAdjustmentBlue: 0
- HueAdjustmentGreen: -100
- HueAdjustmentMagenta: 0
- HueAdjustmentOrange: +7
- HueAdjustmentPurple: 0
- HueAdjustmentRed: +85
- HueAdjustmentYellow: +9
- IncrementalTemperature: +10
- IncrementalTint: 0
- LensManualDistortionAmount: 0
- LensProfileEnable: 0
- LensProfileSetup: LensDefaults
- LuminanceAdjustmentAqua: 0
- LuminanceAdjustmentBlue: 0
- LuminanceAdjustmentGreen: 0
- LuminanceAdjustmentMagenta: 0
- LuminanceAdjustmentOrange: +30
- LuminanceAdjustmentPurple: 0
- LuminanceAdjustmentRed: 0
- LuminanceAdjustmentYellow: 0
- LuminanceSmoothing: 0
- ParametricDarks: +7
- ParametricHighlightSplit: 75
- ParametricHighlights: 0
- ParametricLights: 0
- ParametricMidtoneSplit: 50
- ParametricShadowSplit: 25
- ParametricShadows: +8
- PerspectiveHorizontal: 0
- PerspectiveRotate: 0.0
- PerspectiveScale: 100
- PerspectiveVertical: 0
- PostCropVignetteAmount: 0
- ProcessVersion: 5.7
- RedHue: +19
- RedSaturation: -13
- Saturation: 0
- SaturationAdjustmentAqua: 0
- SaturationAdjustmentBlue: 0
- SaturationAdjustmentGreen: 0
- SaturationAdjustmentMagenta: 0
- SaturationAdjustmentOrange: +43
- SaturationAdjustmentPurple: 0
- SaturationAdjustmentRed: +100
- SaturationAdjustmentYellow: -90
- ShadowTint: -19
- Shadows: 0
- SharpenDetail: 25
- SharpenEdgeMasking: 0
- SharpenRadius: +1.0
- Sharpness: 0
- SplitToningBalance: 0
- SplitToningHighlightHue: 36
- SplitToningHighlightSaturation: 0
- SplitToningShadowHue: 192
- SplitToningShadowSaturation: 15
- ToneCurve: 0, 0, 255, 255
- ToneCurveName: Linear
- Version: 6.2
- Vibrance: 0
- VignetteAmount: 0
- WhiteBalance: Custom
- XMP-dc
- Description: SONY DSC
- Format: image/jpeg
- Rights: Mikael 2011
- XMP-xmp
- CreateDate: 2011:08:07 13:51:09+04:00
- CreatorTool: NEX-3 Ver.03
- Label: Red
- ModifyDate: 2011:08:14 23:46:24+04:00
- Rating: 3
- XMP-xmpMM
- XMP-xmpRights
- Просмотров: 141
- Рейтинг: голосов еще нет
- Отзывов: 0
Получить код для блога
| Вставка фотографии в текущем разрешении |
Вставка миниатюры |
HTML (для вставки в блог):
BBCode (для вставки в форум):
Ссылка на фото:
Ссылка на миниатюру:
- Послать ссылку другу
| Комментарии к фотографии |