- Раздел: Натюрморт
- Дата съёмки: 16.09.2011 21:08
- Дата загрузки фото: 16.09.2011 23:38
- Оригинальная фотография: 1540 x 1040 (866 Кб)
- Технические характеристики:
- Фотоаппарат: Canon EOS 40D
- Выдержка: 2,5
- Светочувствительность: 100
- Полный EXIF
- Adobe
- ColorTransform: YCbCr
- Composite
- CircleOfConfusion: 0,007 mm
- ScaleFactor35efl: 4,1
- ShutterSpeed: 2,5
- ExifIFD
- ColorSpace: sRGB
- CreateDate: 2011:09:16 21:08:18
- CustomRendered: Normal
- DateTimeOriginal: 2011:09:16 21:08:18
- ExifImageHeight: 1040
- ExifImageWidth: 1540
- ExposureCompensation: 0
- ExposureMode: Manual
- ExposureProgram: Manual
- ExposureTime: 2,5
- Flash: Off, Did not fire
- ISO: 100
- MeteringMode: Partial
- SceneCaptureType: Standard
- SerialNumber: 2231214667
- ShutterSpeedValue: 2,5
- WhiteBalance: Auto
- ICC-header
- ICC-meas
- ICC-view
- IFD0
- BitsPerSample: 8 8 8
- ImageHeight: 1040
- ImageWidth: 1540
- Make: Canon
- Model: Canon EOS 40D
- ModifyDate: 2011:09:16 23:19:03
- Orientation: Horizontal (normal)
- PhotometricInterpretation: RGB
- SamplesPerPixel: 3
- IFD1
- IPTC
- DateCreated: 2011:09:16
- System
- XMP-aux
- Firmware: 1.1.1
- FlashCompensation: 0
- ImageNumber: 0
- XMP-crs
- AlreadyApplied: True
- BlueHue: 0
- BlueSaturation: 0
- Brightness: +5
- ChromaticAberrationB: 0
- ChromaticAberrationR: 0
- Clarity: +19
- ColorNoiseReduction: 91
- ColorNoiseReductionDetail: 50
- Contrast: +6
- ConvertToGrayscale: False
- Defringe: 0
- Exposure: -0.23
- FillLight: 52
- GrainAmount: 0
- GreenHue: 0
- GreenSaturation: 0
- HasCrop: False
- HasSettings: True
- HighlightRecovery: 52
- HueAdjustmentAqua: 0
- HueAdjustmentBlue: +10
- HueAdjustmentGreen: 0
- HueAdjustmentMagenta: 0
- HueAdjustmentOrange: 0
- HueAdjustmentPurple: 0
- HueAdjustmentRed: 0
- HueAdjustmentYellow: -3
- IncrementalTemperature: 0
- IncrementalTint: 0
- LensManualDistortionAmount: 0
- LensProfileEnable: 0
- LensProfileSetup: LensDefaults
- LuminanceAdjustmentAqua: 0
- LuminanceAdjustmentBlue: 0
- LuminanceAdjustmentGreen: 0
- LuminanceAdjustmentMagenta: 0
- LuminanceAdjustmentOrange: 0
- LuminanceAdjustmentPurple: 0
- LuminanceAdjustmentRed: 0
- LuminanceAdjustmentYellow: +31
- LuminanceSmoothing: 0
- ParametricDarks: -32
- ParametricHighlightSplit: 75
- ParametricHighlights: +95
- ParametricLights: +61
- ParametricMidtoneSplit: 50
- ParametricShadowSplit: 25
- ParametricShadows: +6
- PerspectiveHorizontal: 0
- PerspectiveRotate: 0.0
- PerspectiveScale: 100
- PerspectiveVertical: 0
- PostCropVignetteAmount: -22
- PostCropVignetteFeather: 100
- PostCropVignetteHighlightContrast: 100
- PostCropVignetteMidpoint: 23
- PostCropVignetteRoundness: +44
- PostCropVignetteStyle: 1
- ProcessVersion: 5.7
- RedHue: 0
- RedSaturation: 0
- Saturation: -15
- SaturationAdjustmentAqua: 0
- SaturationAdjustmentBlue: -13
- SaturationAdjustmentGreen: 0
- SaturationAdjustmentMagenta: 0
- SaturationAdjustmentOrange: 0
- SaturationAdjustmentPurple: 0
- SaturationAdjustmentRed: 0
- SaturationAdjustmentYellow: -47
- ShadowTint: 0
- Shadows: 0
- SharpenDetail: 12
- SharpenEdgeMasking: 0
- SharpenRadius: +0.5
- Sharpness: 26
- SplitToningBalance: 0
- SplitToningHighlightHue: 0
- SplitToningHighlightSaturation: 0
- SplitToningShadowHue: 0
- SplitToningShadowSaturation: 0
- ToneCurve: 0, 0, 255, 255
- ToneCurveName: Linear
- Version: 6.4.1
- Vibrance: +33
- VignetteAmount: 0
- WhiteBalance: As Shot
- XMP-dc
- XMP-xmp
- CreateDate: 2011:09:16 21:08:18.00
- ModifyDate: 2011:09:16 23:19:03+04:00
- XMP-xmpMM