| » Участники » XFX » Железяки » DSC_5256.jpg |
Уважаемые друзья и участники проекта iXBT.photo! К сожалению, 1 марта 2026 года проект iXBT.photo прекратит свою работу и будет закрыт. Мы высоко ценим ваше участие и тот вклад, который вы внесли в развитие нашего сообщества. Пожалуйста, не забудьте сохранить ваши фотографии до этой даты.
С уважением, команда iXBT.com
| DSC_5256.jpg |
DSC_5256.jpg
- Раздел: Хобби
- Дата съёмки: 17.09.2011 20:32
- Дата загрузки фото: 17.09.2011 16:01
- Оригинальная фотография: 1602 x 2802 (3,6 Мб)
- Технические характеристики:
- Фотоаппарат: Nikon D70
- Выдержка: 1/50
- Гиперфокальное расстояние: inf m
- Диафрагма: 8,0
- Светочувствительность: 800
- Фокусное расстояние: 46,0 mm (35 mm equivalent: 46,0 mm)
- Полный EXIF
- Adobe
- ColorTransform: YCbCr
- Composite
- Aperture: 8,0
- CircleOfConfusion: 0,020 mm
- DOF: inf (0,00 m - inf)
- FOV: 42,0 deg
- FocalLength35efl: 46,0 mm (35 mm equivalent: 46,0 mm)
- HyperfocalDistance: inf m
- ScaleFactor35efl: 1,5
- ShutterSpeed: 1/50
- ExifIFD
- ApertureValue: 8,0
- CFAPattern: [Blue,Green][Green,Red]
- Contrast: Normal
- CreateDate: 2011:09:17 20:32:25
- CustomRendered: Normal
- DateTimeOriginal: 2011:09:17 20:32:25
- DigitalZoomRatio: 1
- ExposureCompensation: 0
- ExposureMode: Auto
- ExposureProgram: Aperture-priority AE
- ExposureTime: 1/50
- FNumber: 8,0
- Flash: No Flash
- FocalLength: 46,0 mm
- FocalLengthIn35mmFormat: 69 mm
- GainControl: Low gain up
- ISO: 800
- LensInfo: 18-70mm f/3.5-4.5
- LensModel: 18.0-70.0 mm f/3.5-4.5
- LightSource: Unknown
- MaxApertureValue: 4,4
- MeteringMode: Multi-segment
- Saturation: Normal
- SceneCaptureType: Standard
- SceneType: Directly photographed
- SensingMethod: One-chip color area
- SensitivityType: Unknown
- SerialNumber: 20007133
- Sharpness: Normal
- ShutterSpeedValue: 1/50
- SubjectDistance: 1,41 m
- SubjectDistanceRange: Unknown
- WhiteBalance: Auto
- ICC-header
- ICC-meas
- ICC-view
- IFD0
- Make: NIKON CORPORATION
- Model: NIKON D70
- ModifyDate: 2011:09:17 14:55:24
- Software: Ver.2.00
- IFD1
- System
- XMP-aux
- ApproximateFocusDistance: 1,41
- ImageNumber: 11087
- Lens: 18.0-70.0 mm f/3.5-4.5
- LensID: 127
- XMP-crs
- AlreadyApplied: True
- BlueHue: 0
- BlueSaturation: 0
- Brightness: +50
- ChromaticAberrationB: 0
- ChromaticAberrationR: 0
- Clarity: +53
- ColorNoiseReduction: 25
- ColorNoiseReductionDetail: 50
- Contrast: +25
- ConvertToGrayscale: False
- CropAngle: 2.24346
- CropBottom: 0.917088
- CropConstrainToWarp: 0
- CropHeight: 1602
- CropLeft: 0.0453
- CropRight: 0.955248
- CropTop: 0.061876
- CropUnit: pixels
- CropWidth: 2802
- Defringe: 0
- Exposure: +0.71
- FillLight: 0
- GrainAmount: 0
- GreenHue: 0
- GreenSaturation: 0
- HasCrop: True
- HasSettings: True
- HighlightRecovery: 0
- HueAdjustmentAqua: 0
- HueAdjustmentBlue: 0
- HueAdjustmentGreen: 0
- HueAdjustmentMagenta: 0
- HueAdjustmentOrange: 0
- HueAdjustmentPurple: 0
- HueAdjustmentRed: 0
- HueAdjustmentYellow: 0
- LensManualDistortionAmount: 0
- LensProfileEnable: 0
- LensProfileSetup: LensDefaults
- LuminanceAdjustmentAqua: 0
- LuminanceAdjustmentBlue: 0
- LuminanceAdjustmentGreen: 0
- LuminanceAdjustmentMagenta: 0
- LuminanceAdjustmentOrange: 0
- LuminanceAdjustmentPurple: 0
- LuminanceAdjustmentRed: 0
- LuminanceAdjustmentYellow: 0
- LuminanceSmoothing: 0
- ParametricDarks: 0
- ParametricHighlightSplit: 75
- ParametricHighlights: 0
- ParametricLights: 0
- ParametricMidtoneSplit: 50
- ParametricShadowSplit: 25
- ParametricShadows: 0
- PerspectiveHorizontal: 0
- PerspectiveRotate: 0.0
- PerspectiveScale: 100
- PerspectiveVertical: 0
- PostCropVignetteAmount: 0
- ProcessVersion: 5.7
- RedHue: 0
- RedSaturation: 0
- Saturation: 0
- SaturationAdjustmentAqua: 0
- SaturationAdjustmentBlue: 0
- SaturationAdjustmentGreen: 0
- SaturationAdjustmentMagenta: 0
- SaturationAdjustmentOrange: 0
- SaturationAdjustmentPurple: 0
- SaturationAdjustmentRed: 0
- SaturationAdjustmentYellow: 0
- ShadowTint: 0
- Shadows: 13
- SharpenDetail: 25
- SharpenEdgeMasking: 0
- SharpenRadius: +1.0
- Sharpness: 25
- SplitToningBalance: 0
- SplitToningHighlightHue: 0
- SplitToningHighlightSaturation: 0
- SplitToningShadowHue: 0
- SplitToningShadowSaturation: 0
- Temperature: 4100
- Tint: -5
- ToneCurve: 0, 0, 32, 22, 64, 56, 128, 128, 192, 196, 255, 255
- ToneCurveName: Medium Contrast
- Version: 6.2
- Vibrance: +28
- VignetteAmount: 0
- WhiteBalance: As Shot
- XMP-exif
- DateTimeDigitized: 2011:09:17 20:32:25.10+03:00
- DateTimeOriginal: 2011:09:17 20:32:25.10+03:00
- ExifImageHeight: 2802
- ExifImageWidth: 1602
- FlashFired: False
- FlashFunction: False
- FlashMode: Unknown
- FlashRedEyeMode: False
- FlashReturn: No return detection
- XMP-tiff
- ImageHeight: 2802
- ImageWidth: 1602
- XMP-xmp
- CreateDate: 2011:09:17 20:32:25.10+03:00
- ModifyDate: 2011:09:17 14:55:24+03:00
- Просмотров: 425
- Рейтинг: голосов еще нет
- Отзывов: 0
Получить код для блога
| Вставка фотографии в текущем разрешении |
Вставка миниатюры |
HTML (для вставки в блог):
BBCode (для вставки в форум):
Ссылка на фото:
Ссылка на миниатюру:
- Послать ссылку другу
| Комментарии к фотографии |