- Раздел: Тесты фототехники
- Дата съёмки: 24.09.2011 09:26
- Дата загрузки фото: 24.09.2011 19:39
- Оригинальная фотография: 3565 x 2674 (775 Кб)
- Технические характеристики:
- Фотоаппарат: Pentax Q
- Выдержка: 1/40
- Гиперфокальное расстояние: inf m
- Диафрагма: 1,9
- Светочувствительность: 125
- Фокусное расстояние: 8,0 mm (35 mm equivalent: 40,0 mm)
- Полный EXIF
- Adobe
- ColorTransform: YCbCr
- Composite
- Aperture: 1,9
- CircleOfConfusion: 0,005 mm
- FOV: 48,0 deg
- FocalLength35efl: 8,0 mm (35 mm equivalent: 40,0 mm)
- HyperfocalDistance: inf m
- ScaleFactor35efl: 5,9
- ShutterSpeed: 1/40
- ExifIFD
- ApertureValue: 1,9
- ColorSpace: sRGB
- Contrast: High
- CreateDate: 2011:09:24 09:26:35
- CustomRendered: Normal
- DateTimeOriginal: 2011:09:24 09:26:35
- ExifImageHeight: 2674
- ExifImageWidth: 3565
- ExposureCompensation: 0
- ExposureMode: Auto
- ExposureProgram: Program AE
- ExposureTime: 1/40
- FNumber: 1,9
- Flash: No Flash
- FocalLength: 8,5 mm
- FocalLengthIn35mmFormat: 47 mm
- ISO: 125
- LensMake: PENTAX
- LensModel: 01 STANDARD PRIME
- MeteringMode: Spot
- Saturation: Normal
- SceneCaptureType: Standard
- SensingMethod: One-chip color area
- SerialNumber: 4128423
- Sharpness: Hard
- ShutterSpeedValue: 1/40
- SubjectDistanceRange: Macro
- WhiteBalance: Auto
- ICC-header
- ICC-meas
- ICC-view
- IFD0
- Make: PENTAX
- Model: PENTAX Q
- ModifyDate: 2011:09:24 17:20:24
- Orientation: Horizontal (normal)
- IFD1
- IPTC
- DateCreated: 2011:09:24
- System
- XMP-aux
- Lens: 01 STANDARD PRIME
- LensID: 21 1
- LensInfo: 8.5-?mm f/1.9-?
- XMP-crs
- AlreadyApplied: True
- BlueHue: 0
- BlueSaturation: 0
- Brightness: +50
- CameraProfile: Embedded
- ChromaticAberrationB: 0
- ChromaticAberrationR: 0
- Clarity: +23
- ColorNoiseReduction: 25
- ColorNoiseReductionDetail: 50
- Contrast: +34
- ConvertToGrayscale: False
- CropAngle: 0
- CropBottom: 0.960616
- CropConstrainToWarp: 1
- CropHeight: 4
- CropLeft: 0.084724
- CropRight: 0.975986
- CropTop: 0.069355
- CropUnit: Unknown (3)
- CropWidth: 3
- Defringe: 0
- Exposure: 0.00
- FillLight: 0
- GrainAmount: 0
- GreenHue: 0
- GreenSaturation: 0
- HasCrop: True
- HasSettings: True
- HighlightRecovery: 0
- HueAdjustmentAqua: 0
- HueAdjustmentBlue: 0
- HueAdjustmentGreen: 0
- HueAdjustmentMagenta: 0
- HueAdjustmentOrange: 0
- HueAdjustmentPurple: 0
- HueAdjustmentRed: 0
- HueAdjustmentYellow: 0
- LensManualDistortionAmount: 0
- LensProfileEnable: 0
- LensProfileSetup: LensDefaults
- LuminanceAdjustmentAqua: 0
- LuminanceAdjustmentBlue: 0
- LuminanceAdjustmentGreen: 0
- LuminanceAdjustmentMagenta: 0
- LuminanceAdjustmentOrange: 0
- LuminanceAdjustmentPurple: 0
- LuminanceAdjustmentRed: 0
- LuminanceAdjustmentYellow: 0
- LuminanceSmoothing: 0
- ParametricDarks: 0
- ParametricHighlightSplit: 75
- ParametricHighlights: 0
- ParametricLights: 0
- ParametricMidtoneSplit: 50
- ParametricShadowSplit: 25
- ParametricShadows: 0
- PerspectiveHorizontal: 0
- PerspectiveRotate: 0.0
- PerspectiveScale: 100
- PerspectiveVertical: 0
- PostCropVignetteAmount: 0
- ProcessVersion: 5.7
- RawFileName: IMGP0059.DNG
- RedHue: 0
- RedSaturation: 0
- Saturation: +7
- SaturationAdjustmentAqua: 0
- SaturationAdjustmentBlue: 0
- SaturationAdjustmentGreen: 0
- SaturationAdjustmentMagenta: 0
- SaturationAdjustmentOrange: 0
- SaturationAdjustmentPurple: 0
- SaturationAdjustmentRed: 0
- SaturationAdjustmentYellow: 0
- ShadowTint: 0
- Shadows: 5
- SharpenDetail: 25
- SharpenEdgeMasking: 0
- SharpenRadius: +1.0
- Sharpness: 25
- SplitToningBalance: 0
- SplitToningHighlightHue: 0
- SplitToningHighlightSaturation: 0
- SplitToningShadowHue: 0
- SplitToningShadowSaturation: 0
- Temperature: 3950
- Tint: -28
- ToneCurve: 0, 0, 32, 22, 64, 56, 128, 128, 192, 196, 255, 255
- ToneCurveName: Medium Contrast
- Version: 6.4.1
- Vibrance: +11
- VignetteAmount: 0
- WhiteBalance: As Shot
- XMP-dc
- XMP-exif
- DateTimeDigitized: 2011:09:24 09:26:35+04:00
- FlashFired: False
- FlashFunction: False
- FlashMode: Unknown
- FlashRedEyeMode: False
- FlashReturn: No return detection
- XMP-tiff
- XMP-xmp
- CreatorTool: PENTAX Q Ver 1.00
- ModifyDate: 2011:09:24 17:20:24+04:00
- Rating: 0
- XMP-xmpMM
- Просмотров: 881
- Рейтинг: голосов еще нет
- Отзывов: отключены