- Раздел: Пейзаж
- Дата съёмки: 25.09.2011 13:46
- Дата загрузки фото: 26.09.2011 00:16
- Оригинальная фотография: 2700 x 2035 (2,3 Мб)
- Технические характеристики:
- Фотоаппарат: Canon PowerShot SX20 IS
- Выдержка: 1/640
- Гиперфокальное расстояние: inf m
- Диафрагма: 4,0
- Светочувствительность: 80
- Фокусное расстояние: 5,0 mm (35 mm equivalent: 40,0 mm)
- Полный EXIF
- Composite
- Aperture: 4,0
- CircleOfConfusion: 0,004 mm
- DOF: inf (0,00 m - inf)
- FOV: 48,0 deg
- FocalLength35efl: 5,0 mm (35 mm equivalent: 40,0 mm)
- HyperfocalDistance: inf m
- ScaleFactor35efl: 8,3
- ShutterSpeed: 1/640
- ExifIFD
- ApertureValue: 4,0
- CreateDate: 2011:09:25 13:46:41
- CustomRendered: Normal
- DateTimeOriginal: 2011:09:25 13:46:41
- DigitalZoomRatio: 1
- ExifImageHeight: 2035
- ExifImageWidth: 2700
- ExposureCompensation: 0
- ExposureMode: Auto
- ExposureTime: 1/640
- FNumber: 4,0
- Flash: Off, Did not fire
- FocalLength: 5,6 mm
- ISO: 80
- MaxApertureValue: 2,8
- MeteringMode: Multi-segment
- SceneCaptureType: Standard
- SensingMethod: One-chip color area
- ShutterSpeedValue: 1/640
- SubjectDistance: 3,39 m
- WhiteBalance: Auto
- ICC-header
- ICC-meas
- ICC-view
- IFD0
- Make: Canon
- Model: Canon PowerShot SX20 IS
- ModifyDate: 2011:09:25 23:11:39
- Orientation: Horizontal (normal)
- Software: Программа цифровой обработки изображений компании ACD Systems
- IFD1
- System
- XMP-aux
- ApproximateFocusDistance: 3,39
- Firmware: 1.02
- FlashCompensation: 0
- Lens: 5.0-100.0 mm
- LensInfo: 5-100mm f/?
- XMP-crs
- AlreadyApplied: True
- BlueHue: 0
- BlueSaturation: 0
- Brightness: 0
- CameraProfile: Embedded
- ChromaticAberrationB: +21
- ChromaticAberrationR: -21
- Clarity: +40
- ColorNoiseReduction: 0
- Contrast: 0
- ConvertToGrayscale: False
- Defringe: 2
- Exposure: 0.00
- FillLight: 0
- GrainAmount: 0
- GreenHue: 0
- GreenSaturation: 0
- HasCrop: False
- HasSettings: True
- HighlightRecovery: 50
- HueAdjustmentAqua: 0
- HueAdjustmentBlue: 0
- HueAdjustmentGreen: 0
- HueAdjustmentMagenta: 0
- HueAdjustmentOrange: 0
- HueAdjustmentPurple: 0
- HueAdjustmentRed: 0
- HueAdjustmentYellow: 0
- IncrementalTemperature: 0
- IncrementalTint: 0
- LensManualDistortionAmount: 0
- LensProfileEnable: 0
- LensProfileSetup: LensDefaults
- LuminanceAdjustmentAqua: 0
- LuminanceAdjustmentBlue: 0
- LuminanceAdjustmentGreen: 0
- LuminanceAdjustmentMagenta: 0
- LuminanceAdjustmentOrange: 0
- LuminanceAdjustmentPurple: 0
- LuminanceAdjustmentRed: 0
- LuminanceAdjustmentYellow: 0
- LuminanceSmoothing: 0
- ParametricDarks: -9
- ParametricHighlightSplit: 75
- ParametricHighlights: 0
- ParametricLights: 0
- ParametricMidtoneSplit: 50
- ParametricShadowSplit: 25
- ParametricShadows: 0
- PerspectiveHorizontal: 0
- PerspectiveRotate: 0.0
- PerspectiveScale: 100
- PerspectiveVertical: 0
- PostCropVignetteAmount: 0
- ProcessVersion: 5.7
- RedHue: 0
- RedSaturation: 0
- Saturation: +14
- SaturationAdjustmentAqua: 0
- SaturationAdjustmentBlue: 0
- SaturationAdjustmentGreen: 0
- SaturationAdjustmentMagenta: 0
- SaturationAdjustmentOrange: 0
- SaturationAdjustmentPurple: 0
- SaturationAdjustmentRed: 0
- SaturationAdjustmentYellow: 0
- ShadowTint: 0
- Shadows: 0
- SharpenDetail: 40
- SharpenEdgeMasking: 0
- SharpenRadius: +1.0
- Sharpness: 10
- SplitToningBalance: 0
- SplitToningHighlightHue: 0
- SplitToningHighlightSaturation: 0
- SplitToningShadowHue: 0
- SplitToningShadowSaturation: 0
- ToneCurve: 0, 0, 255, 255
- ToneCurveName: Linear
- Version: 6.2
- Vibrance: +10
- VignetteAmount: 0
- WhiteBalance: As Shot
- XMP-exif
- DateTimeDigitized: 2011:09:25 13:46:41+02:00
- DateTimeOriginal: 2011:09:25 13:46:41+02:00
- ExifImageHeight: 3000
- ExifImageWidth: 4000
- FlashFired: False
- FlashFunction: False
- FlashMode: Off
- FlashRedEyeMode: False
- FlashReturn: No return detection
- XMP-tiff
- ImageHeight: 3000
- ImageWidth: 4000
- XMP-x
- XMP-xmp
- CreateDate: 2011:09:25 13:46:41+02:00
- ModifyDate: 2011:09:25 23:01:10+02:00
- Просмотров: 275
- Рейтинг: голосов еще нет
- Отзывов: 0