IMGP7725.jpg |
IMGP7725.jpg
- Раздел: Природа
- Дата съёмки: 28.09.2011 13:49
- Дата загрузки фото: 29.09.2011 13:13
- Оригинальная фотография: 2848 x 4288 (5,7 Мб)
- Технические характеристики:
- Фотоаппарат: Pentax K-x
- Выдержка: 1/125
- Светочувствительность: 200
- Экспокоррекция: +2
- Полный EXIF
- Adobe
- ColorTransform: YCbCr
- Composite
- ShutterSpeed: 1/125
- ExifIFD
- CFAPattern: [Blue,Green][Green,Red]
- ColorSpace: Uncalibrated
- Contrast: High
- CreateDate: 2011:09:28 13:49:27
- CustomRendered: Normal
- DateTimeOriginal: 2011:09:28 13:49:27
- ExifImageHeight: 4288
- ExifImageWidth: 2848
- ExposureCompensation: +2
- ExposureMode: Manual
- ExposureProgram: Aperture-priority AE
- ExposureTime: 1/125
- Flash: Off, Did not fire
- ISO: 200
- MeteringMode: Center-weighted average
- Saturation: Normal
- SceneCaptureType: Standard
- SensingMethod: One-chip color area
- Sharpness: Hard
- ShutterSpeedValue: 1/125
- SubjectDistanceRange: Unknown
- WhiteBalance: Auto
- ICC-header
- IFD0
- Artist: SAMURAEV
- Copyright: SAMURAEV
- Make: PENTAX
- Model: PENTAX K-x
- ModifyDate: 2011:09:29 06:05:06
- Orientation: Horizontal (normal)
- IFD1
- IPTC
- By-line: SAMURAEV
- CopyrightNotice: SAMURAEV
- DateCreated: 2011:09:28
- System
- XMP-aux
- XMP-crs
- AlreadyApplied: True
- BlueHue: 0
- BlueSaturation: 0
- Brightness: +50
- ChromaticAberrationB: 0
- ChromaticAberrationR: 0
- Clarity: -13
- ColorNoiseReduction: 25
- ColorNoiseReductionDetail: 50
- Contrast: +25
- ConvertToGrayscale: False
- Defringe: 0
- Exposure: 0.00
- FillLight: 0
- GrainAmount: 0
- GreenHue: 0
- GreenSaturation: 0
- HasCrop: False
- HasSettings: True
- HighlightRecovery: 0
- HueAdjustmentAqua: 0
- HueAdjustmentBlue: 0
- HueAdjustmentGreen: 0
- HueAdjustmentMagenta: 0
- HueAdjustmentOrange: 0
- HueAdjustmentPurple: 0
- HueAdjustmentRed: 0
- HueAdjustmentYellow: 0
- LuminanceAdjustmentAqua: 0
- LuminanceAdjustmentBlue: 0
- LuminanceAdjustmentGreen: 0
- LuminanceAdjustmentMagenta: 0
- LuminanceAdjustmentOrange: 0
- LuminanceAdjustmentPurple: 0
- LuminanceAdjustmentRed: 0
- LuminanceAdjustmentYellow: 0
- LuminanceSmoothing: 0
- ParametricDarks: -10
- ParametricHighlightSplit: 75
- ParametricHighlights: 0
- ParametricLights: +13
- ParametricMidtoneSplit: 50
- ParametricShadowSplit: 25
- ParametricShadows: -40
- PostCropVignetteAmount: 0
- ProcessVersion: 5.7
- RawFileName: IMGP7725.PEF
- RedHue: 0
- RedSaturation: 0
- Saturation: 0
- SaturationAdjustmentAqua: 0
- SaturationAdjustmentBlue: 0
- SaturationAdjustmentGreen: 0
- SaturationAdjustmentMagenta: 0
- SaturationAdjustmentOrange: 0
- SaturationAdjustmentPurple: 0
- SaturationAdjustmentRed: 0
- SaturationAdjustmentYellow: 0
- ShadowTint: 0
- Shadows: 5
- SharpenDetail: 25
- SharpenEdgeMasking: 0
- SharpenRadius: +1.0
- Sharpness: 25
- SplitToningBalance: 0
- SplitToningHighlightHue: 0
- SplitToningHighlightSaturation: 0
- SplitToningShadowHue: 0
- SplitToningShadowSaturation: 0
- Temperature: 5350
- Tint: +14
- ToneCurve: 0, 0, 32, 22, 64, 56, 128, 128, 192, 196, 255, 255
- ToneCurveName: Medium Contrast
- Version: 6.0
- Vibrance: 0
- VignetteAmount: 0
- WhiteBalance: Custom
- XMP-dc
- Creator: SAMURAEV
- Format: image/jpeg
- Rights: SAMURAEV
- XMP-xmp
- CreateDate: 2011:09:28 13:49:27+04:00
- CreatorTool: K-x Ver 1.01
- ModifyDate: 2011:09:29 06:05:06+04:00
- Rating: 0
- XMP-xmpMM
- Просмотров: 262
- Рейтинг: голосов еще нет
- Отзывов: 0
Получить код для блога
Вставка фотографии в текущем разрешении |
Вставка миниатюры |
HTML (для вставки в блог):
BBCode (для вставки в форум):
Ссылка на фото:
Ссылка на миниатюру:
- Послать ссылку другу
Комментарии к фотографии |