SAM_2626.JPG |
![](img/title-line.gif) |
![](img/title-shadow.gif) | |
SAM_2626.JPG
- Раздел: Пейзаж
- Дата съёмки: 04.08.2011 18:25
- Дата загрузки фото: 11.05.2012 11:06
- Оригинальная фотография: 4592 x 3056 (3,1 Мб)
- Технические характеристики:
- Фотоаппарат: Samsung NX10
- Выдержка: 1/80
- Гиперфокальное расстояние: inf m
- Диафрагма: 13,0
- Светочувствительность: 200
- Фокусное расстояние: 20,0 mm (35 mm equivalent: 20,0 mm)
- Экспокоррекция: +0,3
- Полный EXIF
- Composite
- Aperture: 13,0
- CircleOfConfusion: 0,020 mm
- FOV: 83,0 deg
- FocalLength35efl: 20,0 mm (35 mm equivalent: 20,0 mm)
- HyperfocalDistance: inf m
- ScaleFactor35efl: 1,5
- ShutterSpeed: 1/80
- ExifIFD
- ColorSpace: sRGB
- Contrast: Normal
- CreateDate: 2011:08:04 18:25:13
- DateTimeOriginal: 2011:08:04 18:25:13
- DigitalZoomRatio: 1
- ExifImageHeight: 3056
- ExifImageWidth: 4592
- ExposureCompensation: +0,3
- ExposureMode: Auto
- ExposureProgram: Program AE
- ExposureTime: 1/80
- FNumber: 13,0
- Flash: No Flash
- FocalLength: 20,0 mm
- FocalLengthIn35mmFormat: 30 mm
- ISO: 200
- LightSource: Other
- MaxApertureValue: 3,8
- MeteringMode: Multi-segment
- Saturation: Normal
- SceneCaptureType: Standard
- SceneType: Directly photographed
- SensingMethod: One-chip color area
- Sharpness: Hard
- SubjectDistanceRange: Unknown
- WhiteBalance: Auto
- IFD0
- Make: SAMSUNG
- Model: NX10
- ModifyDate: 2011:08:04 18:25:13
- Orientation: Horizontal (normal)
- Software: 01.30
- IFD1
- MPF0
- MPFVersion: 0100
- NumberOfImages: 2
- MPImage1
- DependentImage1EntryNumber: 2
- DependentImage2EntryNumber: 0
- MPImageFlags: Dependent parent image
- MPImageFormat: JPEG
- MPImageLength: 3208225
- MPImageStart: 0
- MPImageType: Baseline MP Primary Image
- MPImage2
- DependentImage1EntryNumber: 0
- MPImageFlags: Dependent child image
- MPImageLength: 60838
- MPImageStart: 3208225
- MPImageType: Large Thumbnail (VGA equivalent)
- Samsung
- CameraTemperature: 38,4 C
- MakerNoteVersion: 0100
- PictureWizard: Mode: 10, Col: 0, Sat: 0, Sha: 3, Con: 0
- System
- XMP-crs
- AlreadyApplied: False
- BlueHue: 0
- BlueSaturation: 0
- Brightness: 0
- CameraProfile: Embedded
- ChromaticAberrationB: 0
- ChromaticAberrationR: 0
- Clarity: 0
- ColorNoiseReduction: 0
- Contrast: 0
- ConvertToGrayscale: False
- Defringe: 0
- Exposure: 0.00
- FillLight: 0
- GrainAmount: 0
- GreenHue: 0
- GreenSaturation: 0
- HasCrop: False
- HasSettings: True
- HighlightRecovery: 0
- HueAdjustmentAqua: 0
- HueAdjustmentBlue: 0
- HueAdjustmentGreen: 0
- HueAdjustmentMagenta: 0
- HueAdjustmentOrange: 0
- HueAdjustmentPurple: 0
- HueAdjustmentRed: 0
- HueAdjustmentYellow: 0
- IncrementalTemperature: 0
- IncrementalTint: 0
- LuminanceAdjustmentAqua: 0
- LuminanceAdjustmentBlue: 0
- LuminanceAdjustmentGreen: 0
- LuminanceAdjustmentMagenta: 0
- LuminanceAdjustmentOrange: 0
- LuminanceAdjustmentPurple: 0
- LuminanceAdjustmentRed: 0
- LuminanceAdjustmentYellow: 0
- LuminanceSmoothing: 0
- ParametricDarks: +8
- ParametricHighlightSplit: 75
- ParametricHighlights: 0
- ParametricLights: 0
- ParametricMidtoneSplit: 50
- ParametricShadowSplit: 25
- ParametricShadows: 0
- PostCropVignetteAmount: 0
- ProcessVersion: 5.7
- RawFileName: SAM_2626.JPG
- RedHue: 0
- RedSaturation: 0
- Saturation: 0
- SaturationAdjustmentAqua: 0
- SaturationAdjustmentBlue: 0
- SaturationAdjustmentGreen: 0
- SaturationAdjustmentMagenta: 0
- SaturationAdjustmentOrange: 0
- SaturationAdjustmentPurple: 0
- SaturationAdjustmentRed: 0
- SaturationAdjustmentYellow: 0
- ShadowTint: 0
- Shadows: 0
- SharpenDetail: 25
- SharpenEdgeMasking: 0
- SharpenRadius: +1.0
- Sharpness: 0
- SplitToningBalance: 0
- SplitToningHighlightHue: 0
- SplitToningHighlightSaturation: 0
- SplitToningShadowHue: 0
- SplitToningShadowSaturation: 0
- ToneCurve: 0, 0, 255, 255
- ToneCurveName: Linear
- Version: 6.0
- Vibrance: 0
- VignetteAmount: 0
- WhiteBalance: As Shot
- XMP-exif
- ApertureValue: 13,0
- DateTimeDigitized: 2011:08:04 18:25:13+04:00
- DateTimeOriginal: 2011:08:04 18:25:13+04:00
- FlashFired: False
- FlashFunction: False
- FlashMode: Unknown
- FlashRedEyeMode: False
- FlashReturn: No return detection
- ShutterSpeedValue: 1/80
- XMP-tiff
- XMP-xmp
- CreateDate: 2011:08:04 18:25:13+04:00
- CreatorTool: 01.30
- ModifyDate: 2011:08:04 18:25:13+04:00
- Rating: 0
Получить код для блога
Вставка фотографии в текущем разрешении |
Вставка миниатюры |
HTML (для вставки в блог):
BBCode (для вставки в форум):
Ссылка на фото:
Ссылка на миниатюру:
- Послать ссылку другу
Комментарии к фотографии |