- Раздел: Портрет
- Дата съёмки: 04.10.2011 13:42
- Дата загрузки фото: 09.10.2011 18:28
- Оригинальная фотография: 1824 x 2757 (2,4 Мб)
- Технические характеристики:
- Фотоаппарат: Nikon D40
- Выдержка: 1/80
- Гиперфокальное расстояние: inf m
- Диафрагма: 5,3
- Светочувствительность: 200
- Фокусное расстояние: 42,0 mm (35 mm equivalent: 42,0 mm)
- Полный EXIF
- Adobe
- ColorTransform: YCbCr
- Composite
- Aperture: 5,3
- CircleOfConfusion: 0,020 mm
- DOF: inf (0,00 m - inf)
- FOV: 46,0 deg
- FocalLength35efl: 42,0 mm (35 mm equivalent: 42,0 mm)
- HyperfocalDistance: inf m
- ScaleFactor35efl: 1,5
- ShutterSpeed: 1/80
- ExifIFD
- ApertureValue: 5,3
- CFAPattern: [Blue,Green][Green,Red]
- Contrast: Normal
- CreateDate: 2011:10:04 13:42:26
- CustomRendered: Normal
- DateTimeOriginal: 2011:10:04 13:42:26
- DigitalZoomRatio: 1
- ExposureCompensation: 0
- ExposureMode: Auto
- ExposureProgram: Program AE
- ExposureTime: 1/80
- FNumber: 5,3
- Flash: No Flash
- FocalLength: 42,0 mm
- FocalLengthIn35mmFormat: 63 mm
- GainControl: None
- ISO: 200
- LightSource: Unknown
- MaxApertureValue: 5,1
- MeteringMode: Multi-segment
- Saturation: Normal
- SceneCaptureType: Standard
- SceneType: Directly photographed
- SensingMethod: One-chip color area
- Sharpness: Normal
- ShutterSpeedValue: 1/80
- SubjectDistance: 1,26 m
- SubjectDistanceRange: Unknown
- WhiteBalance: Auto
- ICC-header
- ICC-meas
- ICC-view
- IFD0
- Copyright: laverov.com
- Make: NIKON CORPORATION
- Model: NIKON D40
- ModifyDate: 2011:10:06 00:50:27
- Software: Ver.1.11
- IFD1
- IPTC
- By-line: tamianni
- CopyrightNotice: laverov.com
- System
- XMP-aux
- ImageNumber: 30329
- Lens: 18.0-55.0 mm f/3.5-5.6
- LensID: 148
- LensInfo: 18-55mm f/3.5-5.6
- SerialNumber: 2359933
- XMP-crs
- AlreadyApplied: True
- BlueHue: 0
- BlueSaturation: 0
- Brightness: +78
- ChromaticAberrationB: 0
- ChromaticAberrationR: 0
- Clarity: 0
- ColorNoiseReduction: 25
- ColorNoiseReductionDetail: 50
- Contrast: +62
- ConvertToGrayscale: False
- CropAngle: -1.98628
- CropBottom: 0.911413
- CropConstrainToWarp: 0
- CropHeight: 1824
- CropLeft: 0.035787
- CropRight: 0.972798
- CropTop: 0.04778
- CropUnit: pixels
- CropWidth: 2757
- Defringe: 0
- Exposure: +0.75
- FillLight: 10
- GrainAmount: 0
- GreenHue: 0
- GreenSaturation: 0
- HasCrop: True
- HasSettings: True
- HighlightRecovery: 72
- HueAdjustmentAqua: 0
- HueAdjustmentBlue: 0
- HueAdjustmentGreen: 0
- HueAdjustmentMagenta: 0
- HueAdjustmentOrange: 0
- HueAdjustmentPurple: 0
- HueAdjustmentRed: 0
- HueAdjustmentYellow: 0
- LensManualDistortionAmount: 0
- LensProfileEnable: 0
- LensProfileSetup: LensDefaults
- LuminanceAdjustmentAqua: 0
- LuminanceAdjustmentBlue: 0
- LuminanceAdjustmentGreen: 0
- LuminanceAdjustmentMagenta: 0
- LuminanceAdjustmentOrange: 0
- LuminanceAdjustmentPurple: 0
- LuminanceAdjustmentRed: 0
- LuminanceAdjustmentYellow: 0
- LuminanceNoiseReductionContrast: 0
- LuminanceNoiseReductionDetail: 50
- LuminanceSmoothing: 18
- ParametricDarks: 0
- ParametricHighlightSplit: 75
- ParametricHighlights: 0
- ParametricLights: 0
- ParametricMidtoneSplit: 50
- ParametricShadowSplit: 25
- ParametricShadows: 0
- PerspectiveHorizontal: 0
- PerspectiveRotate: 0.0
- PerspectiveScale: 100
- PerspectiveVertical: 0
- PostCropVignetteAmount: -10
- PostCropVignetteFeather: 50
- PostCropVignetteHighlightContrast: 0
- PostCropVignetteMidpoint: 50
- PostCropVignetteRoundness: 0
- PostCropVignetteStyle: 1
- ProcessVersion: 5.7
- RedHue: 0
- RedSaturation: 0
- Saturation: 0
- SaturationAdjustmentAqua: 0
- SaturationAdjustmentBlue: 0
- SaturationAdjustmentGreen: 0
- SaturationAdjustmentMagenta: 0
- SaturationAdjustmentOrange: 0
- SaturationAdjustmentPurple: 0
- SaturationAdjustmentRed: 0
- SaturationAdjustmentYellow: 0
- ShadowTint: 0
- Shadows: 8
- SharpenDetail: 25
- SharpenEdgeMasking: 0
- SharpenRadius: +1.0
- Sharpness: 25
- SplitToningBalance: 0
- SplitToningHighlightHue: 0
- SplitToningHighlightSaturation: 0
- SplitToningShadowHue: 0
- SplitToningShadowSaturation: 0
- Temperature: 5103
- Tint: -4
- ToneCurve: 0, 0, 32, 22, 64, 56, 128, 128, 192, 196, 255, 255
- ToneCurveName: Medium Contrast
- Version: 6.1
- Vibrance: +15
- VignetteAmount: 0
- WhiteBalance: Custom
- XMP-dc
- Creator: tamianni
- Rights: laverov.com
- XMP-exif
- DateTimeDigitized: 2011:10:04 13:42:26.40+03:00
- DateTimeOriginal: 2011:10:04 13:42:26.40+03:00
- ExifImageHeight: 2757
- ExifImageWidth: 1824
- FlashFired: False
- FlashFunction: False
- FlashMode: Unknown
- FlashRedEyeMode: False
- FlashReturn: No return detection
- XMP-tiff
- ImageHeight: 2757
- ImageWidth: 1824
- XMP-xmp
- CreateDate: 2011:10:04 13:42:26.40+03:00
- ModifyDate: 2011:10:06 00:50:27+03:00
- XMP-xmpRights
- Просмотров: 681
- Рейтинг: голосов еще нет
- Отзывов: 0