- Раздел: Другое, разное
- Дата съёмки: 25.10.2008 11:59
- Дата загрузки фото: 15.10.2011 17:14
- Оригинальная фотография: 1920 x 1287 (797 Кб)
- Технические характеристики:
- Фотоаппарат: Canon EOS 350D DIGITAL
- Выдержка: 1/1600
- Гиперфокальное расстояние: inf m
- Диафрагма: 3,5
- Светочувствительность: 100
- Фокусное расстояние: 24,0 mm (35 mm equivalent: 48,0 mm)
- Экспокоррекция: -1/3
- Полный EXIF
- Adobe
- ColorTransform: YCbCr
- Composite
- Aperture: 3,5
- CircleOfConfusion: 0,010 mm
- FOV: 41,0 deg
- FocalLength35efl: 24,0 mm (35 mm equivalent: 48,0 mm)
- HyperfocalDistance: inf m
- ScaleFactor35efl: 2,9
- ShutterSpeed: 1/1600
- ExifIFD
- ApertureValue: 3,5
- ColorSpace: sRGB
- CreateDate: 2008:10:25 11:59:40
- CustomRendered: Normal
- DateTimeOriginal: 2008:10:25 11:59:40
- ExifImageHeight: 1287
- ExifImageWidth: 1920
- ExposureCompensation: -1/3
- ExposureMode: Auto
- ExposureProgram: Aperture-priority AE
- ExposureTime: 1/1600
- FNumber: 3,5
- Flash: Off, Did not fire
- FocalLength: 24,0 mm
- ISO: 100
- MaxApertureValue: 3,5
- MeteringMode: Multi-segment
- SceneCaptureType: Standard
- ShutterSpeedValue: 1/1600
- WhiteBalance: Auto
- ICC-header
- ICC-meas
- ICC-view
- IFD0
- Artist: Yuras
- Make: Canon
- Model: Canon EOS 350D DIGITAL
- ModifyDate: 2011:10:15 16:03:27
- Orientation: Horizontal (normal)
- IFD1
- IPTC
- By-line: Yuras
- System
- XMP-aux
- Firmware: 1.0.3
- FlashCompensation: 0
- ImageNumber: 28
- Lens: 24.0-85.0 mm
- LensID: 65535
- LensInfo: 24-85mm f/?
- OwnerName: Yuras
- SerialNumber: 230102161
- XMP-crs
- AlreadyApplied: True
- BlueHue: +27
- BlueSaturation: -27
- Brightness: +23
- CameraProfile: Camera Landscape beta 1
- ChromaticAberrationB: 0
- ChromaticAberrationR: 0
- Clarity: +100
- ColorNoiseReduction: 25
- Contrast: +8
- ConvertToGrayscale: True
- Defringe: 0
- Exposure: -1.85
- FillLight: 21
- GrainAmount: 0
- GrayMixerAqua: -80
- GrayMixerBlue: -91
- GrayMixerGreen: +18
- GrayMixerMagenta: -48
- GrayMixerOrange: +43
- GrayMixerPurple: -38
- GrayMixerRed: -45
- GrayMixerYellow: +100
- GreenHue: +30
- GreenSaturation: +20
- HasCrop: False
- HasSettings: True
- HighlightRecovery: 64
- LuminanceSmoothing: 18
- ParametricDarks: +57
- ParametricHighlightSplit: 75
- ParametricHighlights: -42
- ParametricLights: +90
- ParametricMidtoneSplit: 50
- ParametricShadowSplit: 25
- ParametricShadows: -12
- PostCropVignetteAmount: 0
- ProcessVersion: 5.0
- RawFileName: IMG_6940.CR2
- RedHue: 0
- RedSaturation: 0
- ShadowTint: 0
- Shadows: 23
- SharpenDetail: 25
- SharpenEdgeMasking: 17
- SharpenRadius: +0.5
- Sharpness: 109
- SplitToningBalance: 0
- SplitToningHighlightHue: 0
- SplitToningHighlightSaturation: 0
- SplitToningShadowHue: 0
- SplitToningShadowSaturation: 0
- Temperature: 5550
- Tint: +12
- ToneCurve: 0, 0, 32, 22, 64, 56, 128, 128, 192, 196, 255, 255
- ToneCurveName: Medium Contrast
- Version: 5.7
- VignetteAmount: 0
- WhiteBalance: As Shot
- XMP-dc
- Creator: Yuras
- Format: image/jpeg
- XMP-exif
- DateTimeDigitized: 2008:10:25 11:59:40+03:00
- DateTimeOriginal: 2008:10:25 11:59:40+03:00
- FlashFired: False
- FlashFunction: False
- FlashMode: Off
- FlashRedEyeMode: False
- FlashReturn: No return detection
- XMP-tiff
- XMP-xmp
- CreateDate: 2008:10:25 11:59:40+03:00
- ModifyDate: 2011:10:15 16:03:27+03:00
- Rating: 0
- XMP-xmpMM
- Просмотров: 859
- Рейтинг: голосов еще нет
- Отзывов: 0