- Раздел: Репортаж
- Дата съёмки: 09.05.2009 17:31
- Дата загрузки фото: 23.10.2011 22:56
- Оригинальная фотография: 2382 x 1710 (1,4 Мб)
- Технические характеристики:
- Фотоаппарат: Canon PowerShot SX100 IS
- Выдержка: 1/400
- Гиперфокальное расстояние: inf m
- Диафрагма: 4,0
- Светочувствительность: 100
- Фокусное расстояние: 34,0 mm (35 mm equivalent: 204,0 mm)
- Полный EXIF
- Adobe
- ColorTransform: YCbCr
- Canon
- AEBBracketValue: 0
- AESetting: Normal AE
- AFAreaHeights: 18 0 0 0 0 0 0 0 0
- AFAreaMode: Single-point AF
- AFAreaWidths: 18 0 0 0 0 0 0 0 0
- AFAreaXPositions: 0 0 0 0 0 0 0 0 0
- AFAreaYPositions: 0 0 0 0 0 0 0 0 0
- AFImageHeight: 100
- AFImageWidth: 100
- AFPoint: Manual AF point selection
- AFPointsInFocus: 0
- AutoExposureBracketing: Off
- AutoISO: 100
- AutoRotate: None
- BaseISO: 100
- BulbDuration: 0
- CameraISO: 100
- CameraTemperature: 29 C
- CameraType: Compact
- CanonExposureMode: Shutter speed priority AE
- CanonFirmwareVersion: Firmware Version 1.00
- CanonFlashMode: Off
- CanonImageHeight: 1944
- CanonImageType: IMG:PowerShot SX100 IS JPEG
- CanonImageWidth: 2592
- CanonModelID: PowerShot SX100 IS
- Categories: (none)
- ContinuousDrive: Continuous
- Contrast: Normal
- ControlMode: Camera Local Control
- DateStampMode: Off
- DigitalZoom: None
- EasyMode: Manual
- ExposureCompensation: 0
- ExposureTime: 1/406
- FNumber: 4
- FaceDetectFrameHeight: 0
- FaceDetectFrameWidth: 0
- FacesDetected: 0
- FileNumber: 122-2177
- FirmwareRevision: 1.00 rev 3.00
- FlashBits: (none)
- FlashExposureComp: 0
- FlashGuideNumber: 0
- FlashOutput: 0
- FocalLength: 34,9 mm
- FocalType: Zoom
- FocalUnits: 1000/mm
- FocusContinuous: Single
- FocusDistanceLower: 0 m
- FocusDistanceUpper: 8,52 m
- FocusMode: Single
- FocusRange: Auto
- ISO: 100
- ImageStabilization: On
- LensType: Unknown (-1)
- LongFocal: 60 mm
- MacroMode: Normal
- ManualFlashOutput: n/a
- MaxAperture: 4
- MeasuredEV: 12,69
- MeteringMode: Evaluative
- MinAperture: 8
- MyColorMode: Neutral
- NDFilter: Off
- NumAFPoints: 9
- OpticalZoomCode: 16
- OwnerName:
- PrimaryAFPoint: 0
- Quality: Superfine
- RecordMode: JPEG
- Rotation: 0
- Saturation: Normal
- SelfTimer: Off
- SelfTimer2: 0
- SequenceNumber: 2
- Sharpness: 0
- ShortFocal: 6 mm
- SlowShutter: Off
- SpotMeteringMode: Center
- TargetAperture: 4
- TargetExposureTime: 1/403
- VRDOffset: 0
- ValidAFPoints: 1
- WhiteBalance: Custom
- ZoomSourceWidth: 3264
- ZoomTargetWidth: 3264
- Composite
- Aperture: 4,0
- CircleOfConfusion: 0,004 mm
- DOF: inf (0,00 m - inf)
- DriveMode: Continuous Shooting
- FOV: 10,0 deg
- FocalLength35efl: 34,0 mm (35 mm equivalent: 204,0 mm)
- HyperfocalDistance: inf m
- Lens: 6,0 - 60,0 mm
- Lens35efl: 6,0 - 60,0 mm (35 mm equivalent: 40,5 - 405,4 mm)
- LensID: Unknown 6-60mm
- ScaleFactor35efl: 6,8
- ShootingMode: Shutter speed priority AE
- ShutterSpeed: 1/400
- ExifIFD
- ApertureValue: 4,0
- ColorSpace: sRGB
- CompressedBitsPerPixel: 5
- CreateDate: 2009:05:09 17:31:47
- CustomRendered: Normal
- DateTimeOriginal: 2009:05:09 17:31:47
- DigitalZoomRatio: 1
- ExifImageHeight: 1944
- ExifImageWidth: 2592
- ExposureMode: Auto
- ExposureTime: 1/400
- FNumber: 4,0
- Flash: Off, Did not fire
- MaxApertureValue: 4,0
- MeteringMode: Multi-segment
- SceneCaptureType: Standard
- SensingMethod: One-chip color area
- ShutterSpeedValue: 1/403
- UserComment:
- WhiteBalance: Manual
- IFD0
- Make: Canon
- Model: Canon PowerShot SX100 IS
- ModifyDate: 2009:05:09 17:31:47
- Orientation: Horizontal (normal)
- IFD1
- RelatedImageHeight: 1944
- RelatedImageWidth: 2592
- System
- XMP-aux
- Firmware: 1.00
- FlashCompensation: 0
- Lens: 6.0-60.0 mm
- LensID: 65535
- LensInfo: 6-60mm f/?
- XMP-crs
- AlreadyApplied: False
- BlueHue: 0
- BlueSaturation: 0
- Brightness: 0
- CameraProfile: Embedded
- ChromaticAberrationB: 0
- ChromaticAberrationR: 0
- Clarity: +16
- ColorNoiseReduction: 0
- Contrast: 0
- ConvertToGrayscale: False
- Defringe: 0
- Exposure: 0.00
- FillLight: 0
- GrainAmount: 0
- GreenHue: 0
- GreenSaturation: 0
- HasCrop: False
- HasSettings: True
- HighlightRecovery: 0
- HueAdjustmentAqua: 0
- HueAdjustmentBlue: 0
- HueAdjustmentGreen: 0
- HueAdjustmentMagenta: 0
- HueAdjustmentOrange: 0
- HueAdjustmentPurple: 0
- HueAdjustmentRed: 0
- HueAdjustmentYellow: 0
- IncrementalTemperature: 0
- IncrementalTint: 0
- LuminanceAdjustmentAqua: 0
- LuminanceAdjustmentBlue: 0
- LuminanceAdjustmentGreen: 0
- LuminanceAdjustmentMagenta: 0
- LuminanceAdjustmentOrange: 0
- LuminanceAdjustmentPurple: 0
- LuminanceAdjustmentRed: 0
- LuminanceAdjustmentYellow: 0
- LuminanceSmoothing: 0
- ParametricDarks: 0
- ParametricHighlightSplit: 75
- ParametricHighlights: 0
- ParametricLights: 0
- ParametricMidtoneSplit: 50
- ParametricShadowSplit: 25
- ParametricShadows: 0
- PostCropVignetteAmount: 0
- ProcessVersion: 5.7
- RawFileName: IMG_2177.JPG
- RedHue: 0
- RedSaturation: 0
- Saturation: 0
- SaturationAdjustmentAqua: 0
- SaturationAdjustmentBlue: 0
- SaturationAdjustmentGreen: 0
- SaturationAdjustmentMagenta: 0
- SaturationAdjustmentOrange: 0
- SaturationAdjustmentPurple: 0
- SaturationAdjustmentRed: 0
- SaturationAdjustmentYellow: 0
- ShadowTint: 0
- Shadows: 0
- SharpenDetail: 25
- SharpenEdgeMasking: 0
- SharpenRadius: +1.0
- SplitToningBalance: 0
- SplitToningHighlightHue: 0
- SplitToningHighlightSaturation: 0
- SplitToningShadowHue: 0
- SplitToningShadowSaturation: 0
- ToneCurve: 0, 0, 255, 255
- ToneCurveName: Linear
- Version: 6.0
- Vibrance: +8
- VignetteAmount: 0
- WhiteBalance: As Shot
- XMP-exif
- DateTimeDigitized: 2009:05:09 17:31:47+04:00
- DateTimeOriginal: 2009:05:09 17:31:47+04:00
- FlashFired: False
- FlashFunction: False
- FlashMode: Off
- FlashRedEyeMode: False
- FlashReturn: No return detection
- ShutterSpeedValue: 1/400
- SubjectDistance: 8,38 m
- XMP-tiff
- XMP-xmp
- CreateDate: 2009:05:09 17:31:47+04:00
- ModifyDate: 2009:05:09 17:31:47+04:00
- Rating: 0
- Просмотров: 3897
- Рейтинг: голосов еще нет
- Отзывов: 0