- Раздел: Активный отдых, туризм
- Дата съёмки: 16.06.2009 07:42
- Дата загрузки фото: 28.10.2011 23:38
- Оригинальная фотография: 1200 x 986 (238 Кб)
- Технические характеристики:
- Фотоаппарат: Sony DSLR-A550
- Выдержка: 5,0
- Гиперфокальное расстояние: inf m
- Диафрагма: 8,0
- Светочувствительность: 200
- Фокусное расстояние: 10,0 mm (35 mm equivalent: 10,0 mm)
- Полный EXIF
- Adobe
- ColorTransform: YCbCr
- Composite
- Aperture: 8,0
- CircleOfConfusion: 0,020 mm
- FOV: 121,0 deg
- FocalLength35efl: 10,0 mm (35 mm equivalent: 10,0 mm)
- HyperfocalDistance: inf m
- LightValue: 2,7
- ScaleFactor35efl: 1,5
- ShutterSpeed: 5,0
- ExifIFD
- ApertureValue: 8,0
- BrightnessValue: -4,75
- ColorSpace: sRGB
- Contrast: Normal
- CreateDate: 2009:06:16 07:42:25
- CustomRendered: Normal
- DateTimeOriginal: 2009:06:16 07:42:25
- ExifImageHeight: 986
- ExifImageWidth: 1200
- ExposureCompensation: 0
- ExposureMode: Manual
- ExposureProgram: Manual
- ExposureTime: 5,0
- FNumber: 8,0
- Flash: Off, Did not fire
- FocalLength: 10,0 mm
- FocalLengthIn35mmFormat: 15 mm
- ISO: 200
- LensInfo: 28-80mm f/3.5-5.6
- LensModel: 28-80mm F3.5-5.6
- LightSource: Unknown
- MaxApertureValue: 4,0
- MeteringMode: Multi-segment
- Saturation: Normal
- SceneCaptureType: Standard
- SceneType: Directly photographed
- SensitivityType: Unknown
- Sharpness: Normal
- ShutterSpeedValue: 5,0
- WhiteBalance: Auto
- ICC-header
- ICC-meas
- ICC-view
- IFD0
- BitsPerSample: 8 8 8
- ImageDescription: SONY DSC
- ImageHeight: 2994
- ImageWidth: 3643
- Make: SONY
- Model: DSLR-A550
- ModifyDate: 2011:10:28 23:37:41
- Orientation: Horizontal (normal)
- PhotometricInterpretation: RGB
- SamplesPerPixel: 3
- IFD1
- IPTC
- Caption-Abstract: SONY DSC
- DateCreated: 2009:06:16
- System
- XMP-aux
- Lens: 28-80mm F3.5-5.6
- LensID: 30
- XMP-crs
- AlreadyApplied: True
- BlueHue: 0
- BlueSaturation: 0
- Brightness: +50
- ChromaticAberrationB: 0
- ChromaticAberrationR: 0
- Clarity: 0
- ColorNoiseReduction: 25
- ColorNoiseReductionDetail: 50
- Contrast: +25
- ConvertToGrayscale: True
- CropAngle: 0.702649
- CropBottom: 0.998045
- CropConstrainToWarp: 0
- CropHeight: 2994
- CropLeft: 0.100564
- CropRight: 0.885937
- CropTop: 0.003788
- CropUnit: pixels
- CropWidth: 3643
- Defringe: 0
- Exposure: -2.53
- FillLight: 15
- GrainAmount: 0
- GrayMixerAqua: -19
- GrayMixerBlue: +11
- GrayMixerGreen: -28
- GrayMixerMagenta: +6
- GrayMixerOrange: -19
- GrayMixerPurple: +18
- GrayMixerRed: -9
- GrayMixerYellow: -24
- GreenHue: 0
- GreenSaturation: 0
- HasCrop: True
- HasSettings: True
- HighlightRecovery: 0
- LensManualDistortionAmount: 0
- LensProfileEnable: 0
- LensProfileSetup: LensDefaults
- LuminanceSmoothing: 0
- ParametricDarks: 0
- ParametricHighlightSplit: 75
- ParametricHighlights: 0
- ParametricLights: 0
- ParametricMidtoneSplit: 50
- ParametricShadowSplit: 25
- ParametricShadows: 0
- PerspectiveHorizontal: 0
- PerspectiveRotate: 0.0
- PerspectiveScale: 100
- PerspectiveVertical: 0
- PostCropVignetteAmount: 0
- ProcessVersion: 5.7
- RedHue: 0
- RedSaturation: 0
- ShadowTint: 0
- Shadows: 5
- SharpenDetail: 25
- SharpenEdgeMasking: 0
- SharpenRadius: +1.0
- Sharpness: 25
- SplitToningBalance: 0
- SplitToningHighlightHue: 0
- SplitToningHighlightSaturation: 0
- SplitToningShadowHue: 0
- SplitToningShadowSaturation: 0
- Temperature: 5448
- Tint: -11
- ToneCurve: 0, 0, 32, 22, 64, 56, 128, 128, 192, 196, 255, 255
- ToneCurveName: Medium Contrast
- Version: 6.3
- VignetteAmount: 0
- WhiteBalance: Custom
- XMP-dc
- Description: SONY DSC
- Format: image/jpeg
- XMP-xmp
- CreateDate: 2011:07:22 16:42:48+04:00
- ModifyDate: 2011:10:28 23:37:41+04:00
- XMP-xmpMM
- XMP-xmpRights