- Раздел: Архитектура
- Дата съёмки: 08.10.2011 16:55
- Дата загрузки фото: 11.11.2011 15:29
- Оригинальная фотография: 1080 x 1626 (826 Кб)
- Технические характеристики:
- Фотоаппарат: Ricoh GXR A12
- Выдержка: 1/180
- Диафрагма: 5,6
- Светочувствительность: 200
- Фокусное расстояние: 18,0 mm
- Полный EXIF
- Adobe
- ColorTransform: YCbCr
- Composite
- Aperture: 5,6
- FocalLength35efl: 18,0 mm
- ShutterSpeed: 1/180
- ExifIFD
- ApertureValue: 5,6
- BrightnessValue: 6,4
- ColorSpace: sRGB
- CreateDate: 2011:10:08 16:55:42
- DateTimeOriginal: 2011:10:08 16:55:42
- ExifImageHeight: 1626
- ExifImageWidth: 1080
- ExposureCompensation: 0
- ExposureMode: Auto
- ExposureProgram: Aperture-priority AE
- ExposureTime: 1/180
- FNumber: 5,6
- Flash: Off, Did not fire
- FocalLength: 18,3 mm
- ISO: 200
- LensInfo: 18.3mm f/2.37841423
- LensModel: 18.3 mm f/2.4
- LightSource: Unknown
- MaxApertureValue: 2,4
- MeteringMode: Multi-segment
- SceneType: Directly photographed
- Sharpness: Hard
- ShutterSpeedValue: 1/180
- WhiteBalance: Auto
- ICC-header
- ICC-meas
- ICC-view
- IFD0
- Copyright:
- ImageDescription:
- Make: RICOH
- Model: GXR A12
- ModifyDate: 2011:11:03 01:05:18
- Orientation: Horizontal (normal)
- IFD1
- IPTC
- Caption-Abstract:
- CopyrightNotice:
- DateCreated: 2011:10:08
- Urgency: 0 (reserved)
- System
- XMP-aux
- Lens: 18.3 mm f/2.4
- LensInfo: 18.3mm f/2.37841422972566
- XMP-crs
- AlreadyApplied: True
- BlueHue: 0
- BlueSaturation: 0
- Brightness: 0
- CameraProfile: Embedded
- ChromaticAberrationB: 0
- ChromaticAberrationR: 0
- Clarity: +17
- ColorNoiseReduction: 0
- Contrast: 0
- ConvertToGrayscale: False
- Defringe: 0
- Exposure: 0.00
- FillLight: 12
- GrainAmount: 0
- GreenHue: 0
- GreenSaturation: 0
- HasCrop: False
- HasSettings: True
- HighlightRecovery: 0
- HueAdjustmentAqua: 0
- HueAdjustmentBlue: 0
- HueAdjustmentGreen: 0
- HueAdjustmentMagenta: 0
- HueAdjustmentOrange: 0
- HueAdjustmentPurple: 0
- HueAdjustmentRed: 0
- HueAdjustmentYellow: 0
- IncrementalTemperature: 0
- IncrementalTint: -5
- LensManualDistortionAmount: 0
- LensProfileEnable: 0
- LensProfileSetup: LensDefaults
- LuminanceAdjustmentAqua: 0
- LuminanceAdjustmentBlue: 0
- LuminanceAdjustmentGreen: 0
- LuminanceAdjustmentMagenta: 0
- LuminanceAdjustmentOrange: 0
- LuminanceAdjustmentPurple: 0
- LuminanceAdjustmentRed: 0
- LuminanceAdjustmentYellow: 0
- LuminanceSmoothing: 0
- ParametricDarks: 0
- ParametricHighlightSplit: 75
- ParametricHighlights: 0
- ParametricLights: 0
- ParametricMidtoneSplit: 50
- ParametricShadowSplit: 25
- ParametricShadows: 0
- PerspectiveHorizontal: 0
- PerspectiveRotate: 0.0
- PerspectiveScale: 100
- PerspectiveVertical: 0
- PostCropVignetteAmount: 0
- ProcessVersion: 5.7
- RawFileName: _0010708.tif
- RedHue: 0
- RedSaturation: 0
- Saturation: 0
- SaturationAdjustmentAqua: 0
- SaturationAdjustmentBlue: 0
- SaturationAdjustmentGreen: 0
- SaturationAdjustmentMagenta: 0
- SaturationAdjustmentOrange: 0
- SaturationAdjustmentPurple: 0
- SaturationAdjustmentRed: 0
- SaturationAdjustmentYellow: 0
- ShadowTint: 0
- Shadows: 0
- SharpenDetail: 25
- SharpenEdgeMasking: 0
- SharpenRadius: +1.0
- Sharpness: 0
- SplitToningBalance: 0
- SplitToningHighlightHue: 0
- SplitToningHighlightSaturation: 0
- SplitToningShadowHue: 0
- SplitToningShadowSaturation: 0
- ToneCurve: 0, 0, 255, 255
- ToneCurveName: Linear
- Version: 6.5
- Vibrance: 0
- VignetteAmount: 0
- WhiteBalance: Custom
- XMP-dc
- Description:
- Format: image/jpeg
- Rights:
- XMP-xmp
- CreatorTool: Capture One 6 Windows
- Label: None
- ModifyDate: 2011:11:03 01:05:18+03:00
- Rating: 0
- XMP-xmpMM
- Просмотров: 248
- Рейтинг: голосов еще нет
- Отзывов: отключены