Уважаемые друзья и участники проекта iXBT.photo! К сожалению, 1 марта 2026 года проект iXBT.photo прекратит свою работу и будет закрыт. Мы высоко ценим ваше участие и тот вклад, который вы внесли в развитие нашего сообщества. Пожалуйста, не забудьте сохранить ваши фотографии до этой даты.
С уважением, команда iXBT.com
| laim_koktelj.jpg |
laim_koktelj.jpg
- Раздел: Другое, разное
- Дата съёмки: 21.11.2011 17:46
- Дата загрузки фото: 22.11.2011 22:27
- Оригинальная фотография: 2085 x 3139 (554 Кб)
- Технические характеристики:
- Фотоаппарат: Canon EOS 550D
- Выдержка: 1/125
- Гиперфокальное расстояние: inf m
- Диафрагма: 5,0
- Светочувствительность: 640
- Фокусное расстояние: 50,0 mm (35 mm equivalent: 100,0 mm)
- Полный EXIF
- Adobe
- ColorTransform: YCbCr
- Composite
- Aperture: 5,0
- CircleOfConfusion: 0,011 mm
- FOV: 20,0 deg
- FocalLength35efl: 50,0 mm (35 mm equivalent: 100,0 mm)
- HyperfocalDistance: inf m
- ScaleFactor35efl: 2,6
- ShutterSpeed: 1/125
- ExifIFD
- ApertureValue: 5,0
- ColorSpace: Uncalibrated
- CreateDate: 2011:11:21 17:46:07
- CustomRendered: Normal
- DateTimeOriginal: 2011:11:21 17:46:07
- ExifImageHeight: 3139
- ExifImageWidth: 2085
- ExposureCompensation: 0
- ExposureMode: Manual
- ExposureProgram: Manual
- ExposureTime: 1/125
- FNumber: 5,0
- Flash: Off, Did not fire
- FocalLength: 50,0 mm
- ISO: 640
- LensInfo: 50mm f/?
- LensModel: EF50mm f/1.4 USM
- MaxApertureValue: 1,4
- MeteringMode: Multi-segment
- SceneCaptureType: Standard
- SerialNumber: 432228806
- ShutterSpeedValue: 1/125
- WhiteBalance: Manual
- ICC-header
- IFD0
- Artist: yooreec
- Make: Canon
- Model: Canon EOS 550D
- ModifyDate: 2011:11:22 17:15:18
- Orientation: Horizontal (normal)
- IFD1
- IPTC
- By-line: yooreec
- DateCreated: 2011:11:21
- System
- XMP-aux
- Firmware: 1.0.9
- FlashCompensation: 0
- ImageNumber: 0
- Lens: EF50mm f/1.4 USM
- LensID: 198
- XMP-crs
- AlreadyApplied: True
- BlueHue: 0
- BlueSaturation: 0
- Brightness: +38
- ChromaticAberrationB: 0
- ChromaticAberrationR: 0
- Clarity: +77
- ColorNoiseReduction: 25
- ColorNoiseReductionDetail: 50
- Contrast: +44
- ConvertToGrayscale: False
- CropAngle: -1.830749
- CropBottom: 0.955301
- CropConstrainToWarp: 1
- CropLeft: 0.253542
- CropRight: 0.674891
- CropTop: 0.066831
- Defringe: 0
- Exposure: +0.55
- FillLight: 40
- GradientBasedCorrActive: true
- GradientBasedCorrAmount: 1.000000
- GradientBasedCorrBrightness: -0.050000
- GradientBasedCorrClarity: 0.350000
- GradientBasedCorrContrast: -0.040000
- GradientBasedCorrExposure: -0.100000
- GradientBasedCorrHue: 0.000000
- GradientBasedCorrMaskFullX: 0.487614
- GradientBasedCorrMaskFullY: 0.963413
- GradientBasedCorrMaskValue: 1.000000
- GradientBasedCorrMaskWhat: Mask/Gradient
- GradientBasedCorrMaskZeroX: 0.479069
- GradientBasedCorrMaskZeroY: 0.567032
- GradientBasedCorrSaturation: 0.000000
- GradientBasedCorrSharpness: 0.000000
- GradientBasedCorrWhat: Correction
- GrainAmount: 0
- GreenHue: 0
- GreenSaturation: 0
- HasCrop: True
- HasSettings: True
- HighlightRecovery: 40
- HueAdjustmentAqua: 0
- HueAdjustmentBlue: 0
- HueAdjustmentGreen: 0
- HueAdjustmentMagenta: 0
- HueAdjustmentOrange: 0
- HueAdjustmentPurple: 0
- HueAdjustmentRed: 0
- HueAdjustmentYellow: 0
- LensManualDistortionAmount: 0
- LensProfileChromaticAberrationScale: 145
- LensProfileDistortionScale: 141
- LensProfileEnable: 1
- LensProfileFilename: Canon EOS-1Ds Mark III (Canon EF 50mm f1.4 USM) - RAW.lcp
- LensProfileSetup: Custom
- LensProfileVignettingScale: 145
- LuminanceAdjustmentAqua: 0
- LuminanceAdjustmentBlue: 0
- LuminanceAdjustmentGreen: 0
- LuminanceAdjustmentMagenta: 0
- LuminanceAdjustmentOrange: 0
- LuminanceAdjustmentPurple: 0
- LuminanceAdjustmentRed: 0
- LuminanceAdjustmentYellow: 0
- LuminanceSmoothing: 0
- ParametricDarks: -18
- ParametricHighlightSplit: 75
- ParametricHighlights: -2
- ParametricLights: -8
- ParametricMidtoneSplit: 50
- ParametricShadowSplit: 25
- ParametricShadows: -40
- PerspectiveHorizontal: 0
- PerspectiveRotate: 0.0
- PerspectiveScale: 100
- PerspectiveVertical: 0
- PostCropVignetteAmount: 0
- ProcessVersion: 5.7
- RawFileName: IMG_5269.CR2
- RedHue: 0
- RedSaturation: 0
- Saturation: 0
- SaturationAdjustmentAqua: 0
- SaturationAdjustmentBlue: 0
- SaturationAdjustmentGreen: 0
- SaturationAdjustmentMagenta: 0
- SaturationAdjustmentOrange: 0
- SaturationAdjustmentPurple: 0
- SaturationAdjustmentRed: 0
- SaturationAdjustmentYellow: 0
- ShadowTint: 0
- Shadows: 22
- SharpenDetail: 25
- SharpenEdgeMasking: 0
- SharpenRadius: +1.0
- Sharpness: 0
- SplitToningBalance: 0
- SplitToningHighlightHue: 0
- SplitToningHighlightSaturation: 0
- SplitToningShadowHue: 0
- SplitToningShadowSaturation: 0
- Temperature: 3800
- Tint: +6
- ToneCurve: 0, 0, 32, 22, 64, 56, 128, 128, 192, 196, 255, 255
- ToneCurveName: Medium Contrast
- Version: 6.5
- Vibrance: 0
- VignetteAmount: 0
- WhiteBalance: Custom
- XMP-dc
- Creator: yooreec
- Format: image/jpeg
- XMP-xmp
- CreateDate: 2011:11:21 17:46:07.00
- ModifyDate: 2011:11:22 17:15:18+02:00
- Rating: 0
- XMP-xmpMM
- Просмотров: 120
- Рейтинг: голосов еще нет
- Отзывов: отключены
Получить код для блога
| Вставка фотографии в текущем разрешении |
Вставка миниатюры |
HTML (для вставки в блог):
BBCode (для вставки в форум):
Ссылка на фото:
Ссылка на миниатюру:
- Послать ссылку другу
| Комментарии к фотографии |