Уважаемые друзья и участники проекта iXBT.photo! К сожалению, 1 марта 2026 года проект iXBT.photo прекратит свою работу и будет закрыт. Мы высоко ценим ваше участие и тот вклад, который вы внесли в развитие нашего сообщества. Пожалуйста, не забудьте сохранить ваши фотографии до этой даты.
С уважением, команда iXBT.com
| Buterbrodi.jpg |
Buterbrodi.jpg
- Раздел: Другое, разное
- Дата съёмки: 21.11.2011 14:23
- Дата загрузки фото: 22.11.2011 22:30
- Оригинальная фотография: 4343 x 2474 (1,2 Мб)
- Технические характеристики:
- Фотоаппарат: Canon EOS 550D
- Выдержка: 1/125
- Гиперфокальное расстояние: inf m
- Диафрагма: 11,0
- Светочувствительность: 160
- Фокусное расстояние: 50,0 mm (35 mm equivalent: 50,0 mm)
- Полный EXIF
- Adobe
- ColorTransform: YCbCr
- Composite
- Aperture: 11,0
- CircleOfConfusion: 0,015 mm
- FOV: 39,0 deg
- FocalLength35efl: 50,0 mm (35 mm equivalent: 50,0 mm)
- HyperfocalDistance: inf m
- ScaleFactor35efl: 2,0
- ShutterSpeed: 1/125
- ExifIFD
- ApertureValue: 11,0
- ColorSpace: Uncalibrated
- CreateDate: 2011:11:21 14:23:25
- CustomRendered: Normal
- DateTimeOriginal: 2011:11:21 14:23:25
- ExifImageHeight: 2474
- ExifImageWidth: 4343
- ExposureCompensation: 0
- ExposureMode: Manual
- ExposureProgram: Manual
- ExposureTime: 1/125
- FNumber: 11,0
- Flash: Off, Did not fire
- FocalLength: 50,0 mm
- ISO: 160
- LensInfo: 50mm f/?
- LensModel: EF50mm f/1.4 USM
- MaxApertureValue: 1,4
- MeteringMode: Multi-segment
- SceneCaptureType: Standard
- SerialNumber: 432228806
- ShutterSpeedValue: 1/125
- WhiteBalance: Manual
- ICC-header
- IFD0
- Artist: yooreec
- Make: Canon
- Model: Canon EOS 550D
- ModifyDate: 2011:11:22 19:49:29
- Orientation: Horizontal (normal)
- IFD1
- IPTC
- By-line: yooreec
- DateCreated: 2011:11:21
- System
- XMP-aux
- Firmware: 1.0.9
- FlashCompensation: 0
- ImageNumber: 0
- Lens: EF50mm f/1.4 USM
- LensID: 198
- XMP-crs
- AlreadyApplied: True
- BlueHue: 0
- BlueSaturation: 0
- Brightness: +50
- ChromaticAberrationB: 0
- ChromaticAberrationR: 0
- Clarity: +21
- ColorNoiseReduction: 25
- ColorNoiseReductionDetail: 50
- Contrast: +54
- ConvertToGrayscale: False
- CropAngle: -1.059652
- CropBottom: 0.885208
- CropConstrainToWarp: 1
- CropLeft: 0.093474
- CropRight: 0.939918
- CropTop: 0.192457
- Defringe: 0
- Exposure: +0.05
- FillLight: 56
- GrainAmount: 0
- GreenHue: 0
- GreenSaturation: 0
- HasCrop: True
- HasSettings: True
- HighlightRecovery: 50
- HueAdjustmentAqua: 0
- HueAdjustmentBlue: 0
- HueAdjustmentGreen: 0
- HueAdjustmentMagenta: 0
- HueAdjustmentOrange: 0
- HueAdjustmentPurple: 0
- HueAdjustmentRed: 0
- HueAdjustmentYellow: 0
- LensManualDistortionAmount: 0
- LensProfileChromaticAberrationScale: 200
- LensProfileDistortionScale: 200
- LensProfileEnable: 1
- LensProfileFilename: Canon EOS-1Ds Mark III (Canon EF 50mm f1.4 USM) - RAW.lcp
- LensProfileSetup: Custom
- LensProfileVignettingScale: 200
- LuminanceAdjustmentAqua: 0
- LuminanceAdjustmentBlue: 0
- LuminanceAdjustmentGreen: 0
- LuminanceAdjustmentMagenta: 0
- LuminanceAdjustmentOrange: 0
- LuminanceAdjustmentPurple: 0
- LuminanceAdjustmentRed: 0
- LuminanceAdjustmentYellow: 0
- LuminanceSmoothing: 0
- ParametricDarks: +11
- ParametricHighlightSplit: 75
- ParametricHighlights: +56
- ParametricLights: +16
- ParametricMidtoneSplit: 50
- ParametricShadowSplit: 25
- ParametricShadows: +4
- PerspectiveHorizontal: 0
- PerspectiveRotate: 0.0
- PerspectiveScale: 100
- PerspectiveVertical: 0
- PostCropVignetteAmount: 0
- ProcessVersion: 5.7
- RawFileName: IMG_5138.CR2
- RedHue: 0
- RedSaturation: 0
- Saturation: 0
- SaturationAdjustmentAqua: 0
- SaturationAdjustmentBlue: 0
- SaturationAdjustmentGreen: 0
- SaturationAdjustmentMagenta: 0
- SaturationAdjustmentOrange: 0
- SaturationAdjustmentPurple: 0
- SaturationAdjustmentRed: 0
- SaturationAdjustmentYellow: 0
- ShadowTint: 0
- Shadows: 20
- SharpenDetail: 25
- SharpenEdgeMasking: 0
- SharpenRadius: +1.0
- Sharpness: 0
- SplitToningBalance: 0
- SplitToningHighlightHue: 0
- SplitToningHighlightSaturation: 0
- SplitToningShadowHue: 0
- SplitToningShadowSaturation: 0
- Temperature: 4650
- Tint: 0
- ToneCurve: 0, 0, 32, 22, 64, 56, 128, 128, 192, 196, 255, 255
- ToneCurveName: Medium Contrast
- Version: 6.5
- Vibrance: +15
- VignetteAmount: 0
- WhiteBalance: Custom
- XMP-dc
- Creator: yooreec
- Format: image/jpeg
- XMP-xmp
- CreateDate: 2011:11:21 14:23:25.96
- ModifyDate: 2011:11:22 19:49:29+02:00
- Rating: 0
- XMP-xmpMM
- Просмотров: 189
- Рейтинг: голосов еще нет
- Отзывов: отключены
Получить код для блога
| Вставка фотографии в текущем разрешении |
Вставка миниатюры |
HTML (для вставки в блог):
BBCode (для вставки в форум):
Ссылка на фото:
Ссылка на миниатюру:
- Послать ссылку другу
| Комментарии к фотографии |