- Раздел: Портрет
- Дата съёмки: 19.11.2011 22:36
- Дата загрузки фото: 25.11.2011 14:31
- Оригинальная фотография: 800 x 600 (133 Кб)
- Технические характеристики:
- Фотоаппарат: Canon EOS 5D Mark II
- Выдержка: 1/160
- Гиперфокальное расстояние: inf m
- Диафрагма: 2,8
- Светочувствительность: 800
- Фокусное расстояние: 59,0 mm (35 mm equivalent: 59,0 mm)
- Полный EXIF
- Composite
- Aperture: 2,8
- CircleOfConfusion: 0,030 mm
- DOF: inf (0,00 m - inf)
- FOV: 33,0 deg
- FocalLength35efl: 59,0 mm (35 mm equivalent: 59,0 mm)
- HyperfocalDistance: inf m
- ScaleFactor35efl: 1,0
- ShutterSpeed: 1/160
- ExifIFD
- ApertureValue: 2,8
- CreateDate: 2011:11:19 22:36:08
- CustomRendered: Normal
- DateTimeOriginal: 2011:11:19 22:36:08
- ExposureCompensation: 0
- ExposureMode: Manual
- ExposureProgram: Manual
- ExposureTime: 1/160
- FNumber: 2,8
- Flash: Off, Did not fire
- FocalLength: 59,0 mm
- ISO: 800
- LensInfo: 24-70mm f/?
- LensModel: EF24-70mm f/2.8L USM
- MaxApertureValue: 2,8
- MeteringMode: Partial
- SceneCaptureType: Standard
- SensitivityType: Unknown
- SerialNumber: 1921203953
- ShutterSpeedValue: 1/160
- SubjectDistance: 3,97 m
- WhiteBalance: Auto
- ICC-header
- ICC-meas
- ICC-view
- IFD0
- Make: Canon
- Model: Canon EOS 5D Mark II
- ModifyDate: 2011:11:21 00:08:41
- IFD1
- System
- XMP-aux
- ApproximateFocusDistance: 3,97
- Firmware: 2.0.7
- FlashCompensation: 0
- ImageNumber: 0
- Lens: EF24-70mm f/2.8L USM
- LensID: 230
- XMP-crs
- AlreadyApplied: True
- BlueHue: 0
- BlueSaturation: 0
- Brightness: +50
- ChromaticAberrationB: 0
- ChromaticAberrationR: 0
- Clarity: 0
- ColorNoiseReduction: 25
- ColorNoiseReductionDetail: 50
- Contrast: +38
- ConvertToGrayscale: False
- CropAngle: -1.33719
- CropBottom: 0.966171
- CropConstrainToWarp: 0
- CropHeight: 2488
- CropLeft: 0.009397
- CropRight: 0.990603
- CropTop: 0.033829
- CropUnit: pixels
- CropWidth: 3731
- Defringe: 0
- Exposure: +0.43
- FillLight: 10
- GrainAmount: 0
- GreenHue: 0
- GreenSaturation: 0
- HasCrop: True
- HasSettings: True
- HighlightRecovery: 0
- HueAdjustmentAqua: 0
- HueAdjustmentBlue: 0
- HueAdjustmentGreen: 0
- HueAdjustmentMagenta: 0
- HueAdjustmentOrange: 0
- HueAdjustmentPurple: 0
- HueAdjustmentRed: 0
- HueAdjustmentYellow: 0
- LensManualDistortionAmount: 0
- LensProfileEnable: 0
- LensProfileSetup: LensDefaults
- LuminanceAdjustmentAqua: 0
- LuminanceAdjustmentBlue: 0
- LuminanceAdjustmentGreen: 0
- LuminanceAdjustmentMagenta: 0
- LuminanceAdjustmentOrange: 0
- LuminanceAdjustmentPurple: 0
- LuminanceAdjustmentRed: 0
- LuminanceAdjustmentYellow: 0
- LuminanceNoiseReductionContrast: 0
- LuminanceNoiseReductionDetail: 50
- LuminanceSmoothing: 15
- ParametricDarks: 0
- ParametricHighlightSplit: 75
- ParametricHighlights: 0
- ParametricLights: 0
- ParametricMidtoneSplit: 50
- ParametricShadowSplit: 25
- ParametricShadows: 0
- PerspectiveHorizontal: 0
- PerspectiveRotate: 0.0
- PerspectiveScale: 100
- PerspectiveVertical: 0
- PostCropVignetteAmount: 0
- ProcessVersion: 5.7
- RedHue: 0
- RedSaturation: 0
- Saturation: 0
- SaturationAdjustmentAqua: 0
- SaturationAdjustmentBlue: 0
- SaturationAdjustmentGreen: 0
- SaturationAdjustmentMagenta: 0
- SaturationAdjustmentOrange: 0
- SaturationAdjustmentPurple: 0
- SaturationAdjustmentRed: 0
- SaturationAdjustmentYellow: 0
- ShadowTint: 0
- Shadows: 5
- SharpenDetail: 25
- SharpenEdgeMasking: 0
- SharpenRadius: +1.0
- Sharpness: 25
- SplitToningBalance: +100
- SplitToningHighlightHue: 0
- SplitToningHighlightSaturation: 0
- SplitToningShadowHue: 234
- SplitToningShadowSaturation: 43
- Temperature: 3596
- Tint: -3
- ToneCurve: 0, 0, 32, 22, 64, 56, 128, 128, 192, 196, 255, 255
- ToneCurveName: Medium Contrast
- Version: 6.2
- Vibrance: +9
- VignetteAmount: 0
- WhiteBalance: Custom
- XMP-exif
- DateTimeDigitized: 2011:11:19 22:36:08.03+03:00
- DateTimeOriginal: 2011:11:19 22:36:08.03+03:00
- ExifImageHeight: 2488
- ExifImageWidth: 3731
- FlashFired: False
- FlashFunction: False
- FlashMode: Off
- FlashRedEyeMode: False
- FlashReturn: No return detection
- XMP-tiff
- ImageHeight: 2488
- ImageWidth: 3731
- XMP-xmp
- CreateDate: 2011:11:19 22:36:08.03+03:00
- ModifyDate: 2011:11:21 00:08:41+03:00