Уважаемые друзья и участники проекта iXBT.photo! К сожалению, 1 марта 2026 года проект iXBT.photo прекратит свою работу и будет закрыт. Мы высоко ценим ваше участие и тот вклад, который вы внесли в развитие нашего сообщества. Пожалуйста, не забудьте сохранить ваши фотографии до этой даты.
С уважением, команда iXBT.com
| IMG_1441.JPG |
IMG_1441.JPG
- Раздел: Портрет
- Дата съёмки: 27.11.2011 13:53
- Дата загрузки фото: 28.11.2011 12:25
- Оригинальная фотография: 1024 x 1280 (435 Кб)
- Технические характеристики:
- Фотоаппарат: Canon EOS 550D
- Выдержка: 1/400
- Гиперфокальное расстояние: inf m
- Диафрагма: 3,5
- Светочувствительность: 320
- Фокусное расстояние: 50,0 mm (35 mm equivalent: 300,0 mm)
- Экспокоррекция: +1/3
- Полный EXIF
- Adobe
- ColorTransform: YCbCr
- Composite
- Aperture: 3,5
- CircleOfConfusion: 0,005 mm
- FOV: 6,0 deg
- FocalLength35efl: 50,0 mm (35 mm equivalent: 300,0 mm)
- HyperfocalDistance: inf m
- ScaleFactor35efl: 6,0
- ShutterSpeed: 1/400
- ExifIFD
- ApertureValue: 3,5
- CreateDate: 2011:11:27 13:53:23
- CustomRendered: Normal
- DateTimeOriginal: 2011:11:27 13:53:23
- ExposureCompensation: +1/3
- ExposureMode: Auto
- ExposureProgram: Aperture-priority AE
- ExposureTime: 1/400
- FNumber: 3,5
- Flash: Off, Did not fire
- FocalLength: 50,0 mm
- ISO: 320
- LensInfo: 50mm f/?
- LensModel: EF50mm f/1.8 II
- MaxApertureValue: 1,8
- MeteringMode: Spot
- SceneCaptureType: Standard
- SerialNumber: 2133200020
- ShutterSpeedValue: 1/400
- WhiteBalance: Auto
- ICC-header
- ICC-meas
- ICC-view
- IFD0
- Make: Canon
- Model: Canon EOS 550D
- ModifyDate: 2011:11:27 22:51:24
- IFD1
- IPTC
- DateCreated: 2011:11:27
- System
- XMP-aux
- Firmware: 1.0.9
- FlashCompensation: 0
- ImageNumber: 0
- Lens: EF50mm f/1.8 II
- LensID: 29
- XMP-crs
- AlreadyApplied: True
- BlueHue: 0
- BlueSaturation: 0
- Brightness: +72
- ChromaticAberrationB: 0
- ChromaticAberrationR: 0
- Clarity: +25
- ColorNoiseReduction: 25
- ColorNoiseReductionDetail: 50
- Contrast: +57
- ConvertToGrayscale: True
- CropAngle: 0
- CropBottom: 1
- CropConstrainToWarp: 0
- CropHeight: 1024
- CropLeft: 0.03301
- CropRight: 0.866344
- CropTop: 0
- CropUnit: pixels
- CropWidth: 1280
- Defringe: 0
- Exposure: +0.85
- FillLight: 0
- GrainAmount: 74
- GrainFrequency: 50
- GrainSize: 25
- GrayMixerAqua: -22
- GrayMixerBlue: -11
- GrayMixerGreen: -15
- GrayMixerMagenta: +47
- GrayMixerOrange: +40
- GrayMixerPurple: +46
- GrayMixerRed: +40
- GrayMixerYellow: +31
- GreenHue: 0
- GreenSaturation: 0
- HasCrop: True
- HasSettings: True
- HighlightRecovery: 54
- LensManualDistortionAmount: 0
- LensProfileEnable: 0
- LensProfileSetup: LensDefaults
- LuminanceSmoothing: 0
- ParametricDarks: -3
- ParametricHighlightSplit: 75
- ParametricHighlights: +26
- ParametricLights: +9
- ParametricMidtoneSplit: 50
- ParametricShadowSplit: 25
- ParametricShadows: -4
- PerspectiveHorizontal: 0
- PerspectiveRotate: 0.0
- PerspectiveScale: 100
- PerspectiveVertical: 0
- PostCropVignetteAmount: -32
- PostCropVignetteFeather: 82
- PostCropVignetteHighlightContrast: 0
- PostCropVignetteMidpoint: 41
- PostCropVignetteRoundness: -7
- PostCropVignetteStyle: 1
- ProcessVersion: 5.7
- RedHue: 0
- RedSaturation: 0
- ShadowTint: 0
- Shadows: 15
- SharpenDetail: 20
- SharpenEdgeMasking: 20
- SharpenRadius: +1.1
- Sharpness: 25
- SplitToningBalance: +2
- SplitToningHighlightHue: 64
- SplitToningHighlightSaturation: 4
- SplitToningShadowHue: 61
- SplitToningShadowSaturation: 19
- Temperature: 3605
- Tint: +10
- ToneCurve: 0, 8, 37, 27, 129, 126, 221, 223, 255, 239
- ToneCurveName: Custom
- Version: 6.5
- VignetteAmount: 0
- WhiteBalance: Custom
- XMP-xmp
- CreateDate: 2011:11:27 13:53:23.19
- ModifyDate: 2011:11:27 22:51:24+04:00
- Просмотров: 1476
- Рейтинг: голосов еще нет
- Отзывов: 0
Получить код для блога
| Вставка фотографии в текущем разрешении |
Вставка миниатюры |
HTML (для вставки в блог):
BBCode (для вставки в форум):
Ссылка на фото:
Ссылка на миниатюру:
- Послать ссылку другу
| Комментарии к фотографии |