Canon sx20.JPG |
Canon sx20.JPG
- Раздел: Пейзаж
- Дата съёмки: 29.05.2011 15:10
- Дата загрузки фото: 12.12.2011 23:10
- Оригинальная фотография: 3162 x 2184 (888 Кб)
- Технические характеристики:
- Фотоаппарат: Canon PowerShot SX20 IS
- Выдержка: 1/1250
- Гиперфокальное расстояние: inf m
- Диафрагма: 8,0
- Светочувствительность: 320
- Фокусное расстояние: 100,0 mm (35 mm equivalent: 700,0 mm)
- Полный EXIF
- Adobe
- ColorTransform: YCbCr
- Composite
- Aperture: 8,0
- CircleOfConfusion: 0,004 mm
- DOF: inf (0,00 m - inf)
- FOV: 2,0 deg
- FocalLength35efl: 100,0 mm (35 mm equivalent: 700,0 mm)
- HyperfocalDistance: inf m
- ScaleFactor35efl: 7,3
- ShutterSpeed: 1/1250
- ExifIFD
- ApertureValue: 8,0
- ColorSpace: sRGB
- CreateDate: 2011:05:29 15:10:25
- CustomRendered: Normal
- DateTimeOriginal: 2011:05:29 15:10:25
- DigitalZoomRatio: 1
- ExifImageHeight: 2184
- ExifImageWidth: 3162
- ExposureCompensation: 0
- ExposureMode: Auto
- ExposureTime: 1/1250
- FNumber: 8,0
- Flash: Off, Did not fire
- FocalLength: 100,0 mm
- ISO: 320
- MaxApertureValue: 5,7
- MeteringMode: Multi-segment
- SceneCaptureType: Standard
- SensingMethod: One-chip color area
- ShutterSpeedValue: 1/1250
- SubjectDistance: 64,4 m
- WhiteBalance: Auto
- ICC-header
- ICC-meas
- ICC-view
- IFD0
- Make: Canon
- Model: Canon PowerShot SX20 IS
- ModifyDate: 2011:05:29 21:24:59
- Orientation: Horizontal (normal)
- IFD1
- IPTC
- DateCreated: 2011:05:29
- System
- XMP-aux
- Firmware: 1.02
- FlashCompensation: 0
- Lens: 5.0-100.0 mm
- LensID: 65535
- LensInfo: 5-100mm f/?
- XMP-crs
- AlreadyApplied: True
- BlueHue: 0
- BlueSaturation: 0
- Brightness: 0
- CameraProfile: Embedded
- ChromaticAberrationB: 0
- ChromaticAberrationR: 0
- Clarity: +65
- ColorNoiseReduction: 0
- Contrast: 0
- ConvertToGrayscale: False
- Defringe: 0
- Exposure: +0.20
- FillLight: 0
- GrainAmount: 0
- GreenHue: 0
- GreenSaturation: 0
- HasCrop: False
- HasSettings: True
- HighlightRecovery: 0
- HueAdjustmentAqua: 0
- HueAdjustmentBlue: 0
- HueAdjustmentGreen: 0
- HueAdjustmentMagenta: 0
- HueAdjustmentOrange: 0
- HueAdjustmentPurple: 0
- HueAdjustmentRed: 0
- HueAdjustmentYellow: 0
- IncrementalTemperature: 0
- IncrementalTint: 0
- LuminanceAdjustmentAqua: 0
- LuminanceAdjustmentBlue: 0
- LuminanceAdjustmentGreen: 0
- LuminanceAdjustmentMagenta: 0
- LuminanceAdjustmentOrange: 0
- LuminanceAdjustmentPurple: 0
- LuminanceAdjustmentRed: 0
- LuminanceAdjustmentYellow: 0
- LuminanceSmoothing: 0
- ParametricDarks: 0
- ParametricHighlightSplit: 75
- ParametricHighlights: 0
- ParametricLights: 0
- ParametricMidtoneSplit: 50
- ParametricShadowSplit: 25
- ParametricShadows: 0
- PostCropVignetteAmount: 0
- ProcessVersion: 5.7
- RawFileName: IMG_0450.JPG
- RedHue: 0
- RedSaturation: 0
- Saturation: 0
- SaturationAdjustmentAqua: 0
- SaturationAdjustmentBlue: 0
- SaturationAdjustmentGreen: 0
- SaturationAdjustmentMagenta: 0
- SaturationAdjustmentOrange: 0
- SaturationAdjustmentPurple: 0
- SaturationAdjustmentRed: 0
- SaturationAdjustmentYellow: 0
- ShadowTint: 0
- Shadows: 0
- SharpenDetail: 25
- SharpenEdgeMasking: 0
- SharpenRadius: +1.0
- Sharpness: 0
- SplitToningBalance: 0
- SplitToningHighlightHue: 0
- SplitToningHighlightSaturation: 0
- SplitToningShadowHue: 0
- SplitToningShadowSaturation: 0
- ToneCurve: 0, 0, 255, 255
- ToneCurveName: Linear
- Version: 6.0
- Vibrance: +31
- VignetteAmount: 0
- WhiteBalance: As Shot
- XMP-dc
- XMP-xmp
- CreateDate: 2011:05:29 15:10:25+04:00
- ModifyDate: 2011:05:29 21:24:59+04:00
- Rating: 0
- XMP-xmpMM
- DerivedFrom:
- Просмотров: 1591
- Рейтинг: голосов еще нет
- Отзывов: 0
Получить код для блога
Вставка фотографии в текущем разрешении |
Вставка миниатюры |
HTML (для вставки в блог):
BBCode (для вставки в форум):
Ссылка на фото:
Ссылка на миниатюру:
- Послать ссылку другу
Комментарии к фотографии |