- Раздел: Спорт
- Дата съёмки: 15.12.2011 16:15
- Дата загрузки фото: 15.12.2011 23:59
- Оригинальная фотография: 3872 x 2592 (9,1 Мб)
- Технические характеристики:
- Фотоаппарат: Sony DSLR-A230
- Выдержка: 1/200
- Гиперфокальное расстояние: inf m
- Диафрагма: 5,6
- Светочувствительность: 400
- Фокусное расстояние: 130,0 mm (35 mm equivalent: 130,0 mm)
- Полный EXIF
- Adobe
- ColorTransform: YCbCr
- Composite
- Aperture: 5,6
- CircleOfConfusion: 0,020 mm
- FOV: 15,0 deg
- FocalLength35efl: 130,0 mm (35 mm equivalent: 130,0 mm)
- HyperfocalDistance: inf m
- ScaleFactor35efl: 1,5
- ShutterSpeed: 1/200
- ExifIFD
- ApertureValue: 5,6
- BrightnessValue: 5,62
- ColorSpace: sRGB
- Contrast: Normal
- CreateDate: 2011:12:15 16:15:15
- CustomRendered: Normal
- DateTimeOriginal: 2011:12:15 16:15:15
- ExifImageHeight: 2592
- ExifImageWidth: 3872
- ExposureCompensation: 0
- ExposureMode: Auto
- ExposureProgram: Action (High speed)
- ExposureTime: 1/200
- FNumber: 5,6
- Flash: Off, Did not fire
- FocalLength: 130,0 mm
- FocalLengthIn35mmFormat: 195 mm
- ISO: 400
- LensInfo: 28-135mm f/4-4.5
- LensModel: 28-135mm F4-4.5
- LightSource: Unknown
- MaxApertureValue: 5,6
- MeteringMode: Multi-segment
- Saturation: Normal
- SceneCaptureType: Standard
- SceneType: Directly photographed
- Sharpness: Normal
- ShutterSpeedValue: 1/200
- WhiteBalance: Auto
- ICC-header
- ICC-meas
- ICC-view
- IFD0
- ImageDescription: SONY DSC
- Make: SONY
- Model: DSLR-A230
- ModifyDate: 2011:12:15 21:06:22
- Orientation: Horizontal (normal)
- IFD1
- IPTC
- DateCreated: 2011:12:15
- System
- XMP-aux
- Lens: 28-135mm F4-4.5
- LensID: 25531
- XMP-crs
- AlreadyApplied: True
- BlueHue: 0
- BlueSaturation: 0
- Brightness: +24
- ChromaticAberrationB: 0
- ChromaticAberrationR: 0
- Clarity: +48
- ColorNoiseReduction: 25
- ColorNoiseReductionDetail: 50
- Contrast: +69
- ConvertToGrayscale: False
- Defringe: 0
- Exposure: +1.05
- FillLight: 0
- GrainAmount: 0
- GreenHue: 0
- GreenSaturation: 0
- HasCrop: False
- HasSettings: True
- HighlightRecovery: 0
- HueAdjustmentAqua: 0
- HueAdjustmentBlue: 0
- HueAdjustmentGreen: 0
- HueAdjustmentMagenta: 0
- HueAdjustmentOrange: 0
- HueAdjustmentPurple: 0
- HueAdjustmentRed: 0
- HueAdjustmentYellow: 0
- LensManualDistortionAmount: 0
- LensProfileEnable: 0
- LensProfileSetup: LensDefaults
- LuminanceAdjustmentAqua: 0
- LuminanceAdjustmentBlue: 0
- LuminanceAdjustmentGreen: 0
- LuminanceAdjustmentMagenta: 0
- LuminanceAdjustmentOrange: 0
- LuminanceAdjustmentPurple: 0
- LuminanceAdjustmentRed: 0
- LuminanceAdjustmentYellow: 0
- LuminanceSmoothing: 0
- ParametricDarks: 0
- ParametricHighlightSplit: 75
- ParametricHighlights: 0
- ParametricLights: 0
- ParametricMidtoneSplit: 50
- ParametricShadowSplit: 25
- ParametricShadows: 0
- PerspectiveHorizontal: 0
- PerspectiveRotate: 0.0
- PerspectiveScale: 100
- PerspectiveVertical: 0
- PostCropVignetteAmount: 0
- ProcessVersion: 5.7
- RawFileName: _DSC3273.ARW
- RedHue: 0
- RedSaturation: 0
- Saturation: +19
- SaturationAdjustmentAqua: 0
- SaturationAdjustmentBlue: 0
- SaturationAdjustmentGreen: 0
- SaturationAdjustmentMagenta: 0
- SaturationAdjustmentOrange: 0
- SaturationAdjustmentPurple: 0
- SaturationAdjustmentRed: 0
- SaturationAdjustmentYellow: 0
- ShadowTint: 0
- Shadows: 3
- SharpenDetail: 25
- SharpenEdgeMasking: 0
- SharpenRadius: +1.0
- Sharpness: 25
- SplitToningBalance: 0
- SplitToningHighlightHue: 0
- SplitToningHighlightSaturation: 0
- SplitToningShadowHue: 0
- SplitToningShadowSaturation: 0
- Temperature: 5150
- Tint: +9
- ToneCurve: 0, 0, 32, 22, 64, 56, 128, 128, 192, 196, 255, 255
- ToneCurveName: Medium Contrast
- Version: 6.4
- Vibrance: +19
- VignetteAmount: 0
- WhiteBalance: As Shot
- XMP-dc
- Description:
- Format: image/jpeg
- XMP-x
- XMP-xmp
- CreatorTool: DSLR-A230 v1.10
- ModifyDate: 2011:12:15 21:06:22+02:00
- Rating: 0
- XMP-xmpMM
- Просмотров: 754
- Рейтинг: голосов еще нет
- Отзывов: 0