- Раздел: Другое, разное
- Дата съёмки: 17.12.2011 13:47
- Дата загрузки фото: 19.12.2011 21:26
- Оригинальная фотография: 2581 x 1936 (3,5 Мб)
- Технические характеристики:
- Фотоаппарат: Canon PowerShot S95
- Выдержка: 1/100
- Гиперфокальное расстояние: inf m
- Диафрагма: 4,9
- Светочувствительность: 80
- Фокусное расстояние: 22,0 mm (35 mm equivalent: 132,0 mm)
- Полный EXIF
- Adobe
- ColorTransform: YCbCr
- Composite
- Aperture: 4,9
- CircleOfConfusion: 0,005 mm
- DOF: inf (0,00 m - inf)
- FOV: 15,0 deg
- FocalLength35efl: 22,0 mm (35 mm equivalent: 132,0 mm)
- HyperfocalDistance: inf m
- ScaleFactor35efl: 6,6
- ShutterSpeed: 1/100
- ExifIFD
- ApertureValue: 4,9
- CreateDate: 2011:12:17 13:47:35
- CustomRendered: Normal
- DateTimeOriginal: 2011:12:17 13:47:35
- DigitalZoomRatio: 1
- ExposureCompensation: 0
- ExposureMode: Auto
- ExposureTime: 1/100
- FNumber: 4,9
- Flash: Off, Did not fire
- FocalLength: 22,5 mm
- ISO: 80
- LensInfo: 6-22.5mm f/?
- LensModel: 6.0-22.5 mm
- MaxApertureValue: 4,9
- MeteringMode: Center-weighted average
- SceneCaptureType: Standard
- SensingMethod: One-chip color area
- SensitivityType: Standard Output Sensitivity and Recommended Exposure Index
- ShutterSpeedValue: 1/100
- SubjectDistance: 64,4 m
- WhiteBalance: Auto
- ICC-header
- ICC-meas
- ICC-view
- IFD0
- Make: Canon
- Model: Canon PowerShot S95
- ModifyDate: 2011:12:19 18:20:28
- IFD1
- IPTC
- DateCreated: 2011:12:17
- System
- XMP-aux
- ApproximateFocusDistance: 64,4
- Firmware: 1.00
- FlashCompensation: 0
- Lens: 6.0-22.5 mm
- XMP-crs
- AlreadyApplied: True
- BlueHue: 0
- BlueSaturation: 0
- Brightness: +25
- ChromaticAberrationB: 0
- ChromaticAberrationR: 0
- Clarity: 0
- ColorNoiseReduction: 25
- ColorNoiseReductionDetail: 50
- Contrast: +51
- ConvertToGrayscale: False
- CropAngle: -0.1
- CropBottom: 0.997678
- CropConstrainToWarp: 0
- CropHeight: 1936
- CropLeft: 0.000508
- CropRight: 0.999492
- CropTop: 0.002322
- CropUnit: pixels
- CropWidth: 2581
- Defringe: 0
- Exposure: 0.00
- FillLight: 10
- GradientBasedCorrActive: true
- GradientBasedCorrAmount: 1.000000
- GradientBasedCorrBrightness: 0.000000
- GradientBasedCorrClarity: 0.000000
- GradientBasedCorrContrast: 0.000000
- GradientBasedCorrExposure: 0.082500
- GradientBasedCorrHue: 240.000000
- GradientBasedCorrMaskFullX: 0.993298
- GradientBasedCorrMaskFullY: 0.481529
- GradientBasedCorrMaskValue: 1.000000
- GradientBasedCorrMaskWhat: Mask/Gradient
- GradientBasedCorrMaskZeroX: 0.896745
- GradientBasedCorrMaskZeroY: 0.483235
- GradientBasedCorrSaturation: 0.000000
- GradientBasedCorrSharpness: 0.000000
- GradientBasedCorrWhat: Correction
- GrainAmount: 0
- GreenHue: 0
- GreenSaturation: 0
- HasCrop: True
- HasSettings: True
- HighlightRecovery: 0
- HueAdjustmentAqua: 0
- HueAdjustmentBlue: 0
- HueAdjustmentGreen: 0
- HueAdjustmentMagenta: 0
- HueAdjustmentOrange: 0
- HueAdjustmentPurple: 0
- HueAdjustmentRed: 0
- HueAdjustmentYellow: 0
- LensManualDistortionAmount: 0
- LensProfileChromaticAberrationScale: 100
- LensProfileDistortionScale: 100
- LensProfileEnable: 1
- LensProfileFilename: Canon PowerShot S95 - RAW.lcp
- LensProfileSetup: LensDefaults
- LensProfileVignettingScale: 100
- LuminanceAdjustmentAqua: 0
- LuminanceAdjustmentBlue: 0
- LuminanceAdjustmentGreen: 0
- LuminanceAdjustmentMagenta: 0
- LuminanceAdjustmentOrange: 0
- LuminanceAdjustmentPurple: 0
- LuminanceAdjustmentRed: 0
- LuminanceAdjustmentYellow: 0
- LuminanceNoiseReductionContrast: 0
- LuminanceNoiseReductionDetail: 50
- LuminanceSmoothing: 20
- ParametricDarks: +5
- ParametricHighlightSplit: 75
- ParametricHighlights: 0
- ParametricLights: 0
- ParametricMidtoneSplit: 50
- ParametricShadowSplit: 25
- ParametricShadows: 0
- PerspectiveHorizontal: 0
- PerspectiveRotate: 0.0
- PerspectiveScale: 100
- PerspectiveVertical: 0
- PostCropVignetteAmount: 0
- ProcessVersion: 5.7
- RedHue: 0
- RedSaturation: 0
- Saturation: +5
- SaturationAdjustmentAqua: 0
- SaturationAdjustmentBlue: 0
- SaturationAdjustmentGreen: 0
- SaturationAdjustmentMagenta: 0
- SaturationAdjustmentOrange: 0
- SaturationAdjustmentPurple: 0
- SaturationAdjustmentRed: 0
- SaturationAdjustmentYellow: 0
- ShadowTint: 0
- Shadows: 16
- SharpenDetail: 55
- SharpenEdgeMasking: 0
- SharpenRadius: +1.3
- Sharpness: 55
- SplitToningBalance: 0
- SplitToningHighlightHue: 0
- SplitToningHighlightSaturation: 0
- SplitToningShadowHue: 0
- SplitToningShadowSaturation: 0
- Temperature: 5500
- Tint: +10
- ToneCurve: 0, 0, 32, 22, 64, 56, 128, 128, 192, 196, 255, 255
- ToneCurveName: Medium Contrast
- Version: 6.4.1
- Vibrance: 0
- VignetteAmount: 0
- WhiteBalance: Daylight
- XMP-xmp
- ModifyDate: 2011:12:19 18:20:28+02:00
- Просмотров: 394
- Рейтинг: голосов еще нет
- Отзывов: 0