- Раздел: Другое, разное
- Дата съёмки: 17.12.2011 14:10
- Дата загрузки фото: 19.12.2011 21:26
- Оригинальная фотография: 2581 x 1936 (3,9 Мб)
- Технические характеристики:
- Фотоаппарат: Canon PowerShot S95
- Выдержка: 1/160
- Гиперфокальное расстояние: inf m
- Диафрагма: 4,0
- Светочувствительность: 80
- Фокусное расстояние: 6,0 mm (35 mm equivalent: 36,0 mm)
- Полный EXIF
- Adobe
- ColorTransform: YCbCr
- Composite
- Aperture: 4,0
- CircleOfConfusion: 0,005 mm
- DOF: inf (0,00 m - inf)
- FOV: 53,0 deg
- FocalLength35efl: 6,0 mm (35 mm equivalent: 36,0 mm)
- HyperfocalDistance: inf m
- ScaleFactor35efl: 6,6
- ShutterSpeed: 1/160
- ExifIFD
- ApertureValue: 4,0
- CreateDate: 2011:12:17 14:10:59
- CustomRendered: Normal
- DateTimeOriginal: 2011:12:17 14:10:59
- DigitalZoomRatio: 1
- ExposureCompensation: 0
- ExposureMode: Auto
- ExposureTime: 1/160
- FNumber: 4,0
- Flash: Off, Did not fire
- FocalLength: 6,0 mm
- ISO: 80
- LensInfo: 6-22.5mm f/?
- LensModel: 6.0-22.5 mm
- MaxApertureValue: 2,0
- MeteringMode: Center-weighted average
- SceneCaptureType: Standard
- SensingMethod: One-chip color area
- SensitivityType: Standard Output Sensitivity and Recommended Exposure Index
- ShutterSpeedValue: 1/160
- SubjectDistance: 64,4 m
- WhiteBalance: Auto
- ICC-header
- ICC-meas
- ICC-view
- IFD0
- Make: Canon
- Model: Canon PowerShot S95
- ModifyDate: 2011:12:19 18:20:57
- IFD1
- IPTC
- DateCreated: 2011:12:17
- System
- XMP-aux
- ApproximateFocusDistance: 64,4
- Firmware: 1.00
- FlashCompensation: 0
- Lens: 6.0-22.5 mm
- XMP-crs
- AlreadyApplied: True
- BlueHue: 0
- BlueSaturation: 0
- Brightness: +45
- ChromaticAberrationB: 0
- ChromaticAberrationR: 0
- Clarity: +25
- ColorNoiseReduction: 20
- ColorNoiseReductionDetail: 50
- Contrast: +70
- ConvertToGrayscale: False
- CropAngle: -0.2
- CropBottom: 0.936453
- CropConstrainToWarp: 0
- CropHeight: 1936
- CropLeft: 0
- CropRight: 0.938905
- CropTop: 0.004358
- CropUnit: pixels
- CropWidth: 2581
- Defringe: 0
- Exposure: 0.00
- FillLight: 5
- GradientBasedCorrActive: true
- GradientBasedCorrAmount: 1.000000
- GradientBasedCorrBrightness: 0.000000
- GradientBasedCorrClarity: 0.000000
- GradientBasedCorrContrast: 0.000000
- GradientBasedCorrExposure: 0.082500
- GradientBasedCorrHue: 240.000000
- GradientBasedCorrMaskFullX: 0.128977
- GradientBasedCorrMaskFullY: 0.985401
- GradientBasedCorrMaskValue: 1.000000
- GradientBasedCorrMaskWhat: Mask/Gradient
- GradientBasedCorrMaskZeroX: 0.137952
- GradientBasedCorrMaskZeroY: 0.765812
- GradientBasedCorrSaturation: 0.000000
- GradientBasedCorrSharpness: 0.000000
- GradientBasedCorrWhat: Correction
- GrainAmount: 0
- GreenHue: 0
- GreenSaturation: 0
- HasCrop: True
- HasSettings: True
- HighlightRecovery: 15
- HueAdjustmentAqua: 0
- HueAdjustmentBlue: 0
- HueAdjustmentGreen: 0
- HueAdjustmentMagenta: 0
- HueAdjustmentOrange: 0
- HueAdjustmentPurple: 0
- HueAdjustmentRed: 0
- HueAdjustmentYellow: 0
- LensManualDistortionAmount: 0
- LensProfileChromaticAberrationScale: 100
- LensProfileDistortionScale: 100
- LensProfileEnable: 0
- LensProfileFilename: Canon PowerShot S95 - RAW.lcp
- LensProfileSetup: LensDefaults
- LensProfileVignettingScale: 100
- LuminanceAdjustmentAqua: 0
- LuminanceAdjustmentBlue: 0
- LuminanceAdjustmentGreen: 0
- LuminanceAdjustmentMagenta: 0
- LuminanceAdjustmentOrange: 0
- LuminanceAdjustmentPurple: 0
- LuminanceAdjustmentRed: 0
- LuminanceAdjustmentYellow: 0
- LuminanceNoiseReductionContrast: 0
- LuminanceNoiseReductionDetail: 50
- LuminanceSmoothing: 20
- ParametricDarks: -5
- ParametricHighlightSplit: 75
- ParametricHighlights: +50
- ParametricLights: +15
- ParametricMidtoneSplit: 50
- ParametricShadowSplit: 25
- ParametricShadows: +15
- PerspectiveHorizontal: 0
- PerspectiveRotate: 0.0
- PerspectiveScale: 100
- PerspectiveVertical: 0
- PostCropVignetteAmount: 0
- ProcessVersion: 5.7
- RedHue: 0
- RedSaturation: 0
- Saturation: +30
- SaturationAdjustmentAqua: 0
- SaturationAdjustmentBlue: -25
- SaturationAdjustmentGreen: 0
- SaturationAdjustmentMagenta: 0
- SaturationAdjustmentOrange: -15
- SaturationAdjustmentPurple: 0
- SaturationAdjustmentRed: 0
- SaturationAdjustmentYellow: -15
- ShadowTint: 0
- Shadows: 20
- SharpenDetail: 40
- SharpenEdgeMasking: 0
- SharpenRadius: +1.3
- Sharpness: 75
- SplitToningBalance: 0
- SplitToningHighlightHue: 0
- SplitToningHighlightSaturation: 0
- SplitToningShadowHue: 0
- SplitToningShadowSaturation: 0
- Temperature: 5500
- Tint: +10
- ToneCurve: 0, 0, 32, 22, 64, 56, 128, 128, 192, 196, 255, 255
- ToneCurveName: Medium Contrast
- Version: 6.4.1
- Vibrance: 0
- VignetteAmount: 0
- WhiteBalance: Daylight
- XMP-xmp
- ModifyDate: 2011:12:19 18:20:57+02:00
- Просмотров: 432
- Рейтинг: голосов еще нет
- Отзывов: 0